From mboxrd@z Thu Jan 1 00:00:00 1970 Return-Path: Received: from mails.dpdk.org (mails.dpdk.org [217.70.189.124]) by inbox.dpdk.org (Postfix) with ESMTP id 8C15643C3B for ; Thu, 29 Feb 2024 14:46:21 +0100 (CET) Received: from mails.dpdk.org (localhost [127.0.0.1]) by mails.dpdk.org (Postfix) with ESMTP id 88B55402CD; Thu, 29 Feb 2024 14:46:21 +0100 (CET) Received: from mail-io1-f98.google.com (mail-io1-f98.google.com [209.85.166.98]) by mails.dpdk.org (Postfix) with ESMTP id 2AB514025C for ; Thu, 29 Feb 2024 14:46:00 +0100 (CET) Received: by mail-io1-f98.google.com with SMTP id ca18e2360f4ac-7c488a5af5eso24939939f.1 for ; Thu, 29 Feb 2024 05:46:00 -0800 (PST) DKIM-Signature: v=1; a=rsa-sha256; c=relaxed/relaxed; d=iol.unh.edu; s=unh-iol; t=1709214359; x=1709819159; darn=dpdk.org; h=references:in-reply-to:cc:to:from:subject:message-id:date:from:to :cc:subject:date:message-id:reply-to; bh=KCF0wicB0WuufeIND2mB8H8yCdh7RNiDygU7oS8tUwc=; b=APKA1Zi8v/Hiwpx1JfBCJAtpmgjpMepz7cT131a+XWMJlIrYf271sP83O6IED8r+ws SqsZRCuEE6n40ViZ63HvPCaSZ9QIz7+gHwHy3BmOehlRGEPXHGzXKIE/im8ZcuprHFfh NM08kUTRPnLxzldCT2gVR4n84ny/FSFlXqsZo= X-Google-DKIM-Signature: v=1; a=rsa-sha256; c=relaxed/relaxed; d=1e100.net; s=20230601; t=1709214359; x=1709819159; h=references:in-reply-to:cc:to:from:subject:message-id:date :x-gm-message-state:from:to:cc:subject:date:message-id:reply-to; bh=KCF0wicB0WuufeIND2mB8H8yCdh7RNiDygU7oS8tUwc=; b=e36zHJcaoGejo4W5cZa7YnNKXliqkcrdo2w+CFnljqXZMPrOgltJejdDw9XpgBbYCY Du+oSe82NQ7EduEV4kr+G6/ZegA9xOxMCqArzr++GibmyiXEEPzWBeqOCaDLAUgDM0mp HGzVkTrUYX8Otpl3FwSUcViAKPLZJkJ/0TUGnvEeZPtHnI3AkSN9XW3Ht+Dh34nZCERe NZZmiTo1KQKHfXdANrn2VviTVm0K1W5WkPBuLQyM2uZ11KPjNdcaElfO9+KmK1Q4btwU PYH0tvRgI9q02HFOPsCPxFk5HGT6NnfR1ufGLoDSEMlOL/FMl4/yGLQt0YsfhdvmJA97 4Q4g== X-Gm-Message-State: AOJu0YzHnK/Nz7LG06+Yb2olrXmgLWJUTjJ3GAOQuyjGAi2tWk2ORviU c8jgzeJkcYtzpedtMz3spGZLFOffWrr4Rm68f8R4Tn/TBmEA/bkgD9ZutbYlK4ciNePl7XFHTle 2AGfESHIUn/NiEf2m4FRMwhI1abZI/CeUYImEHKoD X-Google-Smtp-Source: AGHT+IHlR9pns2VBUH5rPVAqRyfA4Y+DLQo5JCATxOiyLnBk93QNxKrdv6r791WTiTCMof8ldKrRao5wVD+e X-Received: by 2002:a05:6602:14c6:b0:7c7:9b0a:6da5 with SMTP id b6-20020a05660214c600b007c79b0a6da5mr1066753iow.5.1709214359501; Thu, 29 Feb 2024 05:45:59 -0800 (PST) Received: from postal.iol.unh.edu (postal.iol.unh.edu. [132.177.123.84]) by smtp-relay.gmail.com with ESMTPS id y8-20020a056602164800b007bf52dd9032sm38581iow.27.2024.02.29.05.45.59 (version=TLS1_2 cipher=ECDHE-ECDSA-AES128-GCM-SHA256 bits=128/128); Thu, 29 Feb 2024 05:45:59 -0800 (PST) X-Relaying-Domain: iol.unh.edu Date: Thu, 29 Feb 2024 05:45:59 -0800 (PST) Message-ID: <65e08a97.050a0220.17372.28d0SMTPIN_ADDED_MISSING@mx.google.com> Received: from [172.17.0.8] (unknown [172.18.0.217]) by postal.iol.unh.edu (Postfix) with ESMTP id 0C076605250F; Thu, 29 Feb 2024 08:45:59 -0500 (EST) Subject: |SUCCESS| pw137464 [PATCH] net/mlx5: fix action template expansion: From: dpdklab@iol.unh.edu To: Test Report Cc: dpdk-test-reports@iol.unh.edu In-Reply-To: <20240229101955.586947-1-getelson@nvidia.com> References: <20240229101955.586947-1-getelson@nvidia.com> Content-Type: text/plain X-BeenThere: test-report@dpdk.org X-Mailman-Version: 2.1.29 Precedence: list List-Id: automatic DPDK test reports List-Unsubscribe: , List-Archive: List-Post: List-Help: List-Subscribe: , Errors-To: test-report-bounces@dpdk.org Test-Label: iol-unit-arm64-testing Test-Status: SUCCESS http://dpdk.org/patch/137464 _Testing PASS_ Submitter: Gregory Etelson Date: Thursday, February 29 2024 10:19:55 DPDK git baseline: Repo:dpdk Branch: master CommitID:45d2195f9ea6ead7242af856c799c6f084d874bc 137464 --> testing pass Test environment and result as below: +--------------------------+----------------+---------------------------+------------------------------+--------------+ | Environment | dpdk_unit_test | cryptodev_sw_zuc_autotest | cryptodev_sw_snow3g_autotest | lpm_autotest | +==========================+================+===========================+==============================+==============+ | CentOS Stream 9 (ARM) | PASS | SKIPPED | SKIPPED | SKIPPED | +--------------------------+----------------+---------------------------+------------------------------+--------------+ | Debian 11 (Buster) (ARM) | PASS | SKIPPED | SKIPPED | SKIPPED | +--------------------------+----------------+---------------------------+------------------------------+--------------+ | Fedora 37 (ARM) | PASS | SKIPPED | SKIPPED | SKIPPED | +--------------------------+----------------+---------------------------+------------------------------+--------------+ | Debian 12 (arm) | PASS | PASS | PASS | SKIPPED | +--------------------------+----------------+---------------------------+------------------------------+--------------+ | Fedora 38 (ARM) | PASS | SKIPPED | SKIPPED | SKIPPED | +--------------------------+----------------+---------------------------+------------------------------+--------------+ | Ubuntu 20.04 (ARM) | PASS | SKIPPED | SKIPPED | SKIPPED | +--------------------------+----------------+---------------------------+------------------------------+--------------+ | Fedora 38 (ARM Clang) | PASS | SKIPPED | SKIPPED | SKIPPED | +--------------------------+----------------+---------------------------+------------------------------+--------------+ | Ubuntu 20.04 ARM SVE | SKIPPED | SKIPPED | SKIPPED | PASS | +--------------------------+----------------+---------------------------+------------------------------+--------------+ CentOS Stream 9 (ARM) Kernel: Container Host Kernel Compiler: gcc 11.3.1 Debian 11 (Buster) (ARM) Kernel: Container Host Kernel Compiler: gcc 10.2.1 Fedora 37 (ARM) Kernel: Depends on container host Compiler: gcc 12.3.1 Debian 12 (arm) Kernel: Container Host Kernel Compiler: gcc 11 Fedora 38 (ARM) Kernel: Depends on container host Compiler: gcc 13.1.1 Ubuntu 20.04 (ARM) Kernel: Container Host Kernel Compiler: gcc 9.4.0 Fedora 38 (ARM Clang) Kernel: Depends on container host Compiler: clang 16.0.3 Ubuntu 20.04 ARM SVE Kernel: 5.4.0-80-generic Compiler: gcc 10.3.0 (Ubuntu 10.3.0-1ubuntu1~20.04) To view detailed results, visit: https://lab.dpdk.org/results/dashboard/patchsets/29328/ UNH-IOL DPDK Community Lab To manage your email subscriptions, visit: https://lab.dpdk.org/results/dashboard/preferences/subscriptions/