From mboxrd@z Thu Jan  1 00:00:00 1970
Return-Path: <test-report-bounces@dpdk.org>
Received: from mails.dpdk.org (mails.dpdk.org [217.70.189.124])
	by inbox.dpdk.org (Postfix) with ESMTP id DC65B43C3B
	for <public@inbox.dpdk.org>; Thu, 29 Feb 2024 14:47:03 +0100 (CET)
Received: from mails.dpdk.org (localhost [127.0.0.1])
	by mails.dpdk.org (Postfix) with ESMTP id D7456402CD;
	Thu, 29 Feb 2024 14:47:03 +0100 (CET)
Received: from mail-qv1-f99.google.com (mail-qv1-f99.google.com
 [209.85.219.99]) by mails.dpdk.org (Postfix) with ESMTP id A5CF84025C
 for <test-report@dpdk.org>; Thu, 29 Feb 2024 14:46:52 +0100 (CET)
Received: by mail-qv1-f99.google.com with SMTP id
 6a1803df08f44-6869233d472so3702496d6.2
 for <test-report@dpdk.org>; Thu, 29 Feb 2024 05:46:52 -0800 (PST)
DKIM-Signature: v=1; a=rsa-sha256; c=relaxed/relaxed;
 d=iol.unh.edu; s=unh-iol; t=1709214412; x=1709819212; darn=dpdk.org;
 h=references:in-reply-to:cc:to:from:subject:message-id:date:from:to
 :cc:subject:date:message-id:reply-to;
 bh=GrPlL8K5n1LJB/thFb3I3oozDe1/s/qWdPQPuzNeEzc=;
 b=DCCKJ8RWGylZztDd59G9v/kdlmbXYMH3QJZQloCMSvPsJjDMgHzBcedgjwRnUikmuK
 4YcxAW6hlPr0VwyMbzF2BsVIiqFG/UR5lJ9FNXBGxXoE3v52O7gvqCnLvLgCwGqphlgt
 jgIgPxr33LbTyZ+lxGnQVmOuF+LpCeYdXLkgg=
X-Google-DKIM-Signature: v=1; a=rsa-sha256; c=relaxed/relaxed;
 d=1e100.net; s=20230601; t=1709214412; x=1709819212;
 h=references:in-reply-to:cc:to:from:subject:message-id:date
 :x-gm-message-state:from:to:cc:subject:date:message-id:reply-to;
 bh=GrPlL8K5n1LJB/thFb3I3oozDe1/s/qWdPQPuzNeEzc=;
 b=I7svIyKci4N/hSZFeU3pIdqkb9TN7im+yvsPRfa+Ggwny4cdYNnwqjahB7m0wi7LG5
 BFLjIlEYbLvMRY4mhgc2dGGFBa5tAuWYHzAYVf8YddN0VJ7ptVYQPmhBJd2QDmpzI0vp
 zayk7BzC20WtWj8qpRMVjCoRtaKF7XZW7jjwHjAKOPjMXFmeRnaZCC1Yh5dUvZp6ulKv
 qy68VdUHvoLbCLvtNU46WPKhCpdTS+UsFA6v+pYbhDIb3A7TWOKC3WhMiB6uj41HEyPp
 oIeMEmvxcRO87vE4q3D87Y0Ku8vF98OrivJbbnmrrCzYJsWcAncn1XAbCKy13HWQNLiO
 LV4Q==
X-Gm-Message-State: AOJu0YxuCQCJkWqQFYsUVrb91IJEFte7nVDoCiPEAOnxI9kd2nJWzKGX
 1x8an1K2ytzzopU6IfuclLTg1UJcJuUrqtRDTJ2m+2mRtG+TM7zPVfS4SZrQMQ5R2yJEyG+QLlY
 EbFwUBwLynDTtRLUVNC7U2BswpL+ZBPlxZGENuu02
X-Google-Smtp-Source: AGHT+IExBVHFRgSN5lUO4rnmCtJQHXbxTDv/LJc43IuUfjqm+UTWVCuBK9ObZZtFnKytnUcpd1RVUhsyVY9K
X-Received: by 2002:a0c:f112:0:b0:68f:e43d:a253 with SMTP id
 i18-20020a0cf112000000b0068fe43da253mr2157035qvl.2.1709214412082; 
 Thu, 29 Feb 2024 05:46:52 -0800 (PST)
Received: from postal.iol.unh.edu (postal.iol.unh.edu. [132.177.123.84])
 by smtp-relay.gmail.com with ESMTPS id
 t14-20020a0562140c6e00b0068efbfcfecasm65286qvj.20.2024.02.29.05.46.52
 (version=TLS1_2 cipher=ECDHE-ECDSA-AES128-GCM-SHA256 bits=128/128);
 Thu, 29 Feb 2024 05:46:52 -0800 (PST)
X-Relaying-Domain: iol.unh.edu
Date: Thu, 29 Feb 2024 05:46:52 -0800 (PST)
Message-ID: <65e08acc.050a0220.2336e.4a88SMTPIN_ADDED_MISSING@mx.google.com>
Received: from [172.17.0.8] (unknown [172.18.0.217])
 by postal.iol.unh.edu (Postfix) with ESMTP id CDF81605250F;
 Thu, 29 Feb 2024 08:46:51 -0500 (EST)
Subject: |SUCCESS| pw137464 [PATCH] net/mlx5: fix action template expansion: 
From: dpdklab@iol.unh.edu
To: Test Report <test-report@dpdk.org>
Cc: dpdk-test-reports@iol.unh.edu
In-Reply-To: <20240229101955.586947-1-getelson@nvidia.com>
References: <20240229101955.586947-1-getelson@nvidia.com>
Content-Type: text/plain
X-BeenThere: test-report@dpdk.org
X-Mailman-Version: 2.1.29
Precedence: list
List-Id: automatic DPDK test reports <test-report.dpdk.org>
List-Unsubscribe: <https://mails.dpdk.org/options/test-report>,
 <mailto:test-report-request@dpdk.org?subject=unsubscribe>
List-Archive: <http://mails.dpdk.org/archives/test-report/>
List-Post: <mailto:test-report@dpdk.org>
List-Help: <mailto:test-report-request@dpdk.org?subject=help>
List-Subscribe: <https://mails.dpdk.org/listinfo/test-report>,
 <mailto:test-report-request@dpdk.org?subject=subscribe>
Errors-To: test-report-bounces@dpdk.org

Test-Label: iol-unit-amd64-testing
Test-Status: SUCCESS
http://dpdk.org/patch/137464

_Testing PASS_

Submitter: Gregory Etelson <getelson@nvidia.com>
Date: Thursday, February 29 2024 10:19:55 
DPDK git baseline: Repo:dpdk
  Branch: master
  CommitID:45d2195f9ea6ead7242af856c799c6f084d874bc

137464 --> testing pass

Test environment and result as below:

+---------------------+----------------+
|     Environment     | dpdk_unit_test |
+=====================+================+
| CentOS Stream 8     | PASS           |
+---------------------+----------------+
| Debian Bullseye     | PASS           |
+---------------------+----------------+
| Fedora 37           | PASS           |
+---------------------+----------------+
| CentOS Stream 9     | PASS           |
+---------------------+----------------+
| Debian 12 (arm)     | PASS           |
+---------------------+----------------+
| RHEL8               | PASS           |
+---------------------+----------------+
| Fedora 38           | PASS           |
+---------------------+----------------+
| openSUSE Leap 15    | PASS           |
+---------------------+----------------+
| Ubuntu 22.04        | PASS           |
+---------------------+----------------+
| Ubuntu 20.04        | PASS           |
+---------------------+----------------+
| Windows Server 2019 | PASS           |
+---------------------+----------------+


CentOS Stream 8
	Kernel: 4.18.0-240.10.1.el8_3.x86_64
	Compiler: gcc 8.4.1 20200928

Debian Bullseye
	Kernel: 5.4.0-122-generic
	Compiler: gcc 10.2.1-6

Fedora 37
	Kernel: Depends on container host system
	Compiler: gcc 12.3.1

CentOS Stream 9
	Kernel: 4.18.0-240.10.1.el8_3.x86_64
	Compiler: gcc 11.3.1 20220421

Debian 12 (arm)
	Kernel: Container Host Kernel
	Compiler: gcc 11

RHEL8
	Kernel: 4.18.0-240.10.1.el8_3.x86_64
	Compiler: gcc 8.3.1 20191121 (Red Hat 8.3.1-5)

Fedora 38
	Kernel: Depends on container host
	Compiler: gcc 13.1.1

openSUSE Leap 15
	Kernel: 4.18.0-240.10.1.el8_3.x86_64
	Compiler: gcc 7.5.0

Ubuntu 22.04
	Kernel: 4.18.0-240.10.1.el8_3.x86_64
	Compiler: gcc 11.3.0

Ubuntu 20.04
	Kernel: 5.4.0-153-generic
	Compiler: gcc 9.4.0-1ubuntu1~20.04.1

Windows Server 2019
	Kernel: 10.0
	Compiler: clang 14.0 and gcc 8.1.0 (MinGW)

To view detailed results, visit:
https://lab.dpdk.org/results/dashboard/patchsets/29328/

UNH-IOL DPDK Community Lab

To manage your email subscriptions, visit: 
https://lab.dpdk.org/results/dashboard/preferences/subscriptions/