From mboxrd@z Thu Jan  1 00:00:00 1970
Return-Path: <test-report-bounces@dpdk.org>
Received: from mails.dpdk.org (mails.dpdk.org [217.70.189.124])
	by inbox.dpdk.org (Postfix) with ESMTP id 5B04143C3B
	for <public@inbox.dpdk.org>; Thu, 29 Feb 2024 15:02:18 +0100 (CET)
Received: from mails.dpdk.org (localhost [127.0.0.1])
	by mails.dpdk.org (Postfix) with ESMTP id 0B17D411F3;
	Thu, 29 Feb 2024 15:02:18 +0100 (CET)
Received: from mail-io1-f100.google.com (mail-io1-f100.google.com
 [209.85.166.100])
 by mails.dpdk.org (Postfix) with ESMTP id A86814025C
 for <test-report@dpdk.org>; Thu, 29 Feb 2024 15:00:09 +0100 (CET)
Received: by mail-io1-f100.google.com with SMTP id
 ca18e2360f4ac-7c7c984699fso36199639f.1
 for <test-report@dpdk.org>; Thu, 29 Feb 2024 06:00:09 -0800 (PST)
DKIM-Signature: v=1; a=rsa-sha256; c=relaxed/relaxed;
 d=iol.unh.edu; s=unh-iol; t=1709215209; x=1709820009; darn=dpdk.org;
 h=references:in-reply-to:cc:to:from:subject:message-id:date:from:to
 :cc:subject:date:message-id:reply-to;
 bh=KCF0wicB0WuufeIND2mB8H8yCdh7RNiDygU7oS8tUwc=;
 b=QB3wQej24AtTRcuS3O0Y/Quu91FjVQpRB1WRAoJexbQTtSxofNrEspGVcPQ6mPx6Xb
 UixLyT4ky67MyxxCdSJBKi79vsipT9ROEoSqYGNjYvbEa6rR1RQGYYgc7wuFqyYrpgve
 QH5LcsEDkz8LLPIW1ioHOKb5TxZGlPreOt/ZI=
X-Google-DKIM-Signature: v=1; a=rsa-sha256; c=relaxed/relaxed;
 d=1e100.net; s=20230601; t=1709215209; x=1709820009;
 h=references:in-reply-to:cc:to:from:subject:message-id:date
 :x-gm-message-state:from:to:cc:subject:date:message-id:reply-to;
 bh=KCF0wicB0WuufeIND2mB8H8yCdh7RNiDygU7oS8tUwc=;
 b=E1nuFdjJ83xdTlRLAdzLJcvlnZhGR20lYCumyAwEiMZFx1EngpQMhqLzsyLa3uzKZe
 tFIh76NCvpwNiqCxr6CVtbr4NVnqXj4aZKl/NYVlWE5FV/21Sh2bcMfOaEC9j2cxBoPT
 8fsciqMTzucXZhtzyuuYTg86Iig3tPSyU7yKfgzqL9cdIKecyJBFUzbjTtKHER7cdHiT
 lFUuG9ymhH5jIfKOz7aLaIm3OnY5sDAm2q7VaHOGCtlf7/vDlpKL6TsxaJLJa6SGSgSm
 iSIHuZ4fu6si9gVMBid1xT8qy5eKsKLgY0ou7q2c+yWvNXte4P4DhFLITLrtSRHJFxm1
 Etzw==
X-Gm-Message-State: AOJu0YwGoYKDBDrRkn4yWmowFBt07IDiGqGgC2F0HSYtdWW6Z1vlG2eR
 yIuWWzr4woJE2N6RRQa8qqoKO60YoMy21DKeSfmNdjzAkTo8mAvmGXkpViiYypWy8QtG/Dapd71
 bqmp2QCPZQHF2GL6HewDUMpJqVlHzl0krniuZdAMnvBATmlPtgSJS6QmT
X-Google-Smtp-Source: AGHT+IHzy3l664X9iSntF4jhQObS61JkD80sC3tDxHbzmgBFB37KRl9P5Hdhx+Vgbyy0XeQ7bzATroXAPd6v
X-Received: by 2002:a6b:d802:0:b0:7c7:9957:25b2 with SMTP id
 y2-20020a6bd802000000b007c7995725b2mr2690745iob.18.1709215209021; 
 Thu, 29 Feb 2024 06:00:09 -0800 (PST)
Received: from postal.iol.unh.edu (postal.iol.unh.edu.
 [2606:4100:3880:1234::84]) by smtp-relay.gmail.com with ESMTPS id
 gg23-20020a056638691700b004745af4ae34sm45525jab.18.2024.02.29.06.00.08
 (version=TLS1_2 cipher=ECDHE-ECDSA-AES128-GCM-SHA256 bits=128/128);
 Thu, 29 Feb 2024 06:00:09 -0800 (PST)
X-Relaying-Domain: iol.unh.edu
Date: Thu, 29 Feb 2024 06:00:09 -0800 (PST)
Message-ID: <65e08de9.050a0220.7b230.3592SMTPIN_ADDED_MISSING@mx.google.com>
Received: from [172.21.0.6] (unknown [172.18.0.240])
 by postal.iol.unh.edu (Postfix) with ESMTP id 8C8C9605250F;
 Thu, 29 Feb 2024 09:00:08 -0500 (EST)
Subject: |SUCCESS| pw137464 [PATCH] net/mlx5: fix action template expansion: 
From: dpdklab@iol.unh.edu
To: Test Report <test-report@dpdk.org>
Cc: dpdk-test-reports@iol.unh.edu
In-Reply-To: <20240229101955.586947-1-getelson@nvidia.com>
References: <20240229101955.586947-1-getelson@nvidia.com>
Content-Type: text/plain
X-BeenThere: test-report@dpdk.org
X-Mailman-Version: 2.1.29
Precedence: list
List-Id: automatic DPDK test reports <test-report.dpdk.org>
List-Unsubscribe: <https://mails.dpdk.org/options/test-report>,
 <mailto:test-report-request@dpdk.org?subject=unsubscribe>
List-Archive: <http://mails.dpdk.org/archives/test-report/>
List-Post: <mailto:test-report@dpdk.org>
List-Help: <mailto:test-report-request@dpdk.org?subject=help>
List-Subscribe: <https://mails.dpdk.org/listinfo/test-report>,
 <mailto:test-report-request@dpdk.org?subject=subscribe>
Errors-To: test-report-bounces@dpdk.org

Test-Label: iol-unit-arm64-testing
Test-Status: SUCCESS
http://dpdk.org/patch/137464

_Testing PASS_

Submitter: Gregory Etelson <getelson@nvidia.com>
Date: Thursday, February 29 2024 10:19:55 
DPDK git baseline: Repo:dpdk
  Branch: master
  CommitID:45d2195f9ea6ead7242af856c799c6f084d874bc

137464 --> testing pass

Test environment and result as below:

+--------------------------+----------------+---------------------------+------------------------------+--------------+
|       Environment        | dpdk_unit_test | cryptodev_sw_zuc_autotest | cryptodev_sw_snow3g_autotest | lpm_autotest |
+==========================+================+===========================+==============================+==============+
| CentOS Stream 9 (ARM)    | PASS           | SKIPPED                   | SKIPPED                      | SKIPPED      |
+--------------------------+----------------+---------------------------+------------------------------+--------------+
| Debian 11 (Buster) (ARM) | PASS           | SKIPPED                   | SKIPPED                      | SKIPPED      |
+--------------------------+----------------+---------------------------+------------------------------+--------------+
| Fedora 37 (ARM)          | PASS           | SKIPPED                   | SKIPPED                      | SKIPPED      |
+--------------------------+----------------+---------------------------+------------------------------+--------------+
| Debian 12 (arm)          | PASS           | PASS                      | PASS                         | SKIPPED      |
+--------------------------+----------------+---------------------------+------------------------------+--------------+
| Fedora 38 (ARM)          | PASS           | SKIPPED                   | SKIPPED                      | SKIPPED      |
+--------------------------+----------------+---------------------------+------------------------------+--------------+
| Ubuntu 20.04 (ARM)       | PASS           | SKIPPED                   | SKIPPED                      | SKIPPED      |
+--------------------------+----------------+---------------------------+------------------------------+--------------+
| Fedora 38 (ARM Clang)    | PASS           | SKIPPED                   | SKIPPED                      | SKIPPED      |
+--------------------------+----------------+---------------------------+------------------------------+--------------+
| Ubuntu 20.04 ARM SVE     | SKIPPED        | SKIPPED                   | SKIPPED                      | PASS         |
+--------------------------+----------------+---------------------------+------------------------------+--------------+


CentOS Stream 9 (ARM)
	Kernel: Container Host Kernel
	Compiler: gcc 11.3.1

Debian 11 (Buster) (ARM)
	Kernel: Container Host Kernel
	Compiler: gcc 10.2.1

Fedora 37 (ARM)
	Kernel: Depends on container host
	Compiler: gcc 12.3.1

Debian 12 (arm)
	Kernel: Container Host Kernel
	Compiler: gcc 11

Fedora 38 (ARM)
	Kernel: Depends on container host
	Compiler: gcc 13.1.1

Ubuntu 20.04 (ARM)
	Kernel: Container Host Kernel
	Compiler: gcc 9.4.0

Fedora 38 (ARM Clang)
	Kernel: Depends on container host
	Compiler: clang 16.0.3

Ubuntu 20.04 ARM SVE
	Kernel: 5.4.0-80-generic
	Compiler: gcc 10.3.0 (Ubuntu 10.3.0-1ubuntu1~20.04)

To view detailed results, visit:
https://lab.dpdk.org/results/dashboard/patchsets/29328/

UNH-IOL DPDK Community Lab

To manage your email subscriptions, visit: 
https://lab.dpdk.org/results/dashboard/preferences/subscriptions/