From mboxrd@z Thu Jan  1 00:00:00 1970
Return-Path: <test-report-bounces@dpdk.org>
Received: from mails.dpdk.org (mails.dpdk.org [217.70.189.124])
	by inbox.dpdk.org (Postfix) with ESMTP id C64D243C3B
	for <public@inbox.dpdk.org>; Thu, 29 Feb 2024 15:08:28 +0100 (CET)
Received: from mails.dpdk.org (localhost [127.0.0.1])
	by mails.dpdk.org (Postfix) with ESMTP id C129D402B4;
	Thu, 29 Feb 2024 15:08:28 +0100 (CET)
Received: from mail-io1-f98.google.com (mail-io1-f98.google.com
 [209.85.166.98]) by mails.dpdk.org (Postfix) with ESMTP id D2D114025C
 for <test-report@dpdk.org>; Thu, 29 Feb 2024 15:08:10 +0100 (CET)
Received: by mail-io1-f98.google.com with SMTP id
 ca18e2360f4ac-7c7b8fb8ba6so54260839f.2
 for <test-report@dpdk.org>; Thu, 29 Feb 2024 06:08:10 -0800 (PST)
DKIM-Signature: v=1; a=rsa-sha256; c=relaxed/relaxed;
 d=iol.unh.edu; s=unh-iol; t=1709215690; x=1709820490; darn=dpdk.org;
 h=references:in-reply-to:cc:to:from:subject:message-id:date:from:to
 :cc:subject:date:message-id:reply-to;
 bh=QB57bIUf2LOX41yQELx/pAWaOAe9DF4rUAfqWo0LcvM=;
 b=LwwR+rvqNVlE+vSZ0SBWaKLym0LYJ8e223Tcey6lkguJRRJdnhBH80jkNuXvbxcQWk
 BLoy5nhjSfHaJd/GqK3VUkRgjvgcuAbDSZauWntO9D4+TqdPV+uI2kjDYCE/AKp9Zbqp
 DRUJZmDjQkaII05MPiGBVVD+ChL0+P4yVCYUc=
X-Google-DKIM-Signature: v=1; a=rsa-sha256; c=relaxed/relaxed;
 d=1e100.net; s=20230601; t=1709215690; x=1709820490;
 h=references:in-reply-to:cc:to:from:subject:message-id:date
 :x-gm-message-state:from:to:cc:subject:date:message-id:reply-to;
 bh=QB57bIUf2LOX41yQELx/pAWaOAe9DF4rUAfqWo0LcvM=;
 b=w1Os8+WioD2DR2RWrVUY0PRAdsKgjTxQ8C7fWwFjxr4cNS4KQQm2U35ogkxjw+YxT+
 LDsFTufyAfrsRQnjAf3c4GnDqulvk+bGyKWcfnClFCp9odvuROjTzWJ16OK6ghysSKOr
 C2fvaeZdBj899LI8lrvjgJ6GA/oRjUxyByDzArvMWnv24umX4iBjNpThSVrK2zf+UoXV
 4XGHaRwTRXgq/Il0KW4J5B0ly7tfekR3A4uP0xqclN4AT0byDut1b7EqHC7ugag4Fncq
 5O08EXf08cibTf31mKHV0VaafquydYCnRcUtUZU/oEBnNXFBaCs7fxb4WGeD9IK7WchU
 4JrA==
X-Gm-Message-State: AOJu0YyhLBLYgaoO4HNGAhlhxG5E98BhetYnn1ENXOo+R13wAMShlIIk
 FFev6HYaB8WSbKd+eJRwKz9fOvpZklmKv/TeEadC9RW/CbOnuUJU32Z52yjpqHfw2vrOcTZL7GW
 3T3IRlYBUzT6FooGSLrXqNHk4Wp4bq/d7GaE3g9jujJsSEnGyLvRUnP08
X-Google-Smtp-Source: AGHT+IF8bxKzrLh0b8Gi6uBmMC9JvYiZlNsT67sb1f8uryT1Qr6r+2g58kFingfCXO0JwyZnvE78tjyrk6Qj
X-Received: by 2002:a05:6602:2198:b0:7c7:e88d:66aa with SMTP id
 b24-20020a056602219800b007c7e88d66aamr2512492iob.5.1709215690161; 
 Thu, 29 Feb 2024 06:08:10 -0800 (PST)
Received: from postal.iol.unh.edu (postal.iol.unh.edu.
 [2606:4100:3880:1234::84]) by smtp-relay.gmail.com with ESMTPS id
 f20-20020a056638119400b00474b56cafcfsm40225jas.82.2024.02.29.06.08.10
 (version=TLS1_2 cipher=ECDHE-ECDSA-AES128-GCM-SHA256 bits=128/128);
 Thu, 29 Feb 2024 06:08:10 -0800 (PST)
X-Relaying-Domain: iol.unh.edu
Date: Thu, 29 Feb 2024 06:08:10 -0800 (PST)
Message-ID: <65e08fca.050a0220.72e17.2bc7SMTPIN_ADDED_MISSING@mx.google.com>
Received: from [172.21.0.6] (unknown [172.18.0.240])
 by postal.iol.unh.edu (Postfix) with ESMTP id C5B8D605250F;
 Thu, 29 Feb 2024 09:08:09 -0500 (EST)
Subject: |SUCCESS| pw137464 [PATCH] net/mlx5: fix action template expansion: 
From: dpdklab@iol.unh.edu
To: Test Report <test-report@dpdk.org>
Cc: dpdk-test-reports@iol.unh.edu
In-Reply-To: <20240229101955.586947-1-getelson@nvidia.com>
References: <20240229101955.586947-1-getelson@nvidia.com>
Content-Type: text/plain
X-BeenThere: test-report@dpdk.org
X-Mailman-Version: 2.1.29
Precedence: list
List-Id: automatic DPDK test reports <test-report.dpdk.org>
List-Unsubscribe: <https://mails.dpdk.org/options/test-report>,
 <mailto:test-report-request@dpdk.org?subject=unsubscribe>
List-Archive: <http://mails.dpdk.org/archives/test-report/>
List-Post: <mailto:test-report@dpdk.org>
List-Help: <mailto:test-report-request@dpdk.org?subject=help>
List-Subscribe: <https://mails.dpdk.org/listinfo/test-report>,
 <mailto:test-report-request@dpdk.org?subject=subscribe>
Errors-To: test-report-bounces@dpdk.org

Test-Label: iol-compile-arm64-testing
Test-Status: SUCCESS
http://dpdk.org/patch/137464

_Testing PASS_

Submitter: Gregory Etelson <getelson@nvidia.com>
Date: Thursday, February 29 2024 10:19:55 
DPDK git baseline: Repo:dpdk
  Branch: master
  CommitID:45d2195f9ea6ead7242af856c799c6f084d874bc

137464 --> testing pass

Test environment and result as below:

+----------------------------------------+--------------------+
|              Environment               | dpdk_meson_compile |
+========================================+====================+
| Ubuntu 20.04 ARM SVE                   | PASS               |
+----------------------------------------+--------------------+
| Ubuntu 20.04 aarch32 GCC Cross Compile | PASS               |
+----------------------------------------+--------------------+
| Ubuntu 20.04 (ARM)                     | PASS               |
+----------------------------------------+--------------------+
| Fedora 38 (ARM)                        | PASS               |
+----------------------------------------+--------------------+
| Fedora 37 (ARM)                        | PASS               |
+----------------------------------------+--------------------+
| Debian 11 (Buster) (ARM)               | PASS               |
+----------------------------------------+--------------------+
| Ubuntu 20.04 ARM Clang Cross Compile   | PASS               |
+----------------------------------------+--------------------+
| Debian 12 (arm)                        | PASS               |
+----------------------------------------+--------------------+
| CentOS Stream 9 (ARM)                  | PASS               |
+----------------------------------------+--------------------+
| Ubuntu 20.04 ARM GCC Cross Compile     | PASS               |
+----------------------------------------+--------------------+


Ubuntu 20.04 ARM SVE
	Kernel: 5.4.0-80-generic
	Compiler: gcc 10.3.0 (Ubuntu 10.3.0-1ubuntu1~20.04)

Ubuntu 20.04 aarch32 GCC Cross Compile
	Kernel: 5.4.0-72-generic
	Compiler: gcc 9.3.0

Ubuntu 20.04 (ARM)
	Kernel: Container Host Kernel
	Compiler: gcc 9.4.0

Fedora 38 (ARM)
	Kernel: Depends on container host
	Compiler: gcc 13.1.1

Fedora 37 (ARM)
	Kernel: Depends on container host
	Compiler: gcc 12.3.1

Debian 11 (Buster) (ARM)
	Kernel: Container Host Kernel
	Compiler: gcc 10.2.1

Ubuntu 20.04 ARM Clang Cross Compile
	Kernel: 5.4.0-72-generic
	Compiler: clang version 10.0.0-4ubuntu1

Debian 12 (arm)
	Kernel: Container Host Kernel
	Compiler: gcc 11

CentOS Stream 9 (ARM)
	Kernel: Container Host Kernel
	Compiler: gcc 11.3.1

Ubuntu 20.04 ARM GCC Cross Compile
	Kernel: 5.4.0-72-generic
	Compiler: aarch64-linux-gnu-gcc (Ubuntu 9.3.0-17ubuntu1~20.04) 9.3.0

To view detailed results, visit:
https://lab.dpdk.org/results/dashboard/patchsets/29328/

UNH-IOL DPDK Community Lab

To manage your email subscriptions, visit: 
https://lab.dpdk.org/results/dashboard/preferences/subscriptions/