From mboxrd@z Thu Jan  1 00:00:00 1970
Return-Path: <test-report-bounces@dpdk.org>
Received: from mails.dpdk.org (mails.dpdk.org [217.70.189.124])
	by inbox.dpdk.org (Postfix) with ESMTP id 26A6A43C3B
	for <public@inbox.dpdk.org>; Thu, 29 Feb 2024 16:02:36 +0100 (CET)
Received: from mails.dpdk.org (localhost [127.0.0.1])
	by mails.dpdk.org (Postfix) with ESMTP id 2295C42DBE;
	Thu, 29 Feb 2024 16:02:36 +0100 (CET)
Received: from mail-oa1-f97.google.com (mail-oa1-f97.google.com
 [209.85.160.97]) by mails.dpdk.org (Postfix) with ESMTP id BBAA54025C
 for <test-report@dpdk.org>; Thu, 29 Feb 2024 16:02:23 +0100 (CET)
Received: by mail-oa1-f97.google.com with SMTP id
 586e51a60fabf-21fa97a9c53so419909fac.3
 for <test-report@dpdk.org>; Thu, 29 Feb 2024 07:02:23 -0800 (PST)
DKIM-Signature: v=1; a=rsa-sha256; c=relaxed/relaxed;
 d=iol.unh.edu; s=unh-iol; t=1709218943; x=1709823743; darn=dpdk.org;
 h=references:in-reply-to:cc:to:from:subject:message-id:date:from:to
 :cc:subject:date:message-id:reply-to;
 bh=o46wAoE+3JBh03eKCi8RV7mZMWLekr8c5SjYvuK6A80=;
 b=G/7MnOIViwy239zoYbklBD7+2otvRMzbVvRGY+WWRKdqOM0gRVnpRmaHeOnyjYMXbs
 8L3+FPo+XbErs+oLlfUYhwbPW4TxQP1OEGqYRlpbqtqXviih6tJNraiy1DendGZTd59B
 A9QjUyhEyaDlpfO6Cs5Hq8xxVEiXhluIM3wiM=
X-Google-DKIM-Signature: v=1; a=rsa-sha256; c=relaxed/relaxed;
 d=1e100.net; s=20230601; t=1709218943; x=1709823743;
 h=references:in-reply-to:cc:to:from:subject:message-id:date
 :x-gm-message-state:from:to:cc:subject:date:message-id:reply-to;
 bh=o46wAoE+3JBh03eKCi8RV7mZMWLekr8c5SjYvuK6A80=;
 b=MWnUgdebn8FTrZjc6Zeg0XNYvVdfMDsCLPdMlyCmoF++LDYm8ZNOmSi+kQ95msiWMA
 Zvx5DKGdw1cHQ0RuO3PHboSEgdclimrQbblzX+zC6THIDBKGH2mEYqv6LFxDRm0NMSqN
 rpbPy4Qf2s2nx0ILwN2tGxIrJ9XhSNR85GLkmTe63okduBO3S5JOuKbIfOt8vbC+rYC9
 cCVoq6cHcf1twwpHITj2vTWyX5IGN1sx2WSp30lkzeyXyGFDR2oluLxrTks50ZGRiBSI
 VEe0b+rOSJM4N8o7xykO2AcQlOe/xhG7+d5K0buNmvRaGqdWRsqFGFrsX7BvhNgHJyKP
 BiMg==
X-Gm-Message-State: AOJu0YxeFBukP8tttHGmMLr4M9Q0g/OEjBUKlb5ZdN6TKHTsnxjJD2hP
 XARGJOa23AWnYf+5jTbLq4KdWVhs1ccM5pL/LxQ7746Ce+Mp8ppKtIA0YX8LWXAQ/VKCxPcj4Tq
 iAk1sXc3sVTGhsvEpFjAQvxv3FFrDJxQ7ak6OI+eW
X-Google-Smtp-Source: AGHT+IGxdF6zGu28Ruuy6FbnQq57vp508hDb4+S5m2m/sTuQIPtJQKq+s5TjSfHmt17D7e+hhJoX4eQUEs++
X-Received: by 2002:a05:6870:7e88:b0:21f:cb2e:de41 with SMTP id
 wy8-20020a0568707e8800b0021fcb2ede41mr2355398oab.0.1709218943105; 
 Thu, 29 Feb 2024 07:02:23 -0800 (PST)
Received: from postal.iol.unh.edu (postal.iol.unh.edu. [132.177.123.84])
 by smtp-relay.gmail.com with ESMTPS id
 u16-20020a056122061000b004c038d0a671sm73430vkp.9.2024.02.29.07.02.23
 (version=TLS1_2 cipher=ECDHE-ECDSA-AES128-GCM-SHA256 bits=128/128);
 Thu, 29 Feb 2024 07:02:23 -0800 (PST)
X-Relaying-Domain: iol.unh.edu
Date: Thu, 29 Feb 2024 07:02:23 -0800 (PST)
Message-ID: <65e09c7f.050a0220.6da47.454eSMTPIN_ADDED_MISSING@mx.google.com>
Received: from [172.17.0.7] (unknown [172.18.0.217])
 by postal.iol.unh.edu (Postfix) with ESMTP id B46A96052510;
 Thu, 29 Feb 2024 10:02:22 -0500 (EST)
Subject: |SUCCESS| pw137480-137486 [PATCH] [7/7] vhost: improve FD manager lo
From: dpdklab@iol.unh.edu
To: Test Report <test-report@dpdk.org>
Cc: dpdk-test-reports@iol.unh.edu
In-Reply-To: <20240229122502.2572343-8-maxime.coquelin@redhat.com>
References: <20240229122502.2572343-8-maxime.coquelin@redhat.com>
Content-Type: text/plain
X-BeenThere: test-report@dpdk.org
X-Mailman-Version: 2.1.29
Precedence: list
List-Id: automatic DPDK test reports <test-report.dpdk.org>
List-Unsubscribe: <https://mails.dpdk.org/options/test-report>,
 <mailto:test-report-request@dpdk.org?subject=unsubscribe>
List-Archive: <http://mails.dpdk.org/archives/test-report/>
List-Post: <mailto:test-report@dpdk.org>
List-Help: <mailto:test-report-request@dpdk.org?subject=help>
List-Subscribe: <https://mails.dpdk.org/listinfo/test-report>,
 <mailto:test-report-request@dpdk.org?subject=subscribe>
Errors-To: test-report-bounces@dpdk.org

Test-Label: iol-compile-amd64-testing
Test-Status: SUCCESS
http://dpdk.org/patch/137486

_Testing PASS_

Submitter: Maxime Coquelin <maxime.coquelin@redhat.com>
Date: Thursday, February 29 2024 12:25:02 
DPDK git baseline: Repo:dpdk
  Branch: master
  CommitID:92c0ad70caf3ed6f4b93de6ddaf7bc369737c049

137480-137486 --> testing pass

Test environment and result as below:

+---------------------+--------------------+----------------------+
|     Environment     | dpdk_meson_compile | dpdk_mingw64_compile |
+=====================+====================+======================+
| Ubuntu 22.04        | PASS               | SKIPPED              |
+---------------------+--------------------+----------------------+
| Windows Server 2019 | PASS               | PASS                 |
+---------------------+--------------------+----------------------+
| Fedora 38           | PASS               | SKIPPED              |
+---------------------+--------------------+----------------------+
| CentOS Stream 9     | PASS               | SKIPPED              |
+---------------------+--------------------+----------------------+
| Windows Server 2022 | PASS               | SKIPPED              |
+---------------------+--------------------+----------------------+
| FreeBSD 13.2        | PASS               | SKIPPED              |
+---------------------+--------------------+----------------------+
| Debian 12 (arm)     | PASS               | SKIPPED              |
+---------------------+--------------------+----------------------+
| Fedora 37           | PASS               | SKIPPED              |
+---------------------+--------------------+----------------------+
| RHEL8               | PASS               | SKIPPED              |
+---------------------+--------------------+----------------------+
| CentOS Stream 8     | PASS               | SKIPPED              |
+---------------------+--------------------+----------------------+
| Ubuntu 20.04        | PASS               | SKIPPED              |
+---------------------+--------------------+----------------------+
| Debian Bullseye     | PASS               | SKIPPED              |
+---------------------+--------------------+----------------------+
| openSUSE Leap 15    | PASS               | SKIPPED              |
+---------------------+--------------------+----------------------+
| Alpine              | PASS               | SKIPPED              |
+---------------------+--------------------+----------------------+


Ubuntu 22.04
	Kernel: 4.18.0-240.10.1.el8_3.x86_64
	Compiler: gcc 11.3.0

Windows Server 2019
	Kernel: 10.0
	Compiler: clang 14.0 and gcc 8.1.0 (MinGW)

Fedora 38
	Kernel: Depends on container host
	Compiler: gcc 13.1.1

CentOS Stream 9
	Kernel: 4.18.0-240.10.1.el8_3.x86_64
	Compiler: gcc 11.3.1 20220421

Windows Server 2022
	Kernel: OS Build 20348.2031
	Compiler: MSVC VS-Preview

FreeBSD 13.2
	Kernel: 13.2
	Compiler: clang 11.3.0

Debian 12 (arm)
	Kernel: Container Host Kernel
	Compiler: gcc 11

Fedora 37
	Kernel: Depends on container host system
	Compiler: gcc 12.3.1

RHEL8
	Kernel: 4.18.0-240.10.1.el8_3.x86_64
	Compiler: gcc 8.3.1 20191121 (Red Hat 8.3.1-5)

CentOS Stream 8
	Kernel: 4.18.0-240.10.1.el8_3.x86_64
	Compiler: gcc 8.4.1 20200928

Ubuntu 20.04
	Kernel: 5.4.0-153-generic
	Compiler: gcc 9.4.0-1ubuntu1~20.04.1

Debian Bullseye
	Kernel: 5.4.0-122-generic
	Compiler: gcc 10.2.1-6

openSUSE Leap 15
	Kernel: 4.18.0-240.10.1.el8_3.x86_64
	Compiler: gcc 7.5.0

Alpine
	Kernel: 5.4.0-73-generic
	Compiler: gcc (Alpine 10.3.1_git20210424) 10.3.1 20210424

To view detailed results, visit:
https://lab.dpdk.org/results/dashboard/patchsets/29333/

UNH-IOL DPDK Community Lab

To manage your email subscriptions, visit: 
https://lab.dpdk.org/results/dashboard/preferences/subscriptions/