From mboxrd@z Thu Jan  1 00:00:00 1970
Return-Path: <test-report-bounces@dpdk.org>
Received: from mails.dpdk.org (mails.dpdk.org [217.70.189.124])
	by inbox.dpdk.org (Postfix) with ESMTP id DCD5C43C0B
	for <public@inbox.dpdk.org>; Thu, 29 Feb 2024 16:47:53 +0100 (CET)
Received: from mails.dpdk.org (localhost [127.0.0.1])
	by mails.dpdk.org (Postfix) with ESMTP id D386D402B4;
	Thu, 29 Feb 2024 16:47:53 +0100 (CET)
Received: from mail-pl1-f225.google.com (mail-pl1-f225.google.com
 [209.85.214.225])
 by mails.dpdk.org (Postfix) with ESMTP id 8F9CE4025C
 for <test-report@dpdk.org>; Thu, 29 Feb 2024 16:47:34 +0100 (CET)
Received: by mail-pl1-f225.google.com with SMTP id
 d9443c01a7336-1dc49afb495so10546225ad.2
 for <test-report@dpdk.org>; Thu, 29 Feb 2024 07:47:34 -0800 (PST)
DKIM-Signature: v=1; a=rsa-sha256; c=relaxed/relaxed;
 d=iol.unh.edu; s=unh-iol; t=1709221654; x=1709826454; darn=dpdk.org;
 h=references:in-reply-to:cc:to:from:subject:message-id:date:from:to
 :cc:subject:date:message-id:reply-to;
 bh=HRyM01OlrMdvP2dDsCjNU/E4X1PIeMQUqszv5/oldhQ=;
 b=DZvtdpTM3efi5DGAo8bPoBayRTuveGIvrwy/AAScFHw+kAX2V9apNYyDv9DGcfloFg
 9t+M0j4Pf/lG94RjZusHssp3x8vJ2GAxGSP3d9DCr8Wwby4Oxnf4u4iMIe4vGaZvGHP1
 RTuELoEO1bqVPPhLHKNXvR9vJMUSmtzqOQTL4=
X-Google-DKIM-Signature: v=1; a=rsa-sha256; c=relaxed/relaxed;
 d=1e100.net; s=20230601; t=1709221654; x=1709826454;
 h=references:in-reply-to:cc:to:from:subject:message-id:date
 :x-gm-message-state:from:to:cc:subject:date:message-id:reply-to;
 bh=HRyM01OlrMdvP2dDsCjNU/E4X1PIeMQUqszv5/oldhQ=;
 b=pdMmF4gsmuLtDxavRcyXIoOT9HzG6PfQAvfuKM7Tryp2AcrBjsDuRe+O6/mHVS8hEH
 AV70U915XD3tT5AEFIXHDaUJ3SPUrafluU/dtuZuS1krqAgu6/nsKimfSExGmFG7uOTl
 eAPaOKTYb8mYyZrBA5l7Psd2qf0YEPSFPYzHoOy8AJWjlUKG7nVUvZ1X8bLYzIZCp0uR
 fd81GpB7SCEDNCBd/XZxH8fiyBs8qupOjxwky/q7aYGDt9tYmhCNANnPuhZIH4VkJKuq
 hOwqXgdU9mwAHyOwA7PWs4vowj00Rw4qESaapCGg+PpFuuE7YqK9oWzvwNyxhjNTkEb+
 T+xQ==
X-Gm-Message-State: AOJu0YznMMOhIEe2mEFCIC7AkgDo+soFE4nMX/Olzm0BNV1yuMDBL+nx
 hxZTgjzBMGjTbgyr0m7BVRb0/CrI++97u+N1biTv0kW5o76zo3k+T1/2m9ZYQh5IzoClL8FY7eS
 Am4f6YXmxQV6tHocHlSVSKVK3CSBUr1ZY8uKR6BMizOoYi4SmzgsJYmCs
X-Google-Smtp-Source: AGHT+IFYTHWGE9WXA40SWzMBHMkyA24s4+IxGp36FGbxQNy8Ooy2xhP9dCtvMpAC4O8kFN/Lwt/cJtSyHkCw
X-Received: by 2002:a17:903:25d1:b0:1db:e243:6d64 with SMTP id
 jc17-20020a17090325d100b001dbe2436d64mr2243395plb.69.1709221653864; 
 Thu, 29 Feb 2024 07:47:33 -0800 (PST)
Received: from postal.iol.unh.edu (postal.iol.unh.edu.
 [2606:4100:3880:1234::84]) by smtp-relay.gmail.com with ESMTPS id
 kj14-20020a17090306ce00b001d9400c685bsm38547plb.99.2024.02.29.07.47.33
 (version=TLS1_2 cipher=ECDHE-ECDSA-AES128-GCM-SHA256 bits=128/128);
 Thu, 29 Feb 2024 07:47:33 -0800 (PST)
X-Relaying-Domain: iol.unh.edu
Date: Thu, 29 Feb 2024 07:47:33 -0800 (PST)
Message-ID: <65e0a715.170a0220.aa70.2800SMTPIN_ADDED_MISSING@mx.google.com>
Received: from [172.21.0.6] (unknown [172.18.0.240])
 by postal.iol.unh.edu (Postfix) with ESMTP id 138196052510;
 Thu, 29 Feb 2024 10:47:33 -0500 (EST)
Subject: |SUCCESS| pw137494-137496 [PATCH] [v2,3/3] net/virtio_user: support 
From: dpdklab@iol.unh.edu
To: Test Report <test-report@dpdk.org>
Cc: dpdk-test-reports@iol.unh.edu
In-Reply-To: <20240229132919.2186118-4-schalla@marvell.com>
References: <20240229132919.2186118-4-schalla@marvell.com>
Content-Type: text/plain
X-BeenThere: test-report@dpdk.org
X-Mailman-Version: 2.1.29
Precedence: list
List-Id: automatic DPDK test reports <test-report.dpdk.org>
List-Unsubscribe: <https://mails.dpdk.org/options/test-report>,
 <mailto:test-report-request@dpdk.org?subject=unsubscribe>
List-Archive: <http://mails.dpdk.org/archives/test-report/>
List-Post: <mailto:test-report@dpdk.org>
List-Help: <mailto:test-report-request@dpdk.org?subject=help>
List-Subscribe: <https://mails.dpdk.org/listinfo/test-report>,
 <mailto:test-report-request@dpdk.org?subject=subscribe>
Errors-To: test-report-bounces@dpdk.org

Test-Label: iol-abi-testing
Test-Status: SUCCESS
http://dpdk.org/patch/137496

_Testing PASS_

Submitter: Srujana Challa <schalla@marvell.com>
Date: Thursday, February 29 2024 13:29:19 
DPDK git baseline: Repo:dpdk
  Branch: master
  CommitID:92c0ad70caf3ed6f4b93de6ddaf7bc369737c049

137494-137496 --> testing pass

Test environment and result as below:

+------------------+----------+
|   Environment    | abi_test |
+==================+==========+
| CentOS Stream 9  | PASS     |
+------------------+----------+
| openSUSE Leap 15 | PASS     |
+------------------+----------+
| Ubuntu 22.04     | PASS     |
+------------------+----------+
| Fedora 38        | PASS     |
+------------------+----------+
| CentOS Stream 8  | PASS     |
+------------------+----------+
| Debian Bullseye  | PASS     |
+------------------+----------+
| RHEL8            | PASS     |
+------------------+----------+
| Fedora 37        | PASS     |
+------------------+----------+
| Debian 12 (arm)  | PASS     |
+------------------+----------+


CentOS Stream 9
	Kernel: 4.18.0-240.10.1.el8_3.x86_64
	Compiler: gcc 11.3.1 20220421

openSUSE Leap 15
	Kernel: 4.18.0-240.10.1.el8_3.x86_64
	Compiler: gcc 7.5.0

Ubuntu 22.04
	Kernel: 4.18.0-240.10.1.el8_3.x86_64
	Compiler: gcc 11.3.0

Fedora 38
	Kernel: Depends on container host
	Compiler: clang 16.0.3

CentOS Stream 8
	Kernel: 4.18.0-240.10.1.el8_3.x86_64
	Compiler: gcc 8.4.1 20200928

Debian Bullseye
	Kernel: 5.4.0-122-generic
	Compiler: gcc 10.2.1-6

RHEL8
	Kernel: 4.18.0-240.10.1.el8_3.x86_64
	Compiler: gcc 8.3.1 20191121 (Red Hat 8.3.1-5)

Fedora 37
	Kernel: Depends on container host system
	Compiler: gcc 12.3.1

Debian 12 (arm)
	Kernel: Container Host Kernel
	Compiler: gcc 11

To view detailed results, visit:
https://lab.dpdk.org/results/dashboard/patchsets/29337/

UNH-IOL DPDK Community Lab

To manage your email subscriptions, visit: 
https://lab.dpdk.org/results/dashboard/preferences/subscriptions/