From mboxrd@z Thu Jan  1 00:00:00 1970
Return-Path: <test-report-bounces@dpdk.org>
Received: from mails.dpdk.org (mails.dpdk.org [217.70.189.124])
	by inbox.dpdk.org (Postfix) with ESMTP id 1DA4843C30
	for <public@inbox.dpdk.org>; Thu, 29 Feb 2024 17:13:18 +0100 (CET)
Received: from mails.dpdk.org (localhost [127.0.0.1])
	by mails.dpdk.org (Postfix) with ESMTP id 1996042DBE;
	Thu, 29 Feb 2024 17:13:18 +0100 (CET)
Received: from mail-io1-f97.google.com (mail-io1-f97.google.com
 [209.85.166.97]) by mails.dpdk.org (Postfix) with ESMTP id AC6A3402E0
 for <test-report@dpdk.org>; Thu, 29 Feb 2024 17:13:07 +0100 (CET)
Received: by mail-io1-f97.google.com with SMTP id
 ca18e2360f4ac-7c7ee7fa1d8so48717639f.1
 for <test-report@dpdk.org>; Thu, 29 Feb 2024 08:13:07 -0800 (PST)
DKIM-Signature: v=1; a=rsa-sha256; c=relaxed/relaxed;
 d=iol.unh.edu; s=unh-iol; t=1709223187; x=1709827987; darn=dpdk.org;
 h=references:in-reply-to:cc:to:from:subject:message-id:date:from:to
 :cc:subject:date:message-id:reply-to;
 bh=TnAmzc7DcDJDzT6Q+mcWG7KX65801K/OhIfySOGbIwM=;
 b=gE5ygGAazOF6Rr6HmGK/qH7HH5sfJpI7zFhE7ScgFWkrD/0LGxqckrNNdvFKud/D5S
 uY9TGsVDmiOELoKHL+IXA0yZXjEjqsX8vrN04IIWVXPznzAgl2AJLm1rIfjIW43Q3TFy
 3O3GZNnZMbRi7az6op5DpdH9eaq7okQKlOAFM=
X-Google-DKIM-Signature: v=1; a=rsa-sha256; c=relaxed/relaxed;
 d=1e100.net; s=20230601; t=1709223187; x=1709827987;
 h=references:in-reply-to:cc:to:from:subject:message-id:date
 :x-gm-message-state:from:to:cc:subject:date:message-id:reply-to;
 bh=TnAmzc7DcDJDzT6Q+mcWG7KX65801K/OhIfySOGbIwM=;
 b=UykRwS9lj4Cyh7CN7tc5VfSEqYHblYu7SO15/nzjIdAegL8oUqNHWDHMeqpKWqro5o
 qdAEAMTRymuVSMYOdwy/AVfboxbYgNA3N5SigGdn9fY3R7X+w+RTVQ5UWX2UNDI1ucL2
 Puf8011ne/pjwpR1QXy19ZLMDOzwwDAxklUiusTnp9acprB+pEeBmukjrdpJ5pc2Q14O
 liE+K33wIvxrdPx11jgXWDQbgjYwwSVZhfRmHoZcuKVdliSP4WyIQhDr8G2CPg0LUy5k
 HsCNxHGkh7dJI7uV9q94YWUF4yYYaoq2FAFaaZiQ7JvDE7O2SNdrjqtDlSdtsCQPFIRl
 k+nA==
X-Gm-Message-State: AOJu0YwNLomPaSKBG8BNHKbgmM5bKj77H7LmncZ8cdAtd3el6J3zotqF
 skV2zgVMMeN24UrwhC4PNlfY9qgkEVzSedQ2U2TVc2/4HIzGGoBddCXKB8+/vNzYFuzvBN07M/s
 5g0LCOxurC+OsKxrhwyptIRu3PYFTx2xT9Tx/ZdE4gtzsKaMGmCBtRF57
X-Google-Smtp-Source: AGHT+IGq7hLpkUqAZakXKFwVq3+C/rhoYZtlnjZctf1CCo20nns/qpIKt5jkchQxAjVuLow/I5RfNRf8AJUg
X-Received: by 2002:a05:6602:19c8:b0:7c7:7f04:ac97 with SMTP id
 ba8-20020a05660219c800b007c77f04ac97mr2861565iob.19.1709223187113; 
 Thu, 29 Feb 2024 08:13:07 -0800 (PST)
Received: from postal.iol.unh.edu (postal.iol.unh.edu.
 [2606:4100:3880:1234::84]) by smtp-relay.gmail.com with ESMTPS id
 k11-20020a6b7e4b000000b007c49e7b92b2sm54338ioq.16.2024.02.29.08.13.07
 (version=TLS1_2 cipher=ECDHE-ECDSA-AES128-GCM-SHA256 bits=128/128);
 Thu, 29 Feb 2024 08:13:07 -0800 (PST)
X-Relaying-Domain: iol.unh.edu
Date: Thu, 29 Feb 2024 08:13:07 -0800 (PST)
Message-ID: <65e0ad13.6b0a0220.4e78b.3567SMTPIN_ADDED_MISSING@mx.google.com>
Received: from [172.21.0.6] (unknown [172.18.0.240])
 by postal.iol.unh.edu (Postfix) with ESMTP id 9627E6052510;
 Thu, 29 Feb 2024 11:13:06 -0500 (EST)
Subject: |SUCCESS| pw137469-137479 [PATCH] [v2,11/11] net/mlx5: remove unneed
From: dpdklab@iol.unh.edu
To: Test Report <test-report@dpdk.org>
Cc: dpdk-test-reports@iol.unh.edu
In-Reply-To: <20240229115157.201671-12-dsosnowski@nvidia.com>
References: <20240229115157.201671-12-dsosnowski@nvidia.com>
Content-Type: text/plain
X-BeenThere: test-report@dpdk.org
X-Mailman-Version: 2.1.29
Precedence: list
List-Id: automatic DPDK test reports <test-report.dpdk.org>
List-Unsubscribe: <https://mails.dpdk.org/options/test-report>,
 <mailto:test-report-request@dpdk.org?subject=unsubscribe>
List-Archive: <http://mails.dpdk.org/archives/test-report/>
List-Post: <mailto:test-report@dpdk.org>
List-Help: <mailto:test-report-request@dpdk.org?subject=help>
List-Subscribe: <https://mails.dpdk.org/listinfo/test-report>,
 <mailto:test-report-request@dpdk.org?subject=subscribe>
Errors-To: test-report-bounces@dpdk.org

Test-Label: iol-compile-amd64-testing
Test-Status: SUCCESS
http://dpdk.org/patch/137479

_Testing PASS_

Submitter: Dariusz Sosnowski <dsosnowski@nvidia.com>
Date: Thursday, February 29 2024 11:51:56 
DPDK git baseline: Repo:dpdk
  Branch: master
  CommitID:45d2195f9ea6ead7242af856c799c6f084d874bc

137469-137479 --> testing pass

Test environment and result as below:

+---------------------+--------------------+----------------------+
|     Environment     | dpdk_meson_compile | dpdk_mingw64_compile |
+=====================+====================+======================+
| Debian 12 (arm)     | PASS               | SKIPPED              |
+---------------------+--------------------+----------------------+
| Windows Server 2022 | PASS               | SKIPPED              |
+---------------------+--------------------+----------------------+
| CentOS Stream 8     | PASS               | SKIPPED              |
+---------------------+--------------------+----------------------+
| FreeBSD 13.2        | PASS               | SKIPPED              |
+---------------------+--------------------+----------------------+
| Debian Bullseye     | PASS               | SKIPPED              |
+---------------------+--------------------+----------------------+
| RHEL8               | PASS               | SKIPPED              |
+---------------------+--------------------+----------------------+
| Windows Server 2019 | PASS               | PASS                 |
+---------------------+--------------------+----------------------+
| Fedora 37           | PASS               | SKIPPED              |
+---------------------+--------------------+----------------------+
| Fedora 38           | PASS               | SKIPPED              |
+---------------------+--------------------+----------------------+
| Alpine              | PASS               | SKIPPED              |
+---------------------+--------------------+----------------------+
| Ubuntu 22.04        | PASS               | SKIPPED              |
+---------------------+--------------------+----------------------+
| openSUSE Leap 15    | PASS               | SKIPPED              |
+---------------------+--------------------+----------------------+
| CentOS Stream 9     | PASS               | SKIPPED              |
+---------------------+--------------------+----------------------+
| Ubuntu 20.04        | PASS               | SKIPPED              |
+---------------------+--------------------+----------------------+


Debian 12 (arm)
	Kernel: Container Host Kernel
	Compiler: gcc 11

Windows Server 2022
	Kernel: OS Build 20348.2031
	Compiler: MSVC VS-Preview

CentOS Stream 8
	Kernel: 4.18.0-240.10.1.el8_3.x86_64
	Compiler: gcc 8.4.1 20200928

FreeBSD 13.2
	Kernel: 13.2
	Compiler: clang 11.3.0

Debian Bullseye
	Kernel: 5.4.0-122-generic
	Compiler: gcc 10.2.1-6

RHEL8
	Kernel: 4.18.0-240.10.1.el8_3.x86_64
	Compiler: gcc 8.3.1 20191121 (Red Hat 8.3.1-5)

Windows Server 2019
	Kernel: 10.0
	Compiler: clang 14.0 and gcc 8.1.0 (MinGW)

Fedora 37
	Kernel: Depends on container host system
	Compiler: gcc 12.3.1

Fedora 38
	Kernel: Depends on container host
	Compiler: gcc 13.1.1

Alpine
	Kernel: 5.4.0-73-generic
	Compiler: gcc (Alpine 10.3.1_git20210424) 10.3.1 20210424

Ubuntu 22.04
	Kernel: 4.18.0-240.10.1.el8_3.x86_64
	Compiler: gcc 11.3.0

openSUSE Leap 15
	Kernel: 4.18.0-240.10.1.el8_3.x86_64
	Compiler: gcc 7.5.0

CentOS Stream 9
	Kernel: 4.18.0-240.10.1.el8_3.x86_64
	Compiler: gcc 11.3.1 20220421

Ubuntu 20.04
	Kernel: 5.4.0-153-generic
	Compiler: gcc 9.4.0-1ubuntu1~20.04.1

To view detailed results, visit:
https://lab.dpdk.org/results/dashboard/patchsets/29332/

UNH-IOL DPDK Community Lab

To manage your email subscriptions, visit: 
https://lab.dpdk.org/results/dashboard/preferences/subscriptions/