From mboxrd@z Thu Jan  1 00:00:00 1970
Return-Path: <test-report-bounces@dpdk.org>
Received: from mails.dpdk.org (mails.dpdk.org [217.70.189.124])
	by inbox.dpdk.org (Postfix) with ESMTP id 47D7343C30
	for <public@inbox.dpdk.org>; Thu, 29 Feb 2024 17:24:29 +0100 (CET)
Received: from mails.dpdk.org (localhost [127.0.0.1])
	by mails.dpdk.org (Postfix) with ESMTP id 3E1F941109;
	Thu, 29 Feb 2024 17:24:29 +0100 (CET)
Received: from mail-pj1-f97.google.com (mail-pj1-f97.google.com
 [209.85.216.97]) by mails.dpdk.org (Postfix) with ESMTP id D3DBA402E0
 for <test-report@dpdk.org>; Thu, 29 Feb 2024 17:24:27 +0100 (CET)
Received: by mail-pj1-f97.google.com with SMTP id
 98e67ed59e1d1-29b118b1e1dso550988a91.0
 for <test-report@dpdk.org>; Thu, 29 Feb 2024 08:24:27 -0800 (PST)
DKIM-Signature: v=1; a=rsa-sha256; c=relaxed/relaxed;
 d=iol.unh.edu; s=unh-iol; t=1709223867; x=1709828667; darn=dpdk.org;
 h=references:in-reply-to:cc:to:from:subject:message-id:date:from:to
 :cc:subject:date:message-id:reply-to;
 bh=U5lsr4zQn11//iCynz7Zl2jFhXnxQg29A+kw45k7EA4=;
 b=KIR1IH7Mp6aSFaOmG7IbAEewXezkz3hZaCpQ2oElKvbR19xbB/3643AmG2VGC+GQS9
 8q2oJYzzYtes5Hk9yXa6obMLO6lCPLr6G/j0C3u5OX20e3NRw+bawegXwELV+BHSraCS
 MEAeaLRY0Ok9NEqXrIVGYIOleb5KwRKKxUT98=
X-Google-DKIM-Signature: v=1; a=rsa-sha256; c=relaxed/relaxed;
 d=1e100.net; s=20230601; t=1709223867; x=1709828667;
 h=references:in-reply-to:cc:to:from:subject:message-id:date
 :x-gm-message-state:from:to:cc:subject:date:message-id:reply-to;
 bh=U5lsr4zQn11//iCynz7Zl2jFhXnxQg29A+kw45k7EA4=;
 b=O2R6UDTc93RYpigadhNXrf1yvJI5xrrrn6v0S9aJobnMTpLKzi8l4Ban9XauOUDxSo
 fjA4E7XyZfJj1xrT22d7px3M1X9xAfBAir7zdBCO+D05f5IloSyBx2fUuIlxzA0gMnIi
 lwQB3pb8Ru7aDDsul2FgUhSyQvzXgefxHq+lY+tSivbxDn5T8+NCUsDew0YPNr6oem+9
 r97Ecs2kHPQXuDiq/wFfyMdjncP3erBLcpia7Ektju87cEU8H9GnRNa9V1uy92xCn3wi
 pRCc9+VoFtA/jQ20Wdqmt8QTuxjkHoTuPh1w3dHhz4i43EmVOWnKNTMz/DAHQaN5suW6
 idRQ==
X-Gm-Message-State: AOJu0YxwB16ZiJb9gx2Uszj7yNluplvaot/xkGYutQ6cc9u3xIcyXGEg
 n/U1UEdD9iIhoFE6K9fXMh/FqZ9xYrHVsRzrMgkGGaf/aLPQsLkUe14ya+1XT/kG+Sma8hEI72s
 fQV8wbnpBrs9ACpeYL35bFGjuJ4vzVRxBzxxjH9Ve
X-Google-Smtp-Source: AGHT+IGYi46YO0JuuJJ6vtHwmbNfa4bCPkdQnXujxBlRkXm5rQ3JWi9tZ2HhecoXJVrfSmV8gH+vgCdwIiLW
X-Received: by 2002:a17:90a:c917:b0:29b:1076:a51d with SMTP id
 v23-20020a17090ac91700b0029b1076a51dmr1863501pjt.42.1709223867090; 
 Thu, 29 Feb 2024 08:24:27 -0800 (PST)
Received: from postal.iol.unh.edu (postal.iol.unh.edu. [132.177.123.84])
 by smtp-relay.gmail.com with ESMTPS id
 f6-20020a056a0022c600b006e46eaa72d5sm2794pfj.20.2024.02.29.08.24.26
 (version=TLS1_2 cipher=ECDHE-ECDSA-AES128-GCM-SHA256 bits=128/128);
 Thu, 29 Feb 2024 08:24:27 -0800 (PST)
X-Relaying-Domain: iol.unh.edu
Date: Thu, 29 Feb 2024 08:24:27 -0800 (PST)
Message-ID: <65e0afbb.050a0220.9fb80.02c5SMTPIN_ADDED_MISSING@mx.google.com>
Received: from [172.21.0.6] (unknown [172.18.0.240])
 by postal.iol.unh.edu (Postfix) with ESMTP id 463D26052510;
 Thu, 29 Feb 2024 11:24:26 -0500 (EST)
Subject: |SUCCESS| pw137469-137479 [PATCH] [v2,11/11] net/mlx5: remove unneed
From: dpdklab@iol.unh.edu
To: Test Report <test-report@dpdk.org>
Cc: dpdk-test-reports@iol.unh.edu
In-Reply-To: <20240229115157.201671-12-dsosnowski@nvidia.com>
References: <20240229115157.201671-12-dsosnowski@nvidia.com>
Content-Type: text/plain
X-BeenThere: test-report@dpdk.org
X-Mailman-Version: 2.1.29
Precedence: list
List-Id: automatic DPDK test reports <test-report.dpdk.org>
List-Unsubscribe: <https://mails.dpdk.org/options/test-report>,
 <mailto:test-report-request@dpdk.org?subject=unsubscribe>
List-Archive: <http://mails.dpdk.org/archives/test-report/>
List-Post: <mailto:test-report@dpdk.org>
List-Help: <mailto:test-report-request@dpdk.org?subject=help>
List-Subscribe: <https://mails.dpdk.org/listinfo/test-report>,
 <mailto:test-report-request@dpdk.org?subject=subscribe>
Errors-To: test-report-bounces@dpdk.org

Test-Label: iol-compile-arm64-testing
Test-Status: SUCCESS
http://dpdk.org/patch/137479

_Testing PASS_

Submitter: Dariusz Sosnowski <dsosnowski@nvidia.com>
Date: Thursday, February 29 2024 11:51:56 
DPDK git baseline: Repo:dpdk
  Branch: master
  CommitID:45d2195f9ea6ead7242af856c799c6f084d874bc

137469-137479 --> testing pass

Test environment and result as below:

+----------------------------------------+--------------------+
|              Environment               | dpdk_meson_compile |
+========================================+====================+
| Ubuntu 20.04 ARM SVE                   | PASS               |
+----------------------------------------+--------------------+
| Fedora 37 (ARM)                        | PASS               |
+----------------------------------------+--------------------+
| Ubuntu 20.04 (ARM)                     | PASS               |
+----------------------------------------+--------------------+
| Fedora 38 (ARM)                        | PASS               |
+----------------------------------------+--------------------+
| Ubuntu 20.04 aarch32 GCC Cross Compile | PASS               |
+----------------------------------------+--------------------+
| Ubuntu 20.04 ARM GCC Cross Compile     | PASS               |
+----------------------------------------+--------------------+
| Ubuntu 20.04 ARM Clang Cross Compile   | PASS               |
+----------------------------------------+--------------------+
| CentOS Stream 9 (ARM)                  | PASS               |
+----------------------------------------+--------------------+
| Debian 11 (Buster) (ARM)               | PASS               |
+----------------------------------------+--------------------+
| Debian 12 (arm)                        | PASS               |
+----------------------------------------+--------------------+


Ubuntu 20.04 ARM SVE
	Kernel: 5.4.0-80-generic
	Compiler: gcc 10.3.0 (Ubuntu 10.3.0-1ubuntu1~20.04)

Fedora 37 (ARM)
	Kernel: Depends on container host
	Compiler: gcc 12.3.1

Ubuntu 20.04 (ARM)
	Kernel: Container Host Kernel
	Compiler: gcc 9.4.0

Fedora 38 (ARM)
	Kernel: Depends on container host
	Compiler: gcc 13.1.1

Ubuntu 20.04 aarch32 GCC Cross Compile
	Kernel: 5.4.0-72-generic
	Compiler: gcc 9.3.0

Ubuntu 20.04 ARM GCC Cross Compile
	Kernel: 5.4.0-72-generic
	Compiler: aarch64-linux-gnu-gcc (Ubuntu 9.3.0-17ubuntu1~20.04) 9.3.0

Ubuntu 20.04 ARM Clang Cross Compile
	Kernel: 5.4.0-72-generic
	Compiler: clang version 10.0.0-4ubuntu1

CentOS Stream 9 (ARM)
	Kernel: Container Host Kernel
	Compiler: gcc 11.3.1

Debian 11 (Buster) (ARM)
	Kernel: Container Host Kernel
	Compiler: gcc 10.2.1

Debian 12 (arm)
	Kernel: Container Host Kernel
	Compiler: gcc 11

To view detailed results, visit:
https://lab.dpdk.org/results/dashboard/patchsets/29332/

UNH-IOL DPDK Community Lab

To manage your email subscriptions, visit: 
https://lab.dpdk.org/results/dashboard/preferences/subscriptions/