From mboxrd@z Thu Jan  1 00:00:00 1970
Return-Path: <test-report-bounces@dpdk.org>
Received: from mails.dpdk.org (mails.dpdk.org [217.70.189.124])
	by inbox.dpdk.org (Postfix) with ESMTP id 0AC8043C3B
	for <public@inbox.dpdk.org>; Thu, 29 Feb 2024 17:38:14 +0100 (CET)
Received: from mails.dpdk.org (localhost [127.0.0.1])
	by mails.dpdk.org (Postfix) with ESMTP id 07C0C42F61;
	Thu, 29 Feb 2024 17:38:14 +0100 (CET)
Received: from mail-io1-f98.google.com (mail-io1-f98.google.com
 [209.85.166.98]) by mails.dpdk.org (Postfix) with ESMTP id 384004025C
 for <test-report@dpdk.org>; Thu, 29 Feb 2024 17:37:55 +0100 (CET)
Received: by mail-io1-f98.google.com with SMTP id
 ca18e2360f4ac-7c7db34d162so41884539f.2
 for <test-report@dpdk.org>; Thu, 29 Feb 2024 08:37:55 -0800 (PST)
DKIM-Signature: v=1; a=rsa-sha256; c=relaxed/relaxed;
 d=iol.unh.edu; s=unh-iol; t=1709224674; x=1709829474; darn=dpdk.org;
 h=references:in-reply-to:cc:to:from:subject:message-id:date:from:to
 :cc:subject:date:message-id:reply-to;
 bh=8Qu1i16IfGDjK4pCrXWUyXsVxXC6T7yztn/8GDVZQrM=;
 b=Kvr0QJUdsgWO3zH32zaGyvpnbEjFDcyHLy6SEttcw6jy12Pdv6TxnUrl2TrmR5ewLh
 1A6ljcBsUhv/wTBlDBI7JrQ1Gj3xY9ZhhQKaQkKF+gk5EowhfQt4qmDFmDrc5P+Z3ic8
 ycLK1lIt6ftikLGX+MM8t6/XzlqQ+wHvV93eY=
X-Google-DKIM-Signature: v=1; a=rsa-sha256; c=relaxed/relaxed;
 d=1e100.net; s=20230601; t=1709224674; x=1709829474;
 h=references:in-reply-to:cc:to:from:subject:message-id:date
 :x-gm-message-state:from:to:cc:subject:date:message-id:reply-to;
 bh=8Qu1i16IfGDjK4pCrXWUyXsVxXC6T7yztn/8GDVZQrM=;
 b=cuPHQuCSacQizpxNuwlNProqxcnHjavBJ7RDBrYTxm/R+XA75bdYB/x8sTeAS15PLk
 K3sP4f85saZK9q9boFwqHHgPL0CMJV6v1eK2TIDV6bSj/z1T7xAePMT9abXeAG/oicVZ
 PYK5vSev3ffgJaDZfSkF2bSZHv7in5pvBAsJ4DS2J/iOodM80agjCVGxcEG/idCumtJw
 k9/vr4ec9px2+x0Wn+XwerZJWzpqvvB3dSPOgHW3KbOkmNCeNip6ojA0upNyHZmcglVZ
 0mdIkPfuE7evQQ+iYYAGQr4wwweeLuYUcmxgHd78hHR5PhEQHAoMgvOA0hzBUNXlgjez
 J8Ew==
X-Gm-Message-State: AOJu0YzWQrL8htx1I4gfKFyvMVeVTT7ta4cRUKK8CSusskMr/AsbLdL/
 zT+qJFOt6PfJX2RywoQrSn2QcEhpggdE72huhazm3szSWmFZqJfl5LU7V6VRn658iWEDAsP+1LK
 B86MH/zmV/vMWUVd+yweV9PSukhn602tERI7mRhO1Sik0E1Ji7p6G0+oC
X-Google-Smtp-Source: AGHT+IHyN6vcgMT1uU2zu4R61JkRgdyAQWKjD2MZykJDIhw89xZ7t1kHCbY0iJUp9ukOv3D5oEtx4N8iA2ax
X-Received: by 2002:a05:6e02:1041:b0:365:5dbd:aa34 with SMTP id
 p1-20020a056e02104100b003655dbdaa34mr2566558ilj.12.1709224674702; 
 Thu, 29 Feb 2024 08:37:54 -0800 (PST)
Received: from postal.iol.unh.edu (postal.iol.unh.edu.
 [2606:4100:3880:1234::84]) by smtp-relay.gmail.com with ESMTPS id
 cd12-20020a056e02320c00b00363c7fff8c1sm80852ilb.56.2024.02.29.08.37.54
 (version=TLS1_2 cipher=ECDHE-ECDSA-AES128-GCM-SHA256 bits=128/128);
 Thu, 29 Feb 2024 08:37:54 -0800 (PST)
X-Relaying-Domain: iol.unh.edu
Date: Thu, 29 Feb 2024 08:37:54 -0800 (PST)
Message-ID: <65e0b2e2.050a0220.ed37f.587fSMTPIN_ADDED_MISSING@mx.google.com>
Received: from [172.17.0.8] (unknown [172.18.0.217])
 by postal.iol.unh.edu (Postfix) with ESMTP id 3E1256052510;
 Thu, 29 Feb 2024 11:37:54 -0500 (EST)
Subject: |SUCCESS| pw137488-137489 [PATCH] [v10,3/3] net/af_xdp: support AF_X
From: dpdklab@iol.unh.edu
To: Test Report <test-report@dpdk.org>
Cc: dpdk-test-reports@iol.unh.edu
In-Reply-To: <20240229130212.343036-4-mtahhan@redhat.com>
References: <20240229130212.343036-4-mtahhan@redhat.com>
Content-Type: text/plain
X-BeenThere: test-report@dpdk.org
X-Mailman-Version: 2.1.29
Precedence: list
List-Id: automatic DPDK test reports <test-report.dpdk.org>
List-Unsubscribe: <https://mails.dpdk.org/options/test-report>,
 <mailto:test-report-request@dpdk.org?subject=unsubscribe>
List-Archive: <http://mails.dpdk.org/archives/test-report/>
List-Post: <mailto:test-report@dpdk.org>
List-Help: <mailto:test-report-request@dpdk.org?subject=help>
List-Subscribe: <https://mails.dpdk.org/listinfo/test-report>,
 <mailto:test-report-request@dpdk.org?subject=subscribe>
Errors-To: test-report-bounces@dpdk.org

Test-Label: iol-abi-testing
Test-Status: SUCCESS
http://dpdk.org/patch/137489

_Testing PASS_

Submitter: Maryam Tahhan <mtahhan@redhat.com>
Date: Thursday, February 29 2024 13:01:24 
DPDK git baseline: Repo:dpdk
  Branch: master
  CommitID:f60df26faa3c90fc66d356e16347acd046971441

137488-137489 --> testing pass

Test environment and result as below:

+------------------+----------+
|   Environment    | abi_test |
+==================+==========+
| CentOS Stream 8  | PASS     |
+------------------+----------+
| CentOS Stream 9  | PASS     |
+------------------+----------+
| Fedora 38        | PASS     |
+------------------+----------+
| Ubuntu 22.04     | PASS     |
+------------------+----------+
| openSUSE Leap 15 | PASS     |
+------------------+----------+
| Fedora 37        | PASS     |
+------------------+----------+
| Debian 12 (arm)  | PASS     |
+------------------+----------+
| Debian Bullseye  | PASS     |
+------------------+----------+
| RHEL8            | PASS     |
+------------------+----------+


CentOS Stream 8
	Kernel: 4.18.0-240.10.1.el8_3.x86_64
	Compiler: gcc 8.4.1 20200928

CentOS Stream 9
	Kernel: 4.18.0-240.10.1.el8_3.x86_64
	Compiler: gcc 11.3.1 20220421

Fedora 38
	Kernel: Depends on container host
	Compiler: clang 16.0.3

Ubuntu 22.04
	Kernel: 4.18.0-240.10.1.el8_3.x86_64
	Compiler: gcc 11.3.0

openSUSE Leap 15
	Kernel: 4.18.0-240.10.1.el8_3.x86_64
	Compiler: gcc 7.5.0

Fedora 37
	Kernel: Depends on container host system
	Compiler: gcc 12.3.1

Debian 12 (arm)
	Kernel: Container Host Kernel
	Compiler: gcc 11

Debian Bullseye
	Kernel: 5.4.0-122-generic
	Compiler: gcc 10.2.1-6

RHEL8
	Kernel: 4.18.0-240.10.1.el8_3.x86_64
	Compiler: gcc 8.3.1 20191121 (Red Hat 8.3.1-5)

To view detailed results, visit:
https://lab.dpdk.org/results/dashboard/patchsets/29335/

UNH-IOL DPDK Community Lab

To manage your email subscriptions, visit: 
https://lab.dpdk.org/results/dashboard/preferences/subscriptions/