From mboxrd@z Thu Jan  1 00:00:00 1970
Return-Path: <test-report-bounces@dpdk.org>
Received: from mails.dpdk.org (mails.dpdk.org [217.70.189.124])
	by inbox.dpdk.org (Postfix) with ESMTP id B33EC43C3D
	for <public@inbox.dpdk.org>; Thu, 29 Feb 2024 18:03:13 +0100 (CET)
Received: from mails.dpdk.org (localhost [127.0.0.1])
	by mails.dpdk.org (Postfix) with ESMTP id AD85442F87;
	Thu, 29 Feb 2024 18:03:13 +0100 (CET)
Received: from mail-qv1-f100.google.com (mail-qv1-f100.google.com
 [209.85.219.100])
 by mails.dpdk.org (Postfix) with ESMTP id 545DC4025C
 for <test-report@dpdk.org>; Thu, 29 Feb 2024 18:03:10 +0100 (CET)
Received: by mail-qv1-f100.google.com with SMTP id
 6a1803df08f44-68fb730fdd5so4584176d6.2
 for <test-report@dpdk.org>; Thu, 29 Feb 2024 09:03:10 -0800 (PST)
DKIM-Signature: v=1; a=rsa-sha256; c=relaxed/relaxed;
 d=iol.unh.edu; s=unh-iol; t=1709226190; x=1709830990; darn=dpdk.org;
 h=references:in-reply-to:cc:to:from:subject:message-id:date:from:to
 :cc:subject:date:message-id:reply-to;
 bh=wZHdrVJClHpdJjeUAVnmW/b5KyoTvxkzgAqdtAy2RDA=;
 b=Y5uhJBoNOEvtOJPz4bYq9DY6y8OZfWVIKMmBu/Xb46jmGTLbmKcM7BM97z+XGC8L1K
 NBGFQS+aFIHC45oFL8OSigiM8AIrOd6GiDFokLM1BGhkxYdZSjjwOhSo8odt4LLNdXqd
 cBYHFK2b2B5T8m0wbHiUTxj+dNhdHa736nTWM=
X-Google-DKIM-Signature: v=1; a=rsa-sha256; c=relaxed/relaxed;
 d=1e100.net; s=20230601; t=1709226190; x=1709830990;
 h=references:in-reply-to:cc:to:from:subject:message-id:date
 :x-gm-message-state:from:to:cc:subject:date:message-id:reply-to;
 bh=wZHdrVJClHpdJjeUAVnmW/b5KyoTvxkzgAqdtAy2RDA=;
 b=b3xZ64MMQrnNVIs+8qQ3/Y1+uRbgC3MeCwMrvmFqoOrFHsgUPIu0L9+/3To2bosP4Z
 2ODD3lBPAccTtmRkHJ1ImGZJBusgNoso2MTpr4VGBRJxnpIFo4lFTYgrUUVZPnaciSSR
 wPTn5exSmrmSANtoNMDYMcwoYItpuJbLjXFTcBxGTlIOGMbtUgFfPSqNscGgSnLfKesI
 BSjhR4haETmMNjAy1Qt3ZqRXXdzyqWnVo/STzauMwotLh9lP84pfmvPgj/JPmvnynxRf
 4AJV+xxZTkbuSYwH4ZRymy6K37x2JEmkhOvYuzR53ttJ1mKUUF5+kNf5e2Tm720XH2tU
 vmiQ==
X-Gm-Message-State: AOJu0YwXq8009s2zZoJH8K4dGBirvocn42vGMbgep10575Wk8ciyuqrE
 ARqbtZXNGTJP/JPBVkFjl9TYWxvFVvEhJQSw+IFT7zC1oa2Xl5ixaUDQlMXOokfICfnZayWlWGG
 XyPpbbgK7K3D18obPjTc62VN1QQy9+UJN2Dff91Hv
X-Google-Smtp-Source: AGHT+IFHHKGieCHwsR59d2ZrvF/31d29+fCwvhG7mv+eB3SbXAXBYCpyQb0H9NC4QTeAgfzNOpcGBnJX9VN1
X-Received: by 2002:a0c:ea85:0:b0:68f:a949:77b2 with SMTP id
 d5-20020a0cea85000000b0068fa94977b2mr2619906qvp.2.1709226189760; 
 Thu, 29 Feb 2024 09:03:09 -0800 (PST)
Received: from postal.iol.unh.edu (postal.iol.unh.edu. [132.177.123.84])
 by smtp-relay.gmail.com with ESMTPS id
 o2-20020ad45c82000000b0068f4ff8296asm88421qvh.13.2024.02.29.09.03.09
 (version=TLS1_2 cipher=ECDHE-ECDSA-AES128-GCM-SHA256 bits=128/128);
 Thu, 29 Feb 2024 09:03:09 -0800 (PST)
X-Relaying-Domain: iol.unh.edu
Date: Thu, 29 Feb 2024 09:03:09 -0800 (PST)
Message-ID: <65e0b8cd.d40a0220.52df2.63c7SMTPIN_ADDED_MISSING@mx.google.com>
Received: from [172.17.0.7] (unknown [172.18.0.217])
 by postal.iol.unh.edu (Postfix) with ESMTP id 76D886052510;
 Thu, 29 Feb 2024 12:03:09 -0500 (EST)
Subject: |SUCCESS| pw137487 [PATCH] [v1] ethdev: add Linux ethtool link mode 
From: dpdklab@iol.unh.edu
To: Test Report <test-report@dpdk.org>
Cc: dpdk-test-reports@iol.unh.edu
In-Reply-To: <20240229123653.1379466-1-thomas@monjalon.net>
References: <20240229123653.1379466-1-thomas@monjalon.net>
Content-Type: text/plain
X-BeenThere: test-report@dpdk.org
X-Mailman-Version: 2.1.29
Precedence: list
List-Id: automatic DPDK test reports <test-report.dpdk.org>
List-Unsubscribe: <https://mails.dpdk.org/options/test-report>,
 <mailto:test-report-request@dpdk.org?subject=unsubscribe>
List-Archive: <http://mails.dpdk.org/archives/test-report/>
List-Post: <mailto:test-report@dpdk.org>
List-Help: <mailto:test-report-request@dpdk.org?subject=help>
List-Subscribe: <https://mails.dpdk.org/listinfo/test-report>,
 <mailto:test-report-request@dpdk.org?subject=subscribe>
Errors-To: test-report-bounces@dpdk.org

Test-Label: iol-abi-testing
Test-Status: SUCCESS
http://dpdk.org/patch/137487

_Testing PASS_

Submitter: Thomas Monjalon <thomas@monjalon.net>
Date: Thursday, February 29 2024 12:34:27 
DPDK git baseline: Repo:dpdk
  Branch: master
  CommitID:f60df26faa3c90fc66d356e16347acd046971441

137487 --> testing pass

Test environment and result as below:

+------------------+----------+
|   Environment    | abi_test |
+==================+==========+
| Debian Bullseye  | PASS     |
+------------------+----------+
| CentOS Stream 8  | PASS     |
+------------------+----------+
| Debian 12 (arm)  | PASS     |
+------------------+----------+
| Fedora 38        | PASS     |
+------------------+----------+
| CentOS Stream 9  | PASS     |
+------------------+----------+
| openSUSE Leap 15 | PASS     |
+------------------+----------+
| RHEL8            | PASS     |
+------------------+----------+
| Ubuntu 22.04     | PASS     |
+------------------+----------+
| Fedora 37        | PASS     |
+------------------+----------+


Debian Bullseye
	Kernel: 5.4.0-122-generic
	Compiler: gcc 10.2.1-6

CentOS Stream 8
	Kernel: 4.18.0-240.10.1.el8_3.x86_64
	Compiler: gcc 8.4.1 20200928

Debian 12 (arm)
	Kernel: Container Host Kernel
	Compiler: gcc 11

Fedora 38
	Kernel: Depends on container host
	Compiler: gcc 13.1.1

CentOS Stream 9
	Kernel: 4.18.0-240.10.1.el8_3.x86_64
	Compiler: gcc 11.3.1 20220421

openSUSE Leap 15
	Kernel: 4.18.0-240.10.1.el8_3.x86_64
	Compiler: gcc 7.5.0

RHEL8
	Kernel: 4.18.0-240.10.1.el8_3.x86_64
	Compiler: gcc 8.3.1 20191121 (Red Hat 8.3.1-5)

Ubuntu 22.04
	Kernel: 4.18.0-240.10.1.el8_3.x86_64
	Compiler: gcc 11.3.0

Fedora 37
	Kernel: Depends on container host system
	Compiler: gcc 12.3.1

To view detailed results, visit:
https://lab.dpdk.org/results/dashboard/patchsets/29334/

UNH-IOL DPDK Community Lab

To manage your email subscriptions, visit: 
https://lab.dpdk.org/results/dashboard/preferences/subscriptions/