From mboxrd@z Thu Jan  1 00:00:00 1970
Return-Path: <test-report-bounces@dpdk.org>
Received: from mails.dpdk.org (mails.dpdk.org [217.70.189.124])
	by inbox.dpdk.org (Postfix) with ESMTP id 61ADE43C3F
	for <public@inbox.dpdk.org>; Thu, 29 Feb 2024 19:03:42 +0100 (CET)
Received: from mails.dpdk.org (localhost [127.0.0.1])
	by mails.dpdk.org (Postfix) with ESMTP id 5C26C402ED;
	Thu, 29 Feb 2024 19:03:42 +0100 (CET)
Received: from mail-yw1-f226.google.com (mail-yw1-f226.google.com
 [209.85.128.226])
 by mails.dpdk.org (Postfix) with ESMTP id 2F776402CD
 for <test-report@dpdk.org>; Thu, 29 Feb 2024 19:03:41 +0100 (CET)
Received: by mail-yw1-f226.google.com with SMTP id
 00721157ae682-607dec82853so12544347b3.3
 for <test-report@dpdk.org>; Thu, 29 Feb 2024 10:03:41 -0800 (PST)
DKIM-Signature: v=1; a=rsa-sha256; c=relaxed/relaxed;
 d=iol.unh.edu; s=unh-iol; t=1709229820; x=1709834620; darn=dpdk.org;
 h=references:in-reply-to:cc:to:from:subject:message-id:date:from:to
 :cc:subject:date:message-id:reply-to;
 bh=DUyaaiANXMhXk7e1OV5PD9jTNltb6yWKDaoLFHytgok=;
 b=DJUkZNTOSh+y7UMkzCFiDSry8qZFvoP26N1soQ6zw+pS3ibv5LjeTZ/oTNPATfwBIQ
 z8K/BQrCLxtvTsNRfzX9R0s+qdhvXQ9sEHzuxdimxn2zGAI5lQUQaTLslGQKInHF1ecs
 N5ixZJD3AcMRwGswgY4f7eJVRsEZedooLtf+I=
X-Google-DKIM-Signature: v=1; a=rsa-sha256; c=relaxed/relaxed;
 d=1e100.net; s=20230601; t=1709229820; x=1709834620;
 h=references:in-reply-to:cc:to:from:subject:message-id:date
 :x-gm-message-state:from:to:cc:subject:date:message-id:reply-to;
 bh=DUyaaiANXMhXk7e1OV5PD9jTNltb6yWKDaoLFHytgok=;
 b=PFob0Xg9+6kRUmF/9x5aqPMawm9tmaS/YrSCj7CSEk5DVfMsLYqnrxrlTSDhBZKv/L
 H88GSHQBs69k56tsixu8OnuTtpjU3NUhK2xfbYqrCQmdOHzCcuBKg/FsPuZMkibPc7Tc
 Wo0bmlnsF+TI6NTRGk40ob1lbVCVuQS4vg+31FUbbBqrqI3jipSRXScN919DkLXVQuio
 8V/VdIFgD6ZsjbhfAVp6X8bSpnTaKTQm1B59sdOrpClgQbkGCW+lbgAcLReDEMIUcFOL
 qf1tByhfCv1BBwIp9GWspljD1BRxC8A8iuro9HxP/RjzCSCLjRJHt6BGjJdOGwF5BGjZ
 +s1g==
X-Gm-Message-State: AOJu0YzIG7zoV3jqzbGB+agTSg2G37VwXo5Zk7d318aqx6tyYQhmFZiI
 5xm/UwEDMcvjxep+OFq99EXdBGfJVuSNH09nKsrPCVJE6WspJHYhLCCli3NMqu2pz77tIZKfZK0
 IPkPOISEOsNzRNt/G4Xx5nWtknY2VKdEnzHV1Jz49
X-Google-Smtp-Source: AGHT+IE+r9NxDcHcgwwRJQJe60oeWgZ+g870MqCJ1sE/LNpGeN4RECwozMmbepC0z096AtrxRn9fAeThq5bX
X-Received: by 2002:a81:83cf:0:b0:608:c8d8:3253 with SMTP id
 t198-20020a8183cf000000b00608c8d83253mr2628062ywf.46.1709229820561; 
 Thu, 29 Feb 2024 10:03:40 -0800 (PST)
Received: from postal.iol.unh.edu (postal.iol.unh.edu. [132.177.123.84])
 by smtp-relay.gmail.com with ESMTPS id
 l6-20020a0de206000000b0060802e9053fsm95888ywe.30.2024.02.29.10.03.40
 (version=TLS1_2 cipher=ECDHE-ECDSA-AES128-GCM-SHA256 bits=128/128);
 Thu, 29 Feb 2024 10:03:40 -0800 (PST)
X-Relaying-Domain: iol.unh.edu
Date: Thu, 29 Feb 2024 10:03:40 -0800 (PST)
Message-ID: <65e0c6fc.0d0a0220.6fd56.6648SMTPIN_ADDED_MISSING@mx.google.com>
Received: from [172.17.0.7] (unknown [172.18.0.217])
 by postal.iol.unh.edu (Postfix) with ESMTP id 332D56052712;
 Thu, 29 Feb 2024 13:03:40 -0500 (EST)
Subject: |SUCCESS| pw137491-137493 [PATCH] [v11,3/3] net/af_xdp: support AF_X
From: dpdklab@iol.unh.edu
To: Test Report <test-report@dpdk.org>
Cc: dpdk-test-reports@iol.unh.edu
In-Reply-To: <20240229132129.656166-4-mtahhan@redhat.com>
References: <20240229132129.656166-4-mtahhan@redhat.com>
Content-Type: text/plain
X-BeenThere: test-report@dpdk.org
X-Mailman-Version: 2.1.29
Precedence: list
List-Id: automatic DPDK test reports <test-report.dpdk.org>
List-Unsubscribe: <https://mails.dpdk.org/options/test-report>,
 <mailto:test-report-request@dpdk.org?subject=unsubscribe>
List-Archive: <http://mails.dpdk.org/archives/test-report/>
List-Post: <mailto:test-report@dpdk.org>
List-Help: <mailto:test-report-request@dpdk.org?subject=help>
List-Subscribe: <https://mails.dpdk.org/listinfo/test-report>,
 <mailto:test-report-request@dpdk.org?subject=subscribe>
Errors-To: test-report-bounces@dpdk.org

Test-Label: iol-compile-amd64-testing
Test-Status: SUCCESS
http://dpdk.org/patch/137493

_Testing PASS_

Submitter: Maryam Tahhan <mtahhan@redhat.com>
Date: Thursday, February 29 2024 13:21:22 
DPDK git baseline: Repo:dpdk
  Branch: master
  CommitID:f60df26faa3c90fc66d356e16347acd046971441

137491-137493 --> testing pass

Test environment and result as below:

+---------------------+--------------------+----------------------+
|     Environment     | dpdk_meson_compile | dpdk_mingw64_compile |
+=====================+====================+======================+
| Debian Bullseye     | PASS               | SKIPPED              |
+---------------------+--------------------+----------------------+
| CentOS Stream 8     | PASS               | SKIPPED              |
+---------------------+--------------------+----------------------+
| Debian 12 (arm)     | PASS               | SKIPPED              |
+---------------------+--------------------+----------------------+
| CentOS Stream 9     | PASS               | SKIPPED              |
+---------------------+--------------------+----------------------+
| Fedora 38           | PASS               | SKIPPED              |
+---------------------+--------------------+----------------------+
| RHEL8               | PASS               | SKIPPED              |
+---------------------+--------------------+----------------------+
| Ubuntu 22.04        | PASS               | SKIPPED              |
+---------------------+--------------------+----------------------+
| FreeBSD 13.2        | PASS               | SKIPPED              |
+---------------------+--------------------+----------------------+
| Alpine              | PASS               | SKIPPED              |
+---------------------+--------------------+----------------------+
| Windows Server 2022 | PASS               | SKIPPED              |
+---------------------+--------------------+----------------------+
| Fedora 37           | PASS               | SKIPPED              |
+---------------------+--------------------+----------------------+
| openSUSE Leap 15    | PASS               | SKIPPED              |
+---------------------+--------------------+----------------------+
| Ubuntu 20.04        | PASS               | SKIPPED              |
+---------------------+--------------------+----------------------+
| Windows Server 2019 | PASS               | PASS                 |
+---------------------+--------------------+----------------------+


Debian Bullseye
	Kernel: 5.4.0-122-generic
	Compiler: gcc 10.2.1-6

CentOS Stream 8
	Kernel: 4.18.0-240.10.1.el8_3.x86_64
	Compiler: gcc 8.4.1 20200928

Debian 12 (arm)
	Kernel: Container Host Kernel
	Compiler: gcc 11

CentOS Stream 9
	Kernel: 4.18.0-240.10.1.el8_3.x86_64
	Compiler: gcc 11.3.1 20220421

Fedora 38
	Kernel: Depends on container host
	Compiler: gcc 13.1.1

RHEL8
	Kernel: 4.18.0-240.10.1.el8_3.x86_64
	Compiler: gcc 8.3.1 20191121 (Red Hat 8.3.1-5)

Ubuntu 22.04
	Kernel: 4.18.0-240.10.1.el8_3.x86_64
	Compiler: gcc 11.3.0

FreeBSD 13.2
	Kernel: 13.2
	Compiler: clang 11.3.0

Alpine
	Kernel: 5.4.0-73-generic
	Compiler: gcc (Alpine 10.3.1_git20210424) 10.3.1 20210424

Windows Server 2022
	Kernel: OS Build 20348.2031
	Compiler: MSVC VS-Preview

Fedora 37
	Kernel: Depends on container host system
	Compiler: gcc 12.3.1

openSUSE Leap 15
	Kernel: 4.18.0-240.10.1.el8_3.x86_64
	Compiler: gcc 7.5.0

Ubuntu 20.04
	Kernel: 5.4.0-153-generic
	Compiler: gcc 9.4.0-1ubuntu1~20.04.1

Windows Server 2019
	Kernel: 10.0
	Compiler: clang 14.0 and gcc 8.1.0 (MinGW)

To view detailed results, visit:
https://lab.dpdk.org/results/dashboard/patchsets/29336/

UNH-IOL DPDK Community Lab

To manage your email subscriptions, visit: 
https://lab.dpdk.org/results/dashboard/preferences/subscriptions/