From mboxrd@z Thu Jan  1 00:00:00 1970
Return-Path: <test-report-bounces@dpdk.org>
Received: from mails.dpdk.org (mails.dpdk.org [217.70.189.124])
	by inbox.dpdk.org (Postfix) with ESMTP id 6708C43B94
	for <public@inbox.dpdk.org>; Thu, 29 Feb 2024 19:20:48 +0100 (CET)
Received: from mails.dpdk.org (localhost [127.0.0.1])
	by mails.dpdk.org (Postfix) with ESMTP id 5FFA8402ED;
	Thu, 29 Feb 2024 19:20:48 +0100 (CET)
Received: from mail-oo1-f99.google.com (mail-oo1-f99.google.com
 [209.85.161.99]) by mails.dpdk.org (Postfix) with ESMTP id A4C83402CD
 for <test-report@dpdk.org>; Thu, 29 Feb 2024 19:20:46 +0100 (CET)
Received: by mail-oo1-f99.google.com with SMTP id
 006d021491bc7-5a054dfee60so788736eaf.0
 for <test-report@dpdk.org>; Thu, 29 Feb 2024 10:20:46 -0800 (PST)
DKIM-Signature: v=1; a=rsa-sha256; c=relaxed/relaxed;
 d=iol.unh.edu; s=unh-iol; t=1709230846; x=1709835646; darn=dpdk.org;
 h=references:in-reply-to:cc:to:from:subject:message-id:date:from:to
 :cc:subject:date:message-id:reply-to;
 bh=DUyaaiANXMhXk7e1OV5PD9jTNltb6yWKDaoLFHytgok=;
 b=KmCXfEbEE6nQ4RWGAfsCrzurenJPZMJx4q0S039Xy5ZPLOfpjKsj2Kb1psjPoP7CnN
 9u0V7/fNbXIjRHd0wfVOhoR9zm9GWeSmBMtKp17Nj7kB1nnMXYcf7IvQYL3F5f+72RD6
 ZP7PYVw3rXhrUH3x1ZiPQ6nx6zHZM7FiUVjE4=
X-Google-DKIM-Signature: v=1; a=rsa-sha256; c=relaxed/relaxed;
 d=1e100.net; s=20230601; t=1709230846; x=1709835646;
 h=references:in-reply-to:cc:to:from:subject:message-id:date
 :x-gm-message-state:from:to:cc:subject:date:message-id:reply-to;
 bh=DUyaaiANXMhXk7e1OV5PD9jTNltb6yWKDaoLFHytgok=;
 b=ndWo5P+t+7Z38Bmpz9elWsCdo94uo1qyyLR8hrMApzqqJEHW642lxHjf7pS3XPQ8e6
 8a5dg0JObirozMZERSrrt2+8GS6SFydwCa9eO6WcdhPCCYWmoEXhzLCbn10LuMQN3lwB
 ULfZgRxuMcGu3B5uLRBx2oZ7KQVbvsHNYPuuep56OcYeWa68Lj5uWzBiOATUTdf//W07
 qbs28TDfodzgnC2f9la1W5WyzrpJJ1D7lIY/2igqKT1Amx7pMG2FaJnq7/nW+VhZREjd
 7eUUUMEcitcM0nYdRM1/ibsaBvb1dMq5DzG9VOAorcXHtcxeTrQioXVlDIXUMGYW16uG
 BbFw==
X-Gm-Message-State: AOJu0YzIj/Xri3oprZwNvhqEDMPhNgj78IHdMe9mmrLlXMvbE/bTQz5G
 5iZ5gknzHjfck5O6RmlrW4ryQXGx99r2/xbqPiH7cB+K9BCIKylQ4o5EiDVt0KoL+z3fxNMqbKx
 rgK2HFK869LiuJ+MSBMi8uFiWa55EUwOIKxGyDzxiHHwiiWLtUrlD9Um7
X-Google-Smtp-Source: AGHT+IGKyJKt/qW/datuXPpoABUATany6AOj2xctcMceaNhjFyU05Wz9EN4Kc2AX4R6fAX0WKIjhEtGcJ8BV
X-Received: by 2002:a05:6871:4092:b0:21f:dec3:984f with SMTP id
 kz18-20020a056871409200b0021fdec3984fmr1277221oab.19.1709230845972; 
 Thu, 29 Feb 2024 10:20:45 -0800 (PST)
Received: from postal.iol.unh.edu (postal.iol.unh.edu.
 [2606:4100:3880:1234::84]) by smtp-relay.gmail.com with ESMTPS id
 be19-20020a056871b39300b0021f661114cbsm67900oac.30.2024.02.29.10.20.45
 (version=TLS1_2 cipher=ECDHE-ECDSA-AES128-GCM-SHA256 bits=128/128);
 Thu, 29 Feb 2024 10:20:45 -0800 (PST)
X-Relaying-Domain: iol.unh.edu
Date: Thu, 29 Feb 2024 10:20:45 -0800 (PST)
Message-ID: <65e0cafd.050a0220.6f714.4aa9SMTPIN_ADDED_MISSING@mx.google.com>
Received: from [172.21.0.6] (unknown [172.18.0.240])
 by postal.iol.unh.edu (Postfix) with ESMTP id 66B8E6052712;
 Thu, 29 Feb 2024 13:20:45 -0500 (EST)
Subject: |SUCCESS| pw137491-137493 [PATCH] [v11,3/3] net/af_xdp: support AF_X
From: dpdklab@iol.unh.edu
To: Test Report <test-report@dpdk.org>
Cc: dpdk-test-reports@iol.unh.edu
In-Reply-To: <20240229132129.656166-4-mtahhan@redhat.com>
References: <20240229132129.656166-4-mtahhan@redhat.com>
Content-Type: text/plain
X-BeenThere: test-report@dpdk.org
X-Mailman-Version: 2.1.29
Precedence: list
List-Id: automatic DPDK test reports <test-report.dpdk.org>
List-Unsubscribe: <https://mails.dpdk.org/options/test-report>,
 <mailto:test-report-request@dpdk.org?subject=unsubscribe>
List-Archive: <http://mails.dpdk.org/archives/test-report/>
List-Post: <mailto:test-report@dpdk.org>
List-Help: <mailto:test-report-request@dpdk.org?subject=help>
List-Subscribe: <https://mails.dpdk.org/listinfo/test-report>,
 <mailto:test-report-request@dpdk.org?subject=subscribe>
Errors-To: test-report-bounces@dpdk.org

Test-Label: iol-compile-amd64-testing
Test-Status: SUCCESS
http://dpdk.org/patch/137493

_Testing PASS_

Submitter: Maryam Tahhan <mtahhan@redhat.com>
Date: Thursday, February 29 2024 13:21:22 
DPDK git baseline: Repo:dpdk
  Branch: master
  CommitID:f60df26faa3c90fc66d356e16347acd046971441

137491-137493 --> testing pass

Test environment and result as below:

+---------------------+--------------------+----------------------+
|     Environment     | dpdk_meson_compile | dpdk_mingw64_compile |
+=====================+====================+======================+
| Debian Bullseye     | PASS               | SKIPPED              |
+---------------------+--------------------+----------------------+
| CentOS Stream 8     | PASS               | SKIPPED              |
+---------------------+--------------------+----------------------+
| Debian 12 (arm)     | PASS               | SKIPPED              |
+---------------------+--------------------+----------------------+
| CentOS Stream 9     | PASS               | SKIPPED              |
+---------------------+--------------------+----------------------+
| Fedora 38           | PASS               | SKIPPED              |
+---------------------+--------------------+----------------------+
| RHEL8               | PASS               | SKIPPED              |
+---------------------+--------------------+----------------------+
| Ubuntu 22.04        | PASS               | SKIPPED              |
+---------------------+--------------------+----------------------+
| FreeBSD 13.2        | PASS               | SKIPPED              |
+---------------------+--------------------+----------------------+
| Alpine              | PASS               | SKIPPED              |
+---------------------+--------------------+----------------------+
| Windows Server 2022 | PASS               | SKIPPED              |
+---------------------+--------------------+----------------------+
| Fedora 37           | PASS               | SKIPPED              |
+---------------------+--------------------+----------------------+
| openSUSE Leap 15    | PASS               | SKIPPED              |
+---------------------+--------------------+----------------------+
| Ubuntu 20.04        | PASS               | SKIPPED              |
+---------------------+--------------------+----------------------+
| Windows Server 2019 | PASS               | PASS                 |
+---------------------+--------------------+----------------------+


Debian Bullseye
	Kernel: 5.4.0-122-generic
	Compiler: gcc 10.2.1-6

CentOS Stream 8
	Kernel: 4.18.0-240.10.1.el8_3.x86_64
	Compiler: gcc 8.4.1 20200928

Debian 12 (arm)
	Kernel: Container Host Kernel
	Compiler: gcc 11

CentOS Stream 9
	Kernel: 4.18.0-240.10.1.el8_3.x86_64
	Compiler: gcc 11.3.1 20220421

Fedora 38
	Kernel: Depends on container host
	Compiler: gcc 13.1.1

RHEL8
	Kernel: 4.18.0-240.10.1.el8_3.x86_64
	Compiler: gcc 8.3.1 20191121 (Red Hat 8.3.1-5)

Ubuntu 22.04
	Kernel: 4.18.0-240.10.1.el8_3.x86_64
	Compiler: gcc 11.3.0

FreeBSD 13.2
	Kernel: 13.2
	Compiler: clang 11.3.0

Alpine
	Kernel: 5.4.0-73-generic
	Compiler: gcc (Alpine 10.3.1_git20210424) 10.3.1 20210424

Windows Server 2022
	Kernel: OS Build 20348.2031
	Compiler: MSVC VS-Preview

Fedora 37
	Kernel: Depends on container host system
	Compiler: gcc 12.3.1

openSUSE Leap 15
	Kernel: 4.18.0-240.10.1.el8_3.x86_64
	Compiler: gcc 7.5.0

Ubuntu 20.04
	Kernel: 5.4.0-153-generic
	Compiler: gcc 9.4.0-1ubuntu1~20.04.1

Windows Server 2019
	Kernel: 10.0
	Compiler: clang 14.0 and gcc 8.1.0 (MinGW)

To view detailed results, visit:
https://lab.dpdk.org/results/dashboard/patchsets/29336/

UNH-IOL DPDK Community Lab

To manage your email subscriptions, visit: 
https://lab.dpdk.org/results/dashboard/preferences/subscriptions/