From mboxrd@z Thu Jan  1 00:00:00 1970
Return-Path: <test-report-bounces@dpdk.org>
Received: from mails.dpdk.org (mails.dpdk.org [217.70.189.124])
	by inbox.dpdk.org (Postfix) with ESMTP id 3AA4E43B8D
	for <public@inbox.dpdk.org>; Thu, 29 Feb 2024 20:08:03 +0100 (CET)
Received: from mails.dpdk.org (localhost [127.0.0.1])
	by mails.dpdk.org (Postfix) with ESMTP id 364FF42E6A;
	Thu, 29 Feb 2024 20:08:03 +0100 (CET)
Received: from mail-qt1-f225.google.com (mail-qt1-f225.google.com
 [209.85.160.225])
 by mails.dpdk.org (Postfix) with ESMTP id 60044402ED
 for <test-report@dpdk.org>; Thu, 29 Feb 2024 20:07:29 +0100 (CET)
Received: by mail-qt1-f225.google.com with SMTP id
 d75a77b69052e-42a31b90edcso7833661cf.0
 for <test-report@dpdk.org>; Thu, 29 Feb 2024 11:07:29 -0800 (PST)
DKIM-Signature: v=1; a=rsa-sha256; c=relaxed/relaxed;
 d=iol.unh.edu; s=unh-iol; t=1709233649; x=1709838449; darn=dpdk.org;
 h=references:in-reply-to:cc:to:from:subject:message-id:date:from:to
 :cc:subject:date:message-id:reply-to;
 bh=C74ZoGJPAkVkkDn9MX32yMwa1OgT04RO2EhOZnGmMEI=;
 b=OliSun+JGK/juJHuHJZ6PdZkjTIZpUrh874DDvPFaCbrtxeIvO4XEA2KvLgOiJeq7w
 0ORHwJaV0RN3AiIAFX+vRrrkf1m9dgmIPefPNBC3wkfrqQvEacAdPaJNFWmtNYm1lr03
 ZpUezdQdrJot6+pPblqM0Lg2QEwsTAJnKqToM=
X-Google-DKIM-Signature: v=1; a=rsa-sha256; c=relaxed/relaxed;
 d=1e100.net; s=20230601; t=1709233649; x=1709838449;
 h=references:in-reply-to:cc:to:from:subject:message-id:date
 :x-gm-message-state:from:to:cc:subject:date:message-id:reply-to;
 bh=C74ZoGJPAkVkkDn9MX32yMwa1OgT04RO2EhOZnGmMEI=;
 b=jP/JEIfKUPlBbbkeno4byGNyiphnFLgZMSiUqjLSSJkURlvnFuFBJGx0Ol8ww9tOWx
 uZUUMnnnuV77bdXaDZpgF3k/7MW/q/ZyVjH4IUW0PaMjQH76eIRM4uyJUHlq545EvtDW
 A2syLdp4Y3ZTzKgIPH3dLZdeAXw30sjYLpCJRl+ahZHJkvIJLhte/sVr3pFxZ4rfPZVp
 6Pb8/xgTengc4+JCsme7L7n8RursTY2N5sWbvpXKnOoDggZYdBr6x4XQWqOztjVJ/7xQ
 OIrM4jcgqjfogHiv29jlKnnFH9tLSWeHiPrqqvTCaOkjzejO/cZqbd3M9UUrQ0cCixBp
 OJUw==
X-Gm-Message-State: AOJu0Yw71HTRLzIHxyP9k0sSAgC+HL2zt105Y4lP31DlWhG4rc2xh2aI
 vEEv/UBR+gjz1UJ0hG01t+Eo0/yHQ83t7Bv1MH8ILDR62GRvb2BhwrXlCte9lRecI/Jvx1Nrrf0
 tpZN4bDVx81dKgc6S+gA/mgN6OJJ/YR3yhNdyAMAEE8t4K9BQljR+4JBM
X-Google-Smtp-Source: AGHT+IELZxpJWFdaBKhFZFKXL/aguO7Z6afnGXtytS6RYLI2vXSnmwugM9J/Vr9LDdBv5ywcaTDkaNOR2FrF
X-Received: by 2002:ac8:1409:0:b0:42e:b9c9:e119 with SMTP id
 k9-20020ac81409000000b0042eb9c9e119mr2446716qtj.43.1709233648811; 
 Thu, 29 Feb 2024 11:07:28 -0800 (PST)
Received: from postal.iol.unh.edu (postal.iol.unh.edu.
 [2606:4100:3880:1234::84]) by smtp-relay.gmail.com with ESMTPS id
 r24-20020ac867d8000000b0042e63df1b82sm64939qtp.21.2024.02.29.11.07.28
 (version=TLS1_2 cipher=ECDHE-ECDSA-AES128-GCM-SHA256 bits=128/128);
 Thu, 29 Feb 2024 11:07:28 -0800 (PST)
X-Relaying-Domain: iol.unh.edu
Date: Thu, 29 Feb 2024 11:07:28 -0800 (PST)
Message-ID: <65e0d5f0.c80a0220.5fce.4209SMTPIN_ADDED_MISSING@mx.google.com>
Received: from [172.21.0.8] (unknown [172.18.0.240])
 by postal.iol.unh.edu (Postfix) with ESMTP id 84E7C6052712;
 Thu, 29 Feb 2024 14:07:28 -0500 (EST)
Subject: |SUCCESS| pw137501 [PATCH] [v2] net/mlx5: add HWS support for matchi
From: dpdklab@iol.unh.edu
To: Test Report <test-report@dpdk.org>
Cc: dpdk-test-reports@iol.unh.edu
In-Reply-To: <20240229134913.3197558-1-michaelba@nvidia.com>
References: <20240229134913.3197558-1-michaelba@nvidia.com>
Content-Type: text/plain
X-BeenThere: test-report@dpdk.org
X-Mailman-Version: 2.1.29
Precedence: list
List-Id: automatic DPDK test reports <test-report.dpdk.org>
List-Unsubscribe: <https://mails.dpdk.org/options/test-report>,
 <mailto:test-report-request@dpdk.org?subject=unsubscribe>
List-Archive: <http://mails.dpdk.org/archives/test-report/>
List-Post: <mailto:test-report@dpdk.org>
List-Help: <mailto:test-report-request@dpdk.org?subject=help>
List-Subscribe: <https://mails.dpdk.org/listinfo/test-report>,
 <mailto:test-report-request@dpdk.org?subject=subscribe>
Errors-To: test-report-bounces@dpdk.org

Test-Label: iol-abi-testing
Test-Status: SUCCESS
http://dpdk.org/patch/137501

_Testing PASS_

Submitter: Michael Baum <michaelba@nvidia.com>
Date: Thursday, February 29 2024 13:49:14 
DPDK git baseline: Repo:dpdk
  Branch: master
  CommitID:387aefe9fab8f1033071659a758ccda61a220ffd

137501 --> testing pass

Test environment and result as below:

+------------------+----------+
|   Environment    | abi_test |
+==================+==========+
| Debian 12 (arm)  | PASS     |
+------------------+----------+
| Fedora 37        | PASS     |
+------------------+----------+
| Debian Bullseye  | PASS     |
+------------------+----------+
| Fedora 38        | PASS     |
+------------------+----------+
| openSUSE Leap 15 | PASS     |
+------------------+----------+
| RHEL8            | PASS     |
+------------------+----------+
| CentOS Stream 9  | PASS     |
+------------------+----------+
| CentOS Stream 8  | PASS     |
+------------------+----------+
| Ubuntu 22.04     | PASS     |
+------------------+----------+


Debian 12 (arm)
	Kernel: Container Host Kernel
	Compiler: gcc 11

Fedora 37
	Kernel: Depends on container host system
	Compiler: gcc 12.3.1

Debian Bullseye
	Kernel: 5.4.0-122-generic
	Compiler: gcc 10.2.1-6

Fedora 38
	Kernel: Depends on container host
	Compiler: clang 16.0.3

openSUSE Leap 15
	Kernel: 4.18.0-240.10.1.el8_3.x86_64
	Compiler: gcc 7.5.0

RHEL8
	Kernel: 4.18.0-240.10.1.el8_3.x86_64
	Compiler: gcc 8.3.1 20191121 (Red Hat 8.3.1-5)

CentOS Stream 9
	Kernel: 4.18.0-240.10.1.el8_3.x86_64
	Compiler: gcc 11.3.1 20220421

CentOS Stream 8
	Kernel: 4.18.0-240.10.1.el8_3.x86_64
	Compiler: gcc 8.4.1 20200928

Ubuntu 22.04
	Kernel: 4.18.0-240.10.1.el8_3.x86_64
	Compiler: gcc 11.3.0

To view detailed results, visit:
https://lab.dpdk.org/results/dashboard/patchsets/29339/

UNH-IOL DPDK Community Lab

To manage your email subscriptions, visit: 
https://lab.dpdk.org/results/dashboard/preferences/subscriptions/