From mboxrd@z Thu Jan  1 00:00:00 1970
Return-Path: <test-report-bounces@dpdk.org>
Received: from mails.dpdk.org (mails.dpdk.org [217.70.189.124])
	by inbox.dpdk.org (Postfix) with ESMTP id 1036343B97
	for <public@inbox.dpdk.org>; Thu, 29 Feb 2024 20:20:37 +0100 (CET)
Received: from mails.dpdk.org (localhost [127.0.0.1])
	by mails.dpdk.org (Postfix) with ESMTP id 6965342FC7;
	Thu, 29 Feb 2024 20:20:36 +0100 (CET)
Received: from mail-yb1-f226.google.com (mail-yb1-f226.google.com
 [209.85.219.226])
 by mails.dpdk.org (Postfix) with ESMTP id 9C46F42D78
 for <test-report@dpdk.org>; Thu, 29 Feb 2024 20:19:15 +0100 (CET)
Received: by mail-yb1-f226.google.com with SMTP id
 3f1490d57ef6-dbed0710c74so1241166276.1
 for <test-report@dpdk.org>; Thu, 29 Feb 2024 11:19:15 -0800 (PST)
DKIM-Signature: v=1; a=rsa-sha256; c=relaxed/relaxed;
 d=iol.unh.edu; s=unh-iol; t=1709234355; x=1709839155; darn=dpdk.org;
 h=references:in-reply-to:cc:to:from:subject:message-id:date:from:to
 :cc:subject:date:message-id:reply-to;
 bh=C74ZoGJPAkVkkDn9MX32yMwa1OgT04RO2EhOZnGmMEI=;
 b=IjEr5lOEW0eh0f/befOYI4EC5NB6IcBBet0JxNVB37wIjQSnzI7OGIfVtYuFGrx0k8
 JxkZ/wT6Y8twXeLoZf3x4Yp5YTnkM+otDTkYMCOoIyseTECBH6FJAsy+RB0VLGH6KiJk
 /YDrojeIq/yiAiZpD5B37TJeafcOc/cZArc6Y=
X-Google-DKIM-Signature: v=1; a=rsa-sha256; c=relaxed/relaxed;
 d=1e100.net; s=20230601; t=1709234355; x=1709839155;
 h=references:in-reply-to:cc:to:from:subject:message-id:date
 :x-gm-message-state:from:to:cc:subject:date:message-id:reply-to;
 bh=C74ZoGJPAkVkkDn9MX32yMwa1OgT04RO2EhOZnGmMEI=;
 b=hbK2jwY7uQRBx4ykFRYZ+oLMXC48D9RCrKpOGrxljegevRAYILGwoDIu0063t1OhJP
 oTarg8hHs0NgJkQ99R5OpNCa11/T4p56YtIhmUiTM/EffRgvkwLU0L1KQVZM8F6/LN7C
 uQnp0Lm9F5CNmJS/I86dzhNO79rr60HHwGKzTS35y6Y2Y8vJ+j9BnUlmgHVoP7oDy7PI
 3ae3qzbiNAY/9pA+zZGf1jQ+WEN0L/M8kjza+xS0DX3gXjGw5aufyoioq78l1pIUyLC4
 +bwDLD2516VZVG9/cfvIpgCs/FnhFhXwqQ+yeuhIwD8L2y8q+3yFAxxs+fk+pdfZ5QzV
 VzXQ==
X-Gm-Message-State: AOJu0YwBrFwa9xfe+FMmHAugK1efsqr/+fUNHy8PZQI87f6gEvjzw1Rv
 p8Ya82P2SRr0hj5C3FXoxe+fAi8Us5PMNoy4T+lGX0FnRlorb6M1XbU6PuBHg4RU8qt3yhm2IjE
 eNsK+mrRlcIEXcikoqkhqAWxp1btmO6em0AcYADBfbFcRUylaycLyQbFH
X-Google-Smtp-Source: AGHT+IGb+ffFGOkcQ6VwOacOBSDy6pOg7feikCutfBbcgrdLH5TJ1DXTfdaMcMC7Sz/EEUItE30G22xVK+od
X-Received: by 2002:a25:664b:0:b0:dcc:9d30:58a0 with SMTP id
 z11-20020a25664b000000b00dcc9d3058a0mr2965010ybm.64.1709234355009; 
 Thu, 29 Feb 2024 11:19:15 -0800 (PST)
Received: from postal.iol.unh.edu (postal.iol.unh.edu.
 [2606:4100:3880:1234::84]) by smtp-relay.gmail.com with ESMTPS id
 j129-20020a253c87000000b00dc226dbfac9sm108164yba.9.2024.02.29.11.19.14
 (version=TLS1_2 cipher=ECDHE-ECDSA-AES128-GCM-SHA256 bits=128/128);
 Thu, 29 Feb 2024 11:19:14 -0800 (PST)
X-Relaying-Domain: iol.unh.edu
Date: Thu, 29 Feb 2024 11:19:14 -0800 (PST)
Message-ID: <65e0d8b2.250a0220.f53b0.6f0bSMTPIN_ADDED_MISSING@mx.google.com>
Received: from [172.21.0.7] (unknown [172.18.0.240])
 by postal.iol.unh.edu (Postfix) with ESMTP id 823FF6052712;
 Thu, 29 Feb 2024 14:19:14 -0500 (EST)
Subject: |SUCCESS| pw137501 [PATCH] [v2] net/mlx5: add HWS support for matchi
From: dpdklab@iol.unh.edu
To: Test Report <test-report@dpdk.org>
Cc: dpdk-test-reports@iol.unh.edu
In-Reply-To: <20240229134913.3197558-1-michaelba@nvidia.com>
References: <20240229134913.3197558-1-michaelba@nvidia.com>
Content-Type: text/plain
X-BeenThere: test-report@dpdk.org
X-Mailman-Version: 2.1.29
Precedence: list
List-Id: automatic DPDK test reports <test-report.dpdk.org>
List-Unsubscribe: <https://mails.dpdk.org/options/test-report>,
 <mailto:test-report-request@dpdk.org?subject=unsubscribe>
List-Archive: <http://mails.dpdk.org/archives/test-report/>
List-Post: <mailto:test-report@dpdk.org>
List-Help: <mailto:test-report-request@dpdk.org?subject=help>
List-Subscribe: <https://mails.dpdk.org/listinfo/test-report>,
 <mailto:test-report-request@dpdk.org?subject=subscribe>
Errors-To: test-report-bounces@dpdk.org

Test-Label: iol-abi-testing
Test-Status: SUCCESS
http://dpdk.org/patch/137501

_Testing PASS_

Submitter: Michael Baum <michaelba@nvidia.com>
Date: Thursday, February 29 2024 13:49:14 
DPDK git baseline: Repo:dpdk
  Branch: master
  CommitID:387aefe9fab8f1033071659a758ccda61a220ffd

137501 --> testing pass

Test environment and result as below:

+------------------+----------+
|   Environment    | abi_test |
+==================+==========+
| Debian 12 (arm)  | PASS     |
+------------------+----------+
| Fedora 37        | PASS     |
+------------------+----------+
| Debian Bullseye  | PASS     |
+------------------+----------+
| Fedora 38        | PASS     |
+------------------+----------+
| openSUSE Leap 15 | PASS     |
+------------------+----------+
| RHEL8            | PASS     |
+------------------+----------+
| CentOS Stream 9  | PASS     |
+------------------+----------+
| CentOS Stream 8  | PASS     |
+------------------+----------+
| Ubuntu 22.04     | PASS     |
+------------------+----------+


Debian 12 (arm)
	Kernel: Container Host Kernel
	Compiler: gcc 11

Fedora 37
	Kernel: Depends on container host system
	Compiler: gcc 12.3.1

Debian Bullseye
	Kernel: 5.4.0-122-generic
	Compiler: gcc 10.2.1-6

Fedora 38
	Kernel: Depends on container host
	Compiler: clang 16.0.3

openSUSE Leap 15
	Kernel: 4.18.0-240.10.1.el8_3.x86_64
	Compiler: gcc 7.5.0

RHEL8
	Kernel: 4.18.0-240.10.1.el8_3.x86_64
	Compiler: gcc 8.3.1 20191121 (Red Hat 8.3.1-5)

CentOS Stream 9
	Kernel: 4.18.0-240.10.1.el8_3.x86_64
	Compiler: gcc 11.3.1 20220421

CentOS Stream 8
	Kernel: 4.18.0-240.10.1.el8_3.x86_64
	Compiler: gcc 8.4.1 20200928

Ubuntu 22.04
	Kernel: 4.18.0-240.10.1.el8_3.x86_64
	Compiler: gcc 11.3.0

To view detailed results, visit:
https://lab.dpdk.org/results/dashboard/patchsets/29339/

UNH-IOL DPDK Community Lab

To manage your email subscriptions, visit: 
https://lab.dpdk.org/results/dashboard/preferences/subscriptions/