From mboxrd@z Thu Jan  1 00:00:00 1970
Return-Path: <test-report-bounces@dpdk.org>
Received: from mails.dpdk.org (mails.dpdk.org [217.70.189.124])
	by inbox.dpdk.org (Postfix) with ESMTP id 6755443BA2
	for <public@inbox.dpdk.org>; Thu, 29 Feb 2024 20:36:00 +0100 (CET)
Received: from mails.dpdk.org (localhost [127.0.0.1])
	by mails.dpdk.org (Postfix) with ESMTP id 5F32E42DDD;
	Thu, 29 Feb 2024 20:36:00 +0100 (CET)
Received: from mail-oa1-f100.google.com (mail-oa1-f100.google.com
 [209.85.160.100])
 by mails.dpdk.org (Postfix) with ESMTP id 1ADBD427DE
 for <test-report@dpdk.org>; Thu, 29 Feb 2024 20:35:48 +0100 (CET)
Received: by mail-oa1-f100.google.com with SMTP id
 586e51a60fabf-21e9589d4ffso746300fac.1
 for <test-report@dpdk.org>; Thu, 29 Feb 2024 11:35:48 -0800 (PST)
DKIM-Signature: v=1; a=rsa-sha256; c=relaxed/relaxed;
 d=iol.unh.edu; s=unh-iol; t=1709235347; x=1709840147; darn=dpdk.org;
 h=references:in-reply-to:cc:to:from:subject:message-id:date:from:to
 :cc:subject:date:message-id:reply-to;
 bh=zvz93SDyJy4/sx7JDvRJ0C9iPQkBrDER8+6JU8kw94U=;
 b=V7b5y+IABNcq/W8DMKknNStvkyLikfKBrd5aa/nKO2oVkeOGrTOeK428dvFGag7+1h
 XoxSILFcGHPszqyN2HlKLcU6vIWZOzW+3iLv4bo47UNfcyX1Ggxl29EJxBEkX0ov6H/E
 KBJ+nI1PsrIR49yh21djXwEPnaNK2N4qlN/z0=
X-Google-DKIM-Signature: v=1; a=rsa-sha256; c=relaxed/relaxed;
 d=1e100.net; s=20230601; t=1709235347; x=1709840147;
 h=references:in-reply-to:cc:to:from:subject:message-id:date
 :x-gm-message-state:from:to:cc:subject:date:message-id:reply-to;
 bh=zvz93SDyJy4/sx7JDvRJ0C9iPQkBrDER8+6JU8kw94U=;
 b=iyGUja1+fMliPlvCXsNtkhqu2vgTn/5KthPr1yGxBlYK4fTpoCIp5WA24HXp9iOfuB
 KiGeVor0c3Y3Rx0MH9FVgTdxG1gzITgbNOGqmvHGQRqIpl740TzpuzVOvuIfGR8D1xXG
 VGPppISHp4duz+Ua83fpJVq7Fc0aFY9FYWsm5mr4x8vLgo9OSS1F6Tiz6heRmU+EORii
 E8i3EmIlzZbyEbkDuNkSYyNyhxA/jXknXtNIaP6LapEpUfX6s8QpZYrfrtRacT2e2bN3
 4sZARfHmjBgm8v+1Y3NgHeO75QOtMwW2YR4x51qvukMdHWnE0NQ0395aWWNuWHcwu+ZJ
 5vQQ==
X-Gm-Message-State: AOJu0YzdyHKFA+zjgo20m5YnZUcWxJy2b2DpVzEHNl/rCeN7JtpOyXxA
 znH5GRu/2ABZQfIoofXGvekLYr/HAu/93mkHFqD2ywTmg2wRxWC3QdcFxbmkddch8T3LN/x8Oxs
 WLh9BYhRtFqKTmuOs0LbGIq9QvgYl+U5XEK9GGEc1
X-Google-Smtp-Source: AGHT+IG6heRTb3+iClGA/puClLmiJO7JOlBREeWWDdY6C79O2GJdPhW4AXNnhj6+X2zwEu1i2RgtK7WIJcLC
X-Received: by 2002:a05:6871:5ca:b0:21e:e606:9217 with SMTP id
 v10-20020a05687105ca00b0021ee6069217mr3225513oan.20.1709235346846; 
 Thu, 29 Feb 2024 11:35:46 -0800 (PST)
Received: from postal.iol.unh.edu (postal.iol.unh.edu. [132.177.123.84])
 by smtp-relay.gmail.com with ESMTPS id
 r25-20020a056830121900b006e481c0034asm84602otp.14.2024.02.29.11.35.46
 (version=TLS1_2 cipher=ECDHE-ECDSA-AES128-GCM-SHA256 bits=128/128);
 Thu, 29 Feb 2024 11:35:46 -0800 (PST)
X-Relaying-Domain: iol.unh.edu
Date: Thu, 29 Feb 2024 11:35:46 -0800 (PST)
Message-ID: <65e0dc92.050a0220.112e.4bd7SMTPIN_ADDED_MISSING@mx.google.com>
Received: from [172.17.0.7] (unknown [172.18.0.217])
 by postal.iol.unh.edu (Postfix) with ESMTP id 507436052712;
 Thu, 29 Feb 2024 14:35:46 -0500 (EST)
Subject: |SUCCESS| pw137488-137489 [PATCH] [v10,3/3] net/af_xdp: support AF_X
From: dpdklab@iol.unh.edu
To: Test Report <test-report@dpdk.org>
Cc: dpdk-test-reports@iol.unh.edu
In-Reply-To: <20240229130212.343036-4-mtahhan@redhat.com>
References: <20240229130212.343036-4-mtahhan@redhat.com>
Content-Type: text/plain
X-BeenThere: test-report@dpdk.org
X-Mailman-Version: 2.1.29
Precedence: list
List-Id: automatic DPDK test reports <test-report.dpdk.org>
List-Unsubscribe: <https://mails.dpdk.org/options/test-report>,
 <mailto:test-report-request@dpdk.org?subject=unsubscribe>
List-Archive: <http://mails.dpdk.org/archives/test-report/>
List-Post: <mailto:test-report@dpdk.org>
List-Help: <mailto:test-report-request@dpdk.org?subject=help>
List-Subscribe: <https://mails.dpdk.org/listinfo/test-report>,
 <mailto:test-report-request@dpdk.org?subject=subscribe>
Errors-To: test-report-bounces@dpdk.org

Test-Label: iol-compile-amd64-testing
Test-Status: SUCCESS
http://dpdk.org/patch/137489

_Testing PASS_

Submitter: Maryam Tahhan <mtahhan@redhat.com>
Date: Thursday, February 29 2024 13:01:24 
DPDK git baseline: Repo:dpdk
  Branch: master
  CommitID:f60df26faa3c90fc66d356e16347acd046971441

137488-137489 --> testing pass

Test environment and result as below:

+---------------------+--------------------+----------------------+
|     Environment     | dpdk_meson_compile | dpdk_mingw64_compile |
+=====================+====================+======================+
| CentOS Stream 9     | PASS               | SKIPPED              |
+---------------------+--------------------+----------------------+
| Debian Bullseye     | PASS               | SKIPPED              |
+---------------------+--------------------+----------------------+
| Fedora 37           | PASS               | SKIPPED              |
+---------------------+--------------------+----------------------+
| Fedora 38           | PASS               | SKIPPED              |
+---------------------+--------------------+----------------------+
| Debian 12 (arm)     | PASS               | SKIPPED              |
+---------------------+--------------------+----------------------+
| CentOS Stream 8     | PASS               | SKIPPED              |
+---------------------+--------------------+----------------------+
| FreeBSD 13.2        | PASS               | SKIPPED              |
+---------------------+--------------------+----------------------+
| Ubuntu 22.04        | PASS               | SKIPPED              |
+---------------------+--------------------+----------------------+
| Ubuntu 20.04        | PASS               | SKIPPED              |
+---------------------+--------------------+----------------------+
| openSUSE Leap 15    | PASS               | SKIPPED              |
+---------------------+--------------------+----------------------+
| RHEL8               | PASS               | SKIPPED              |
+---------------------+--------------------+----------------------+
| Alpine              | PASS               | SKIPPED              |
+---------------------+--------------------+----------------------+
| Windows Server 2022 | PASS               | SKIPPED              |
+---------------------+--------------------+----------------------+
| Windows Server 2019 | PASS               | PASS                 |
+---------------------+--------------------+----------------------+


CentOS Stream 9
	Kernel: 4.18.0-240.10.1.el8_3.x86_64
	Compiler: gcc 11.3.1 20220421

Debian Bullseye
	Kernel: 5.4.0-122-generic
	Compiler: gcc 10.2.1-6

Fedora 37
	Kernel: Depends on container host system
	Compiler: gcc 12.3.1

Fedora 38
	Kernel: Depends on container host
	Compiler: gcc 13.1.1

Debian 12 (arm)
	Kernel: Container Host Kernel
	Compiler: gcc 11

CentOS Stream 8
	Kernel: 4.18.0-240.10.1.el8_3.x86_64
	Compiler: gcc 8.4.1 20200928

FreeBSD 13.2
	Kernel: 13.2
	Compiler: clang 11.3.0

Ubuntu 22.04
	Kernel: 4.18.0-240.10.1.el8_3.x86_64
	Compiler: gcc 11.3.0

Ubuntu 20.04
	Kernel: 5.4.0-153-generic
	Compiler: gcc 9.4.0-1ubuntu1~20.04.1

openSUSE Leap 15
	Kernel: 4.18.0-240.10.1.el8_3.x86_64
	Compiler: gcc 7.5.0

RHEL8
	Kernel: 4.18.0-240.10.1.el8_3.x86_64
	Compiler: gcc 8.3.1 20191121 (Red Hat 8.3.1-5)

Alpine
	Kernel: 5.4.0-73-generic
	Compiler: gcc (Alpine 10.3.1_git20210424) 10.3.1 20210424

Windows Server 2022
	Kernel: OS Build 20348.2031
	Compiler: MSVC VS-Preview

Windows Server 2019
	Kernel: 10.0
	Compiler: clang 14.0 and gcc 8.1.0 (MinGW)

To view detailed results, visit:
https://lab.dpdk.org/results/dashboard/patchsets/29335/

UNH-IOL DPDK Community Lab

To manage your email subscriptions, visit: 
https://lab.dpdk.org/results/dashboard/preferences/subscriptions/