From mboxrd@z Thu Jan  1 00:00:00 1970
Return-Path: <test-report-bounces@dpdk.org>
Received: from mails.dpdk.org (mails.dpdk.org [217.70.189.124])
	by inbox.dpdk.org (Postfix) with ESMTP id E52EB43BAB
	for <public@inbox.dpdk.org>; Thu, 29 Feb 2024 20:55:03 +0100 (CET)
Received: from mails.dpdk.org (localhost [127.0.0.1])
	by mails.dpdk.org (Postfix) with ESMTP id 0F63E432FC;
	Thu, 29 Feb 2024 20:55:03 +0100 (CET)
Received: from mail-pl1-f228.google.com (mail-pl1-f228.google.com
 [209.85.214.228])
 by mails.dpdk.org (Postfix) with ESMTP id AA04F43281
 for <test-report@dpdk.org>; Thu, 29 Feb 2024 20:55:01 +0100 (CET)
Received: by mail-pl1-f228.google.com with SMTP id
 d9443c01a7336-1dcab44747bso12282435ad.1
 for <test-report@dpdk.org>; Thu, 29 Feb 2024 11:55:01 -0800 (PST)
DKIM-Signature: v=1; a=rsa-sha256; c=relaxed/relaxed;
 d=iol.unh.edu; s=unh-iol; t=1709236501; x=1709841301; darn=dpdk.org;
 h=references:in-reply-to:cc:to:from:subject:message-id:date:from:to
 :cc:subject:date:message-id:reply-to;
 bh=e5w/l2aZdDjmznpeu4yC/M50Qs4KzKFO2QJXwe4zKas=;
 b=N2Ucp6WYmKt9xkoWjrIjSIKab9P4BwGfL1nvtGaYn90Qk50c9/ixbX64DK4Zym4d+F
 Sn41QFAaN+dSvTx2gNsY1SRMhqbkWGa1kiBvPY2TuhCOGpH/c4Ly5QOLC+CZeqKO0FCU
 ufGRU4TjGLqqQ9F4SlN22hATdrWCiDFFHZI9U=
X-Google-DKIM-Signature: v=1; a=rsa-sha256; c=relaxed/relaxed;
 d=1e100.net; s=20230601; t=1709236501; x=1709841301;
 h=references:in-reply-to:cc:to:from:subject:message-id:date
 :x-gm-message-state:from:to:cc:subject:date:message-id:reply-to;
 bh=e5w/l2aZdDjmznpeu4yC/M50Qs4KzKFO2QJXwe4zKas=;
 b=ThQtViU+ojq4pyZCaKZpNl6EMsnTSA1AZiUCfStUBSit++bTptpIzIULoy8f3SZdia
 0W4wMLJaDzDkYBE+13exRM0/DLxDzfNjj+cLJZ+TYOTEhWCg93xItAMnJIPMM8vfkub8
 yw2DSw9krteHa+axmlDITcX1JGDz0dJnD3Zgck42XatiKCicHiau/3dig99rdrIYNvBG
 SwFJaKrn9xisED1X0sVR+pBSY7/eJnytAB4GmMGe+Ih82pQgszls0Vbmq8+O5D+g87fv
 y11oP67VDaBvU5rMA2hG2+DAZPJgZLBaVxDYVeTkno3EPjTviQATUP+ezddX85JM0ofN
 D11Q==
X-Gm-Message-State: AOJu0YyhGeoy8sp5WSqaL/zj31LkJ/QQHF5bTSkPFx3raKcVLfJSmyMY
 6CEqhqO3zQfiR0ZkHc1n8CAEUuiJls8Roxj77B6hEb4YJtDKD9fx1kTKx1VoQcQ3+IQZ7c7a9+0
 eEQ7Gvuoe6KLDEh5ekMZCEHzjtws5hxnAi5WDBgeVHQpOCm+k7llZEc31
X-Google-Smtp-Source: AGHT+IGRBqsRpAqd2ngZtP5xt6VSVbkYqRzSyRRD5rL4qytcNHsY8SeBJb21TZBSwF8U4CVV4Pmy3jLF+AnL
X-Received: by 2002:a17:903:2347:b0:1db:d7a8:8508 with SMTP id
 c7-20020a170903234700b001dbd7a88508mr3169599plh.52.1709236500948; 
 Thu, 29 Feb 2024 11:55:00 -0800 (PST)
Received: from postal.iol.unh.edu (postal.iol.unh.edu.
 [2606:4100:3880:1234::84]) by smtp-relay.gmail.com with ESMTPS id
 jw5-20020a170903278500b001db4af8701asm54011plb.98.2024.02.29.11.55.00
 (version=TLS1_2 cipher=ECDHE-ECDSA-AES128-GCM-SHA256 bits=128/128);
 Thu, 29 Feb 2024 11:55:00 -0800 (PST)
X-Relaying-Domain: iol.unh.edu
Date: Thu, 29 Feb 2024 11:55:00 -0800 (PST)
Message-ID: <65e0e114.170a0220.49e8a.3cbcSMTPIN_ADDED_MISSING@mx.google.com>
Received: from [172.17.0.7] (unknown [172.18.0.217])
 by postal.iol.unh.edu (Postfix) with ESMTP id 6634A6052712;
 Thu, 29 Feb 2024 14:55:00 -0500 (EST)
Subject: |SUCCESS| pw137487 [PATCH] [v1] ethdev: add Linux ethtool link mode 
From: dpdklab@iol.unh.edu
To: Test Report <test-report@dpdk.org>
Cc: dpdk-test-reports@iol.unh.edu
In-Reply-To: <20240229123653.1379466-1-thomas@monjalon.net>
References: <20240229123653.1379466-1-thomas@monjalon.net>
Content-Type: text/plain
X-BeenThere: test-report@dpdk.org
X-Mailman-Version: 2.1.29
Precedence: list
List-Id: automatic DPDK test reports <test-report.dpdk.org>
List-Unsubscribe: <https://mails.dpdk.org/options/test-report>,
 <mailto:test-report-request@dpdk.org?subject=unsubscribe>
List-Archive: <http://mails.dpdk.org/archives/test-report/>
List-Post: <mailto:test-report@dpdk.org>
List-Help: <mailto:test-report-request@dpdk.org?subject=help>
List-Subscribe: <https://mails.dpdk.org/listinfo/test-report>,
 <mailto:test-report-request@dpdk.org?subject=subscribe>
Errors-To: test-report-bounces@dpdk.org

Test-Label: iol-compile-arm64-testing
Test-Status: SUCCESS
http://dpdk.org/patch/137487

_Testing PASS_

Submitter: Thomas Monjalon <thomas@monjalon.net>
Date: Thursday, February 29 2024 12:34:27 
DPDK git baseline: Repo:dpdk
  Branch: master
  CommitID:f60df26faa3c90fc66d356e16347acd046971441

137487 --> testing pass

Test environment and result as below:

+--------------------------------------+--------------------+
|             Environment              | dpdk_meson_compile |
+======================================+====================+
| Ubuntu 20.04 ARM SVE                 | PASS               |
+--------------------------------------+--------------------+
| Fedora 37 (ARM)                      | PASS               |
+--------------------------------------+--------------------+
| Fedora 38 (ARM)                      | PASS               |
+--------------------------------------+--------------------+
| Ubuntu 20.04 (ARM)                   | PASS               |
+--------------------------------------+--------------------+
| Debian 11 (Buster) (ARM)             | PASS               |
+--------------------------------------+--------------------+
| CentOS Stream 9 (ARM)                | PASS               |
+--------------------------------------+--------------------+
| Ubuntu 20.04 ARM Clang Cross Compile | PASS               |
+--------------------------------------+--------------------+
| Ubuntu 20.04 ARM GCC Cross Compile   | PASS               |
+--------------------------------------+--------------------+


Ubuntu 20.04 ARM SVE
	Kernel: 5.4.0-80-generic
	Compiler: gcc 10.3.0 (Ubuntu 10.3.0-1ubuntu1~20.04)

Fedora 37 (ARM)
	Kernel: Depends on container host
	Compiler: gcc 12.3.1

Fedora 38 (ARM)
	Kernel: Depends on container host
	Compiler: gcc 13.1.1

Ubuntu 20.04 (ARM)
	Kernel: Container Host Kernel
	Compiler: gcc 9.4.0

Debian 11 (Buster) (ARM)
	Kernel: Container Host Kernel
	Compiler: gcc 10.2.1

CentOS Stream 9 (ARM)
	Kernel: Container Host Kernel
	Compiler: gcc 11.3.1

Ubuntu 20.04 ARM Clang Cross Compile
	Kernel: 5.4.0-72-generic
	Compiler: clang version 10.0.0-4ubuntu1

Ubuntu 20.04 ARM GCC Cross Compile
	Kernel: 5.4.0-72-generic
	Compiler: aarch64-linux-gnu-gcc (Ubuntu 9.3.0-17ubuntu1~20.04) 9.3.0

To view detailed results, visit:
https://lab.dpdk.org/results/dashboard/patchsets/29334/

UNH-IOL DPDK Community Lab

To manage your email subscriptions, visit: 
https://lab.dpdk.org/results/dashboard/preferences/subscriptions/