From mboxrd@z Thu Jan  1 00:00:00 1970
Return-Path: <test-report-bounces@dpdk.org>
Received: from mails.dpdk.org (mails.dpdk.org [217.70.189.124])
	by inbox.dpdk.org (Postfix) with ESMTP id 5534F43BAB
	for <public@inbox.dpdk.org>; Thu, 29 Feb 2024 20:56:59 +0100 (CET)
Received: from mails.dpdk.org (localhost [127.0.0.1])
	by mails.dpdk.org (Postfix) with ESMTP id C76D9432C4;
	Thu, 29 Feb 2024 20:56:56 +0100 (CET)
Received: from mail-io1-f98.google.com (mail-io1-f98.google.com
 [209.85.166.98]) by mails.dpdk.org (Postfix) with ESMTP id 3D612432C4
 for <test-report@dpdk.org>; Thu, 29 Feb 2024 20:56:31 +0100 (CET)
Received: by mail-io1-f98.google.com with SMTP id
 ca18e2360f4ac-7c7ee7fa1abso69301939f.1
 for <test-report@dpdk.org>; Thu, 29 Feb 2024 11:56:31 -0800 (PST)
DKIM-Signature: v=1; a=rsa-sha256; c=relaxed/relaxed;
 d=iol.unh.edu; s=unh-iol; t=1709236590; x=1709841390; darn=dpdk.org;
 h=references:in-reply-to:cc:to:from:subject:message-id:date:from:to
 :cc:subject:date:message-id:reply-to;
 bh=8OGDGuC/GxiiXf2lhOoCy/CId3rNQuIstefD6MbB9zA=;
 b=bUhLLf8eFnuNJd6/ONOjg4JIavPtv/J0Sa4XT8ir+3V87h3BRuLg3hjKo/bXwtYWUi
 73hV34+HQzVctugdCEeggw3L2e8BG+F6izyOBIFo+Czd32bQkvj2Ps4FiEVrzBc3luiS
 xnhF4qRaUVr2NycP/lHLaf1j1gCXc3w4hmK6s=
X-Google-DKIM-Signature: v=1; a=rsa-sha256; c=relaxed/relaxed;
 d=1e100.net; s=20230601; t=1709236590; x=1709841390;
 h=references:in-reply-to:cc:to:from:subject:message-id:date
 :x-gm-message-state:from:to:cc:subject:date:message-id:reply-to;
 bh=8OGDGuC/GxiiXf2lhOoCy/CId3rNQuIstefD6MbB9zA=;
 b=ZLh/gYJZtBUWWmRTwNjVWF0zG3j7bTkaWlpsMjIUBXMK6RyRFYCrRvKQESprGOJLaZ
 dt70TP/f0WbhdMXU2jXnM4o5lZciXmg180XH/n2G1ENhqXrg+E6pGXW1bM+a0LYgCnXf
 KUOyesdrp9nsDMIqDLqgWwbU331F1/bhmIGJeEWrYLrdmVDqaDDMIKMY4zDFXaEdqwbZ
 obd67dTJKXTXgkQsJAPBpwjEefx2aK1DoBEQiKXZ6AER4z5JfAou23MZRcYqpCNuFmc8
 bw+TKMpTs6dsP8LAKNyBH6y9ZV/vEyuv9+lJO7aBOPFWV0U/m4x55J7AKx+Ewgkp2Bmy
 KiPg==
X-Gm-Message-State: AOJu0YySYYeuj4pYm0wmxOEfiFQHlEO659U7JXRJjitnGPsAIWDkEpSo
 s33jVflZk577qEqBdcem1i9TG37i9gS1vooM7SgCgOkRH3srHCo//HV8thizsXilGxARrRKYJ/3
 nKi5c6uc2bsTaFBKROU2J3a/mBNStA4gtvZzmwY+Ij/3MN2FEJzV4DpnU
X-Google-Smtp-Source: AGHT+IEhVcsS1lZ6Kw9fnewnZaJBc3E56aB0OGJHPsdQYb1+aVpvVj0/3KQ082oFNlhen1jiZ8DO9qHQu3fI
X-Received: by 2002:a05:6e02:1d13:b0:365:1d6b:7c67 with SMTP id
 i19-20020a056e021d1300b003651d6b7c67mr68075ila.12.1709236590673; 
 Thu, 29 Feb 2024 11:56:30 -0800 (PST)
Received: from postal.iol.unh.edu (postal.iol.unh.edu.
 [2606:4100:3880:1234::84]) by smtp-relay.gmail.com with ESMTPS id
 by10-20020a056e02260a00b00363a24654adsm107015ilb.12.2024.02.29.11.56.30
 (version=TLS1_2 cipher=ECDHE-ECDSA-AES128-GCM-SHA256 bits=128/128);
 Thu, 29 Feb 2024 11:56:30 -0800 (PST)
X-Relaying-Domain: iol.unh.edu
Date: Thu, 29 Feb 2024 11:56:30 -0800 (PST)
Message-ID: <65e0e16e.050a0220.d4dd2.7367SMTPIN_ADDED_MISSING@mx.google.com>
Received: from [172.17.0.7] (unknown [172.18.0.217])
 by postal.iol.unh.edu (Postfix) with ESMTP id 545926052712;
 Thu, 29 Feb 2024 14:56:30 -0500 (EST)
Subject: |SUCCESS| pw137487 [PATCH] [v1] ethdev: add Linux ethtool link mode 
From: dpdklab@iol.unh.edu
To: Test Report <test-report@dpdk.org>
Cc: dpdk-test-reports@iol.unh.edu
In-Reply-To: <20240229123653.1379466-1-thomas@monjalon.net>
References: <20240229123653.1379466-1-thomas@monjalon.net>
Content-Type: text/plain
X-BeenThere: test-report@dpdk.org
X-Mailman-Version: 2.1.29
Precedence: list
List-Id: automatic DPDK test reports <test-report.dpdk.org>
List-Unsubscribe: <https://mails.dpdk.org/options/test-report>,
 <mailto:test-report-request@dpdk.org?subject=unsubscribe>
List-Archive: <http://mails.dpdk.org/archives/test-report/>
List-Post: <mailto:test-report@dpdk.org>
List-Help: <mailto:test-report-request@dpdk.org?subject=help>
List-Subscribe: <https://mails.dpdk.org/listinfo/test-report>,
 <mailto:test-report-request@dpdk.org?subject=subscribe>
Errors-To: test-report-bounces@dpdk.org

Test-Label: iol-unit-amd64-testing
Test-Status: SUCCESS
http://dpdk.org/patch/137487

_Testing PASS_

Submitter: Thomas Monjalon <thomas@monjalon.net>
Date: Thursday, February 29 2024 12:34:27 
DPDK git baseline: Repo:dpdk
  Branch: master
  CommitID:f60df26faa3c90fc66d356e16347acd046971441

137487 --> testing pass

Test environment and result as below:

+------------------+----------------+
|   Environment    | dpdk_unit_test |
+==================+================+
| CentOS Stream 8  | PASS           |
+------------------+----------------+
| Fedora 37        | PASS           |
+------------------+----------------+
| Debian 12 (arm)  | PASS           |
+------------------+----------------+
| CentOS Stream 9  | PASS           |
+------------------+----------------+
| Debian Bullseye  | PASS           |
+------------------+----------------+
| RHEL8            | PASS           |
+------------------+----------------+
| Fedora 38        | PASS           |
+------------------+----------------+
| openSUSE Leap 15 | PASS           |
+------------------+----------------+
| Ubuntu 20.04     | PASS           |
+------------------+----------------+
| Ubuntu 22.04     | PASS           |
+------------------+----------------+


CentOS Stream 8
	Kernel: 4.18.0-240.10.1.el8_3.x86_64
	Compiler: gcc 8.4.1 20200928

Fedora 37
	Kernel: Depends on container host system
	Compiler: gcc 12.3.1

Debian 12 (arm)
	Kernel: Container Host Kernel
	Compiler: gcc 11

CentOS Stream 9
	Kernel: 4.18.0-240.10.1.el8_3.x86_64
	Compiler: gcc 11.3.1 20220421

Debian Bullseye
	Kernel: 5.4.0-122-generic
	Compiler: gcc 10.2.1-6

RHEL8
	Kernel: 4.18.0-240.10.1.el8_3.x86_64
	Compiler: gcc 8.3.1 20191121 (Red Hat 8.3.1-5)

Fedora 38
	Kernel: Depends on container host
	Compiler: clang 16.0.3

openSUSE Leap 15
	Kernel: 4.18.0-240.10.1.el8_3.x86_64
	Compiler: gcc 7.5.0

Ubuntu 20.04
	Kernel: 5.4.0-153-generic
	Compiler: gcc 9.4.0-1ubuntu1~20.04.1

Ubuntu 22.04
	Kernel: 4.18.0-240.10.1.el8_3.x86_64
	Compiler: gcc 11.3.0

To view detailed results, visit:
https://lab.dpdk.org/results/dashboard/patchsets/29334/

UNH-IOL DPDK Community Lab

To manage your email subscriptions, visit: 
https://lab.dpdk.org/results/dashboard/preferences/subscriptions/