From mboxrd@z Thu Jan  1 00:00:00 1970
Return-Path: <test-report-bounces@dpdk.org>
Received: from mails.dpdk.org (mails.dpdk.org [217.70.189.124])
	by inbox.dpdk.org (Postfix) with ESMTP id 377AE43BAB
	for <public@inbox.dpdk.org>; Thu, 29 Feb 2024 21:59:56 +0100 (CET)
Received: from mails.dpdk.org (localhost [127.0.0.1])
	by mails.dpdk.org (Postfix) with ESMTP id 18D0C42DCB;
	Thu, 29 Feb 2024 21:59:56 +0100 (CET)
Received: from mail-qv1-f98.google.com (mail-qv1-f98.google.com
 [209.85.219.98]) by mails.dpdk.org (Postfix) with ESMTP id 3CF4942DBD
 for <test-report@dpdk.org>; Thu, 29 Feb 2024 21:59:55 +0100 (CET)
Received: by mail-qv1-f98.google.com with SMTP id
 6a1803df08f44-6904a5d71abso5196586d6.1
 for <test-report@dpdk.org>; Thu, 29 Feb 2024 12:59:55 -0800 (PST)
DKIM-Signature: v=1; a=rsa-sha256; c=relaxed/relaxed;
 d=iol.unh.edu; s=unh-iol; t=1709240394; x=1709845194; darn=dpdk.org;
 h=references:in-reply-to:cc:to:from:subject:message-id:date:from:to
 :cc:subject:date:message-id:reply-to;
 bh=zstG12Gz8xHnn6b/GwJ8cclqfGEjSVjbixcoPSDVdJ4=;
 b=gVDvRGeHlCWdLvkYhpM1ze5UbxiyK5ey8La5WdP8mHX+uxOApK6ocQzqFcqvb00Vid
 fark5aBG1zg+BzP7C5rSOQja9k4bgKOtuw8BjdVeW3F+JPRDWdezTXhiq6fgZBWu/RmI
 UoLi/Ln9oTp9tsNho3Vk5VGtZut5ivyyta+Ws=
X-Google-DKIM-Signature: v=1; a=rsa-sha256; c=relaxed/relaxed;
 d=1e100.net; s=20230601; t=1709240394; x=1709845194;
 h=references:in-reply-to:cc:to:from:subject:message-id:date
 :x-gm-message-state:from:to:cc:subject:date:message-id:reply-to;
 bh=zstG12Gz8xHnn6b/GwJ8cclqfGEjSVjbixcoPSDVdJ4=;
 b=rrKdogOYh/wSvCb0Kh70BvsTxxmu6qo9cPzsqxkdh+YprYmYOEPzmz4mAIyTfN6h4U
 Bs6tZAxLNIUMJS5tcO98i11+EjeeHEE68GVwsQCg2oLu6Y/CyyjyJHVCnOGSdPY7SmG+
 FzhcHkBStNz+ChXRutHcOF/TUQ9acTUdP4xQ0xSESrpFb8ylKLVFWw9hFqT+VXrZuXOZ
 7NFrMgjZQ1aqF7SgvhF9qj0OypFW3eBzb5ojuaMWrRbMGRW0R1AMqktD6EiIyHWp9qKF
 zsLc0gGuJJyJ7/bLpHMsnyQU/J+TSVEuDo53aEfVDyZiu2M/6bRfdeGTl8lVDFGjYs/3
 TAFw==
X-Gm-Message-State: AOJu0YxWwmOSze+qkGXIYsFVIl/RFq8iu0jQaZVMb2Zk5lsoMXbMSgue
 kpf6y0YT3BwiVO3mtEe8aVs3vGG40QvC+QL0fL9Tde3bMz9OIbq6vRP77s9dJcLTv8edKIsWQqr
 h5t3OoOD8iBy9K4YgjOsQXmOaGQGfSBuBcLNCdDK+UndJ45bOadTNKKAW
X-Google-Smtp-Source: AGHT+IHdbfJrm3Nc4rqrYMGyvLL1o9+K1u3A4Tx43KwAfEY9Y8yd6XGOlEGRJ4dRBL59bz5msqhhN56YJxbG
X-Received: by 2002:a0c:bf41:0:b0:68f:cc3e:179 with SMTP id
 b1-20020a0cbf41000000b0068fcc3e0179mr3631278qvj.18.1709240394646; 
 Thu, 29 Feb 2024 12:59:54 -0800 (PST)
Received: from postal.iol.unh.edu (postal.iol.unh.edu.
 [2606:4100:3880:1234::84]) by smtp-relay.gmail.com with ESMTPS id
 t3-20020ad45bc3000000b0068fcd8c4fe7sm109066qvt.46.2024.02.29.12.59.54
 (version=TLS1_2 cipher=ECDHE-ECDSA-AES128-GCM-SHA256 bits=128/128);
 Thu, 29 Feb 2024 12:59:54 -0800 (PST)
X-Relaying-Domain: iol.unh.edu
Date: Thu, 29 Feb 2024 12:59:54 -0800 (PST)
Message-ID: <65e0f04a.d40a0220.be439.798bSMTPIN_ADDED_MISSING@mx.google.com>
Received: from [172.17.0.8] (unknown [172.18.0.217])
 by postal.iol.unh.edu (Postfix) with ESMTP id 550876052712;
 Thu, 29 Feb 2024 15:59:54 -0500 (EST)
Subject: |SUCCESS| pw137508-137509 [PATCH] [2/2] net/mlx5: fix IP-in-IP tunne
From: dpdklab@iol.unh.edu
To: Test Report <test-report@dpdk.org>
Cc: dpdk-test-reports@iol.unh.edu
In-Reply-To: <20240229160505.630586-3-getelson@nvidia.com>
References: <20240229160505.630586-3-getelson@nvidia.com>
Content-Type: text/plain
X-BeenThere: test-report@dpdk.org
X-Mailman-Version: 2.1.29
Precedence: list
List-Id: automatic DPDK test reports <test-report.dpdk.org>
List-Unsubscribe: <https://mails.dpdk.org/options/test-report>,
 <mailto:test-report-request@dpdk.org?subject=unsubscribe>
List-Archive: <http://mails.dpdk.org/archives/test-report/>
List-Post: <mailto:test-report@dpdk.org>
List-Help: <mailto:test-report-request@dpdk.org?subject=help>
List-Subscribe: <https://mails.dpdk.org/listinfo/test-report>,
 <mailto:test-report-request@dpdk.org?subject=subscribe>
Errors-To: test-report-bounces@dpdk.org

Test-Label: iol-unit-arm64-testing
Test-Status: SUCCESS
http://dpdk.org/patch/137509

_Testing PASS_

Submitter: Gregory Etelson <getelson@nvidia.com>
Date: Thursday, February 29 2024 16:05:04 
DPDK git baseline: Repo:dpdk
  Branch: master
  CommitID:387aefe9fab8f1033071659a758ccda61a220ffd

137508-137509 --> testing pass

Test environment and result as below:

+--------------------------+---------------------------+------------------------------+----------------+--------------+
|       Environment        | cryptodev_sw_zuc_autotest | cryptodev_sw_snow3g_autotest | dpdk_unit_test | lpm_autotest |
+==========================+===========================+==============================+================+==============+
| Debian 12 (arm)          | PASS                      | PASS                         | PASS           | SKIPPED      |
+--------------------------+---------------------------+------------------------------+----------------+--------------+
| Debian 11 (Buster) (ARM) | SKIPPED                   | SKIPPED                      | PASS           | SKIPPED      |
+--------------------------+---------------------------+------------------------------+----------------+--------------+
| CentOS Stream 9 (ARM)    | SKIPPED                   | SKIPPED                      | PASS           | SKIPPED      |
+--------------------------+---------------------------+------------------------------+----------------+--------------+
| Fedora 37 (ARM)          | SKIPPED                   | SKIPPED                      | PASS           | SKIPPED      |
+--------------------------+---------------------------+------------------------------+----------------+--------------+
| Ubuntu 20.04 (ARM)       | SKIPPED                   | SKIPPED                      | PASS           | SKIPPED      |
+--------------------------+---------------------------+------------------------------+----------------+--------------+
| Fedora 38 (ARM)          | SKIPPED                   | SKIPPED                      | PASS           | SKIPPED      |
+--------------------------+---------------------------+------------------------------+----------------+--------------+
| Fedora 38 (ARM Clang)    | SKIPPED                   | SKIPPED                      | PASS           | SKIPPED      |
+--------------------------+---------------------------+------------------------------+----------------+--------------+
| Ubuntu 20.04 ARM SVE     | SKIPPED                   | SKIPPED                      | SKIPPED        | PASS         |
+--------------------------+---------------------------+------------------------------+----------------+--------------+


Debian 12 (arm)
	Kernel: Container Host Kernel
	Compiler: gcc 11

Debian 11 (Buster) (ARM)
	Kernel: Container Host Kernel
	Compiler: gcc 10.2.1

CentOS Stream 9 (ARM)
	Kernel: Container Host Kernel
	Compiler: gcc 11.3.1

Fedora 37 (ARM)
	Kernel: Depends on container host
	Compiler: gcc 12.3.1

Ubuntu 20.04 (ARM)
	Kernel: Container Host Kernel
	Compiler: gcc 9.4.0

Fedora 38 (ARM)
	Kernel: Depends on container host
	Compiler: gcc 13.1.1

Fedora 38 (ARM Clang)
	Kernel: Depends on container host
	Compiler: clang 16.0.3

Ubuntu 20.04 ARM SVE
	Kernel: 5.4.0-80-generic
	Compiler: gcc 10.3.0 (Ubuntu 10.3.0-1ubuntu1~20.04)

To view detailed results, visit:
https://lab.dpdk.org/results/dashboard/patchsets/29343/

UNH-IOL DPDK Community Lab

To manage your email subscriptions, visit: 
https://lab.dpdk.org/results/dashboard/preferences/subscriptions/