From mboxrd@z Thu Jan  1 00:00:00 1970
Return-Path: <test-report-bounces@dpdk.org>
Received: from mails.dpdk.org (mails.dpdk.org [217.70.189.124])
	by inbox.dpdk.org (Postfix) with ESMTP id A6CE443BAC
	for <public@inbox.dpdk.org>; Thu, 29 Feb 2024 22:03:17 +0100 (CET)
Received: from mails.dpdk.org (localhost [127.0.0.1])
	by mails.dpdk.org (Postfix) with ESMTP id 908B442DCB;
	Thu, 29 Feb 2024 22:03:17 +0100 (CET)
Received: from mail-qk1-f228.google.com (mail-qk1-f228.google.com
 [209.85.222.228])
 by mails.dpdk.org (Postfix) with ESMTP id 5673342DBD
 for <test-report@dpdk.org>; Thu, 29 Feb 2024 22:03:16 +0100 (CET)
Received: by mail-qk1-f228.google.com with SMTP id
 af79cd13be357-787b5c68253so69566685a.2
 for <test-report@dpdk.org>; Thu, 29 Feb 2024 13:03:16 -0800 (PST)
DKIM-Signature: v=1; a=rsa-sha256; c=relaxed/relaxed;
 d=iol.unh.edu; s=unh-iol; t=1709240595; x=1709845395; darn=dpdk.org;
 h=references:in-reply-to:cc:to:from:subject:message-id:date:from:to
 :cc:subject:date:message-id:reply-to;
 bh=zstG12Gz8xHnn6b/GwJ8cclqfGEjSVjbixcoPSDVdJ4=;
 b=dYeUM/Bkn++5Lo9h2b+gBk6qu8m3ASHs9i/fjccimgDFzslEhMrW8rpLlSxeBpb+Z4
 MPc6aNpPPw8X5/NOnOJFvY/nwrkzU+E08M6QPo/dFjeMgi5w/aWBjeT6bmn0qlUEWPqb
 52riHyixFwRB5UsR8Zys47sGA6Ks7YSME+jG8=
X-Google-DKIM-Signature: v=1; a=rsa-sha256; c=relaxed/relaxed;
 d=1e100.net; s=20230601; t=1709240595; x=1709845395;
 h=references:in-reply-to:cc:to:from:subject:message-id:date
 :x-gm-message-state:from:to:cc:subject:date:message-id:reply-to;
 bh=zstG12Gz8xHnn6b/GwJ8cclqfGEjSVjbixcoPSDVdJ4=;
 b=YiQYPEmAwmco30+lS3MZru4GFeLkqSl7Ne8iEGniyt6lvGGK9heMJLA3Y3hWbaTU5A
 9t7fQfqjPitXOOBxxtwXtiYu0YkKs/kAG0kRwztok4lViC2aH6ZsOIQIxV75pmwa9ICa
 JEr/n4CAgbPzS6WJvJ6UObjw0j16lgtkywHWikCzyP3KX9sf9GEQkiRxk4oTXjoSFepF
 cYYXe8tffODBGOphzctabWFADLXaD3FHv9pKxKeZxUz8gjV2vj0UvWpyUVPfqdPnL8W5
 NxEBMJWyQDMVSsCighJLuysdw3jCza7/LIwn3nMoznyfW4RwOmT1X5PFMfuf1n+WdJ4E
 ZzPw==
X-Gm-Message-State: AOJu0YwELA3UZ8KLuC+SV3U77s0Roag3b8N4o3rMQpkVnObrema3eewN
 jrAzQ4BYg8zc7lYiBTmRwJfvTWTbTtIaJocS8vjxbRO9kkTCemrunaFO+5RgVxwlpelqevValpx
 SyKZvsK0GgNP7V6y2kaa03aImj5pAikVe3nGBCaLl
X-Google-Smtp-Source: AGHT+IFRh6TNKm2TCT2bpRjjYt9tiK1vl+P6h0BBIZ+sq/Qj1Arz21kRae9TycpGMZF5Ll5k6qyzWh0f+Cdh
X-Received: by 2002:a0c:fb11:0:b0:690:46fd:78f1 with SMTP id
 c17-20020a0cfb11000000b0069046fd78f1mr2906870qvp.42.1709240595718; 
 Thu, 29 Feb 2024 13:03:15 -0800 (PST)
Received: from postal.iol.unh.edu (postal.iol.unh.edu. [132.177.123.84])
 by smtp-relay.gmail.com with ESMTPS id
 c4-20020ad45ae4000000b0069019f40c92sm124873qvh.61.2024.02.29.13.03.15
 (version=TLS1_2 cipher=ECDHE-ECDSA-AES128-GCM-SHA256 bits=128/128);
 Thu, 29 Feb 2024 13:03:15 -0800 (PST)
X-Relaying-Domain: iol.unh.edu
Date: Thu, 29 Feb 2024 13:03:15 -0800 (PST)
Message-ID: <65e0f113.d40a0220.1013e.8c52SMTPIN_ADDED_MISSING@mx.google.com>
Received: from [172.17.0.8] (unknown [172.18.0.217])
 by postal.iol.unh.edu (Postfix) with ESMTP id 5EF956052712;
 Thu, 29 Feb 2024 16:03:15 -0500 (EST)
Subject: |SUCCESS| pw137508-137509 [PATCH] [2/2] net/mlx5: fix IP-in-IP tunne
From: dpdklab@iol.unh.edu
To: Test Report <test-report@dpdk.org>
Cc: dpdk-test-reports@iol.unh.edu
In-Reply-To: <20240229160505.630586-3-getelson@nvidia.com>
References: <20240229160505.630586-3-getelson@nvidia.com>
Content-Type: text/plain
X-BeenThere: test-report@dpdk.org
X-Mailman-Version: 2.1.29
Precedence: list
List-Id: automatic DPDK test reports <test-report.dpdk.org>
List-Unsubscribe: <https://mails.dpdk.org/options/test-report>,
 <mailto:test-report-request@dpdk.org?subject=unsubscribe>
List-Archive: <http://mails.dpdk.org/archives/test-report/>
List-Post: <mailto:test-report@dpdk.org>
List-Help: <mailto:test-report-request@dpdk.org?subject=help>
List-Subscribe: <https://mails.dpdk.org/listinfo/test-report>,
 <mailto:test-report-request@dpdk.org?subject=subscribe>
Errors-To: test-report-bounces@dpdk.org

Test-Label: iol-unit-arm64-testing
Test-Status: SUCCESS
http://dpdk.org/patch/137509

_Testing PASS_

Submitter: Gregory Etelson <getelson@nvidia.com>
Date: Thursday, February 29 2024 16:05:04 
DPDK git baseline: Repo:dpdk
  Branch: master
  CommitID:387aefe9fab8f1033071659a758ccda61a220ffd

137508-137509 --> testing pass

Test environment and result as below:

+--------------------------+---------------------------+------------------------------+----------------+--------------+
|       Environment        | cryptodev_sw_zuc_autotest | cryptodev_sw_snow3g_autotest | dpdk_unit_test | lpm_autotest |
+==========================+===========================+==============================+================+==============+
| Debian 12 (arm)          | PASS                      | PASS                         | PASS           | SKIPPED      |
+--------------------------+---------------------------+------------------------------+----------------+--------------+
| Debian 11 (Buster) (ARM) | SKIPPED                   | SKIPPED                      | PASS           | SKIPPED      |
+--------------------------+---------------------------+------------------------------+----------------+--------------+
| CentOS Stream 9 (ARM)    | SKIPPED                   | SKIPPED                      | PASS           | SKIPPED      |
+--------------------------+---------------------------+------------------------------+----------------+--------------+
| Fedora 37 (ARM)          | SKIPPED                   | SKIPPED                      | PASS           | SKIPPED      |
+--------------------------+---------------------------+------------------------------+----------------+--------------+
| Ubuntu 20.04 (ARM)       | SKIPPED                   | SKIPPED                      | PASS           | SKIPPED      |
+--------------------------+---------------------------+------------------------------+----------------+--------------+
| Fedora 38 (ARM)          | SKIPPED                   | SKIPPED                      | PASS           | SKIPPED      |
+--------------------------+---------------------------+------------------------------+----------------+--------------+
| Fedora 38 (ARM Clang)    | SKIPPED                   | SKIPPED                      | PASS           | SKIPPED      |
+--------------------------+---------------------------+------------------------------+----------------+--------------+
| Ubuntu 20.04 ARM SVE     | SKIPPED                   | SKIPPED                      | SKIPPED        | PASS         |
+--------------------------+---------------------------+------------------------------+----------------+--------------+


Debian 12 (arm)
	Kernel: Container Host Kernel
	Compiler: gcc 11

Debian 11 (Buster) (ARM)
	Kernel: Container Host Kernel
	Compiler: gcc 10.2.1

CentOS Stream 9 (ARM)
	Kernel: Container Host Kernel
	Compiler: gcc 11.3.1

Fedora 37 (ARM)
	Kernel: Depends on container host
	Compiler: gcc 12.3.1

Ubuntu 20.04 (ARM)
	Kernel: Container Host Kernel
	Compiler: gcc 9.4.0

Fedora 38 (ARM)
	Kernel: Depends on container host
	Compiler: gcc 13.1.1

Fedora 38 (ARM Clang)
	Kernel: Depends on container host
	Compiler: clang 16.0.3

Ubuntu 20.04 ARM SVE
	Kernel: 5.4.0-80-generic
	Compiler: gcc 10.3.0 (Ubuntu 10.3.0-1ubuntu1~20.04)

To view detailed results, visit:
https://lab.dpdk.org/results/dashboard/patchsets/29343/

UNH-IOL DPDK Community Lab

To manage your email subscriptions, visit: 
https://lab.dpdk.org/results/dashboard/preferences/subscriptions/