From mboxrd@z Thu Jan  1 00:00:00 1970
Return-Path: <test-report-bounces@dpdk.org>
Received: from mails.dpdk.org (mails.dpdk.org [217.70.189.124])
	by inbox.dpdk.org (Postfix) with ESMTP id 29E2E43BAC
	for <public@inbox.dpdk.org>; Thu, 29 Feb 2024 22:04:49 +0100 (CET)
Received: from mails.dpdk.org (localhost [127.0.0.1])
	by mails.dpdk.org (Postfix) with ESMTP id 257A642DCB;
	Thu, 29 Feb 2024 22:04:49 +0100 (CET)
Received: from mail-pl1-f227.google.com (mail-pl1-f227.google.com
 [209.85.214.227])
 by mails.dpdk.org (Postfix) with ESMTP id E30DF42DBD
 for <test-report@dpdk.org>; Thu, 29 Feb 2024 22:04:47 +0100 (CET)
Received: by mail-pl1-f227.google.com with SMTP id
 d9443c01a7336-1d94b222a3aso15301315ad.2
 for <test-report@dpdk.org>; Thu, 29 Feb 2024 13:04:47 -0800 (PST)
DKIM-Signature: v=1; a=rsa-sha256; c=relaxed/relaxed;
 d=iol.unh.edu; s=unh-iol; t=1709240687; x=1709845487; darn=dpdk.org;
 h=references:in-reply-to:cc:to:from:subject:message-id:date:from:to
 :cc:subject:date:message-id:reply-to;
 bh=atgpzY9JP7xpUy/L+lTO2DbzH4YS7cInKi6iiOCpMVs=;
 b=T2C+gBgv9zk1SwIeGFZ3Mc6jIx7o2kvasCc535RtJhP3qttyyduQnT0BD3DD5UPWcn
 zHzpUIG3Kl9oVA38TcRCZPVSSRIRXn7+nSztBQGytza/kIOvaMpsMRlq/Nt5vMDIT4s2
 xfJSy+y5OGb7upmL5Av6UudfrdpSGgO/4lTRQ=
X-Google-DKIM-Signature: v=1; a=rsa-sha256; c=relaxed/relaxed;
 d=1e100.net; s=20230601; t=1709240687; x=1709845487;
 h=references:in-reply-to:cc:to:from:subject:message-id:date
 :x-gm-message-state:from:to:cc:subject:date:message-id:reply-to;
 bh=atgpzY9JP7xpUy/L+lTO2DbzH4YS7cInKi6iiOCpMVs=;
 b=XUomHDcwfLG6sI1BmXDgRGx/O+1wmdgaM6F7FXJ20FDaVsBhQHNLAhihBKthdVSQ9K
 W7MV22Pjp8NxqiT52aZH296RYmD8vPfuT62aMjMDKKsHPe8OTDBa1uhprnIVVgubDmrV
 vUYLYNMvBhaE9xe5x1WTP84pnIBGaMlyJp3tzXJ9InfhkfB0uZ5JqnWoZfJluT0s5iuD
 y8wLVGWU0fOzJIn3TfCDAGecn9+QrEUXQ7kZRA26v+Vb6Z+7KUbiylGgD+GdXPnfnaAZ
 gQvlY8xhTnDSoufV1++E2UuthI0U9LNZOvLqGQiBjFJEYnCbkxAQBNRkUKmvcpMhhOo6
 wLYQ==
X-Gm-Message-State: AOJu0YxbVOKmfPIpkB3rzBy1RRuza+ZjGYOJ9SAQ9Oa2gXsUfi93IiLA
 mXwCyoWlMj3xJRKmoDu4FXacXors75NzeSOYSPWw88uTmy1F9fgoT9G3CPQFQcrP8CXAxndtXqA
 AOxyj+30n15zGGpWU8S+OrnrYVXBrJ3kD5ME5xhkx4H/TSxgOwpWdQffZ
X-Google-Smtp-Source: AGHT+IGN3D10Ka2+V7qucLlePqahGGsR36mFzFZhmbA2BbkS7ko0XsMQD4FjE7kxRTxOroGRfqjnsRNxX4OX
X-Received: by 2002:a17:902:ccc4:b0:1dc:90a7:2a43 with SMTP id
 z4-20020a170902ccc400b001dc90a72a43mr4869051ple.7.1709240687263; 
 Thu, 29 Feb 2024 13:04:47 -0800 (PST)
Received: from postal.iol.unh.edu (postal.iol.unh.edu.
 [2606:4100:3880:1234::84]) by smtp-relay.gmail.com with ESMTPS id
 h1-20020a170902eec100b001dcc09487f1sm54754plb.11.2024.02.29.13.04.47
 (version=TLS1_2 cipher=ECDHE-ECDSA-AES128-GCM-SHA256 bits=128/128);
 Thu, 29 Feb 2024 13:04:47 -0800 (PST)
X-Relaying-Domain: iol.unh.edu
Date: Thu, 29 Feb 2024 13:04:47 -0800 (PST)
Message-ID: <65e0f16f.170a0220.0a00.54b3SMTPIN_ADDED_MISSING@mx.google.com>
Received: from [172.17.0.8] (unknown [172.18.0.217])
 by postal.iol.unh.edu (Postfix) with ESMTP id 2E4B26052712;
 Thu, 29 Feb 2024 16:04:46 -0500 (EST)
Subject: |SUCCESS| pw137487 [PATCH] [v1] ethdev: add Linux ethtool link mode 
From: dpdklab@iol.unh.edu
To: Test Report <test-report@dpdk.org>
Cc: dpdk-test-reports@iol.unh.edu
In-Reply-To: <20240229123653.1379466-1-thomas@monjalon.net>
References: <20240229123653.1379466-1-thomas@monjalon.net>
Content-Type: text/plain
X-BeenThere: test-report@dpdk.org
X-Mailman-Version: 2.1.29
Precedence: list
List-Id: automatic DPDK test reports <test-report.dpdk.org>
List-Unsubscribe: <https://mails.dpdk.org/options/test-report>,
 <mailto:test-report-request@dpdk.org?subject=unsubscribe>
List-Archive: <http://mails.dpdk.org/archives/test-report/>
List-Post: <mailto:test-report@dpdk.org>
List-Help: <mailto:test-report-request@dpdk.org?subject=help>
List-Subscribe: <https://mails.dpdk.org/listinfo/test-report>,
 <mailto:test-report-request@dpdk.org?subject=subscribe>
Errors-To: test-report-bounces@dpdk.org

Test-Label: iol-compile-arm64-testing
Test-Status: SUCCESS
http://dpdk.org/patch/137487

_Testing PASS_

Submitter: Thomas Monjalon <thomas@monjalon.net>
Date: Thursday, February 29 2024 12:34:27 
DPDK git baseline: Repo:dpdk
  Branch: master
  CommitID:f60df26faa3c90fc66d356e16347acd046971441

137487 --> testing pass

Test environment and result as below:

+----------------------------------------+--------------------+
|              Environment               | dpdk_meson_compile |
+========================================+====================+
| Ubuntu 20.04 ARM SVE                   | PASS               |
+----------------------------------------+--------------------+
| Fedora 37 (ARM)                        | PASS               |
+----------------------------------------+--------------------+
| Fedora 38 (ARM)                        | PASS               |
+----------------------------------------+--------------------+
| Ubuntu 20.04 (ARM)                     | PASS               |
+----------------------------------------+--------------------+
| Debian 11 (Buster) (ARM)               | PASS               |
+----------------------------------------+--------------------+
| CentOS Stream 9 (ARM)                  | PASS               |
+----------------------------------------+--------------------+
| Ubuntu 20.04 ARM Clang Cross Compile   | PASS               |
+----------------------------------------+--------------------+
| Ubuntu 20.04 ARM GCC Cross Compile     | PASS               |
+----------------------------------------+--------------------+
| Ubuntu 20.04 aarch32 GCC Cross Compile | PASS               |
+----------------------------------------+--------------------+
| Debian 12 (arm)                        | PASS               |
+----------------------------------------+--------------------+
| Fedora 38 (ARM Clang)                  | PASS               |
+----------------------------------------+--------------------+


Ubuntu 20.04 ARM SVE
	Kernel: 5.4.0-80-generic
	Compiler: gcc 10.3.0 (Ubuntu 10.3.0-1ubuntu1~20.04)

Fedora 37 (ARM)
	Kernel: Depends on container host
	Compiler: gcc 12.3.1

Fedora 38 (ARM)
	Kernel: Depends on container host
	Compiler: gcc 13.1.1

Ubuntu 20.04 (ARM)
	Kernel: Container Host Kernel
	Compiler: gcc 9.4.0

Debian 11 (Buster) (ARM)
	Kernel: Container Host Kernel
	Compiler: gcc 10.2.1

CentOS Stream 9 (ARM)
	Kernel: Container Host Kernel
	Compiler: gcc 11.3.1

Ubuntu 20.04 ARM Clang Cross Compile
	Kernel: 5.4.0-72-generic
	Compiler: clang version 10.0.0-4ubuntu1

Ubuntu 20.04 ARM GCC Cross Compile
	Kernel: 5.4.0-72-generic
	Compiler: aarch64-linux-gnu-gcc (Ubuntu 9.3.0-17ubuntu1~20.04) 9.3.0

Ubuntu 20.04 aarch32 GCC Cross Compile
	Kernel: 5.4.0-72-generic
	Compiler: gcc 9.3.0

Debian 12 (arm)
	Kernel: Container Host Kernel
	Compiler: gcc 11

Fedora 38 (ARM Clang)
	Kernel: Depends on container host
	Compiler: clang 16.0.3

To view detailed results, visit:
https://lab.dpdk.org/results/dashboard/patchsets/29334/

UNH-IOL DPDK Community Lab

To manage your email subscriptions, visit: 
https://lab.dpdk.org/results/dashboard/preferences/subscriptions/