From mboxrd@z Thu Jan  1 00:00:00 1970
Return-Path: <test-report-bounces@dpdk.org>
Received: from mails.dpdk.org (mails.dpdk.org [217.70.189.124])
	by inbox.dpdk.org (Postfix) with ESMTP id 2168C43BAC
	for <public@inbox.dpdk.org>; Thu, 29 Feb 2024 22:23:17 +0100 (CET)
Received: from mails.dpdk.org (localhost [127.0.0.1])
	by mails.dpdk.org (Postfix) with ESMTP id 1DCC642DCB;
	Thu, 29 Feb 2024 22:23:17 +0100 (CET)
Received: from mail-yw1-f227.google.com (mail-yw1-f227.google.com
 [209.85.128.227])
 by mails.dpdk.org (Postfix) with ESMTP id 6752E42DBD
 for <test-report@dpdk.org>; Thu, 29 Feb 2024 22:23:15 +0100 (CET)
Received: by mail-yw1-f227.google.com with SMTP id
 00721157ae682-608e0b87594so14754177b3.1
 for <test-report@dpdk.org>; Thu, 29 Feb 2024 13:23:15 -0800 (PST)
DKIM-Signature: v=1; a=rsa-sha256; c=relaxed/relaxed;
 d=iol.unh.edu; s=unh-iol; t=1709241795; x=1709846595; darn=dpdk.org;
 h=references:in-reply-to:cc:to:from:subject:message-id:date:from:to
 :cc:subject:date:message-id:reply-to;
 bh=pjrn/bLXs4ijb8XmqPu/KM5RjtaZUgJwXjNcgRMr/iE=;
 b=FlttVCYPyPEpkUDCncs/xtSObNXm55Zuvqa+kMYZmY2iaYGdN7Bt389scFWI4tyT69
 Ur6PSaiH+IkvfhBfspDhw1Rz28tFvfWV1vtqIVpBmMvRSnXmTAnizs5iIA5KL95CFITo
 xuQa6zICu0btecUTl/3ngJOSx9Zq48hQG0UTs=
X-Google-DKIM-Signature: v=1; a=rsa-sha256; c=relaxed/relaxed;
 d=1e100.net; s=20230601; t=1709241795; x=1709846595;
 h=references:in-reply-to:cc:to:from:subject:message-id:date
 :x-gm-message-state:from:to:cc:subject:date:message-id:reply-to;
 bh=pjrn/bLXs4ijb8XmqPu/KM5RjtaZUgJwXjNcgRMr/iE=;
 b=onyE/IiSmlDt69U+gYFVc3m13/yWSEPyeRAquAIsKam6B3RDZ8baZyv9H5kV/+c6Rx
 vA397hIWje9UpXyD5//dwVSdRUUA/O2BXTva5YHlhGuDw0HfQMmmUPE6j/4F4tdG8/aF
 Q3/R14H3HKxxbpfMpxtmru1Xwnm2WMfh/CErMMeRIJwzSKuv5JTI+vIGaTbhgOcXw+jg
 Hw4C4bf4ih+mPWHubtZDXHoYnV9btavv/yX5lTRD0vdn+5DpLA9ONEpSpzl8GgZ7wJc0
 V3upoWR+SQ2ivP8eUKlnjM2OLDq0IgxM/3GlrhnCbCkAjcgF33Xsk9QiH8mQGr2/w/Ek
 5SnQ==
X-Gm-Message-State: AOJu0Yz04XsKyrA84mxL34DknqqpD20jJm9BI1HTTPFuQuAio3/vz6va
 DFm9fuQMZUAC3vhWDmbO/2TZ6nsCskfqLwsyvNjrDi1hMw1sg/MF3sLwOqoFpQfIw1p2oF4EwFe
 ZsETtItoLjM7ZtaELss6OkmthatXhzkqiYjDCpHbJ9c1b25EYzylbCaW8
X-Google-Smtp-Source: AGHT+IHfClPSW5EQ0+B3ZUvmWgV87UYB1Hc4s/iNW0qipATl70Jgf5UdFl7TDSYvVndnKpMtkBvjITjs9ME1
X-Received: by 2002:a81:6d11:0:b0:608:fa36:1c27 with SMTP id
 i17-20020a816d11000000b00608fa361c27mr317259ywc.23.1709241794324; 
 Thu, 29 Feb 2024 13:23:14 -0800 (PST)
Received: from postal.iol.unh.edu (postal.iol.unh.edu.
 [2606:4100:3880:1234::84]) by smtp-relay.gmail.com with ESMTPS id
 c133-20020a814e8b000000b0060412bdbc8esm113971ywb.35.2024.02.29.13.23.14
 (version=TLS1_2 cipher=ECDHE-ECDSA-AES128-GCM-SHA256 bits=128/128);
 Thu, 29 Feb 2024 13:23:14 -0800 (PST)
X-Relaying-Domain: iol.unh.edu
Date: Thu, 29 Feb 2024 13:23:14 -0800 (PST)
Message-ID: <65e0f5c2.810a0220.9458d.7abbSMTPIN_ADDED_MISSING@mx.google.com>
Received: from [172.21.0.6] (unknown [172.18.0.240])
 by postal.iol.unh.edu (Postfix) with ESMTP id F05ED6052712;
 Thu, 29 Feb 2024 16:23:13 -0500 (EST)
Subject: |SUCCESS| pw137508-137509 [PATCH] [2/2] net/mlx5: fix IP-in-IP tunne
From: dpdklab@iol.unh.edu
To: Test Report <test-report@dpdk.org>
Cc: dpdk-test-reports@iol.unh.edu
In-Reply-To: <20240229160505.630586-3-getelson@nvidia.com>
References: <20240229160505.630586-3-getelson@nvidia.com>
Content-Type: text/plain
X-BeenThere: test-report@dpdk.org
X-Mailman-Version: 2.1.29
Precedence: list
List-Id: automatic DPDK test reports <test-report.dpdk.org>
List-Unsubscribe: <https://mails.dpdk.org/options/test-report>,
 <mailto:test-report-request@dpdk.org?subject=unsubscribe>
List-Archive: <http://mails.dpdk.org/archives/test-report/>
List-Post: <mailto:test-report@dpdk.org>
List-Help: <mailto:test-report-request@dpdk.org?subject=help>
List-Subscribe: <https://mails.dpdk.org/listinfo/test-report>,
 <mailto:test-report-request@dpdk.org?subject=subscribe>
Errors-To: test-report-bounces@dpdk.org

Test-Label: iol-compile-arm64-testing
Test-Status: SUCCESS
http://dpdk.org/patch/137509

_Testing PASS_

Submitter: Gregory Etelson <getelson@nvidia.com>
Date: Thursday, February 29 2024 16:05:04 
DPDK git baseline: Repo:dpdk
  Branch: master
  CommitID:387aefe9fab8f1033071659a758ccda61a220ffd

137508-137509 --> testing pass

Test environment and result as below:

+----------------------------------------+--------------------+
|              Environment               | dpdk_meson_compile |
+========================================+====================+
| Ubuntu 20.04 ARM SVE                   | PASS               |
+----------------------------------------+--------------------+
| Ubuntu 20.04 (ARM)                     | PASS               |
+----------------------------------------+--------------------+
| Debian 11 (Buster) (ARM)               | PASS               |
+----------------------------------------+--------------------+
| Fedora 38 (ARM)                        | PASS               |
+----------------------------------------+--------------------+
| CentOS Stream 9 (ARM)                  | PASS               |
+----------------------------------------+--------------------+
| Ubuntu 20.04 aarch32 GCC Cross Compile | PASS               |
+----------------------------------------+--------------------+
| Ubuntu 20.04 ARM Clang Cross Compile   | PASS               |
+----------------------------------------+--------------------+
| Debian 12 (arm)                        | PASS               |
+----------------------------------------+--------------------+
| Fedora 37 (ARM)                        | PASS               |
+----------------------------------------+--------------------+
| Ubuntu 20.04 ARM GCC Cross Compile     | PASS               |
+----------------------------------------+--------------------+


Ubuntu 20.04 ARM SVE
	Kernel: 5.4.0-80-generic
	Compiler: gcc 10.3.0 (Ubuntu 10.3.0-1ubuntu1~20.04)

Ubuntu 20.04 (ARM)
	Kernel: Container Host Kernel
	Compiler: gcc 9.4.0

Debian 11 (Buster) (ARM)
	Kernel: Container Host Kernel
	Compiler: gcc 10.2.1

Fedora 38 (ARM)
	Kernel: Depends on container host
	Compiler: gcc 13.1.1

CentOS Stream 9 (ARM)
	Kernel: Container Host Kernel
	Compiler: gcc 11.3.1

Ubuntu 20.04 aarch32 GCC Cross Compile
	Kernel: 5.4.0-72-generic
	Compiler: gcc 9.3.0

Ubuntu 20.04 ARM Clang Cross Compile
	Kernel: 5.4.0-72-generic
	Compiler: clang version 10.0.0-4ubuntu1

Debian 12 (arm)
	Kernel: Container Host Kernel
	Compiler: gcc 11

Fedora 37 (ARM)
	Kernel: Depends on container host
	Compiler: gcc 12.3.1

Ubuntu 20.04 ARM GCC Cross Compile
	Kernel: 5.4.0-72-generic
	Compiler: aarch64-linux-gnu-gcc (Ubuntu 9.3.0-17ubuntu1~20.04) 9.3.0

To view detailed results, visit:
https://lab.dpdk.org/results/dashboard/patchsets/29343/

UNH-IOL DPDK Community Lab

To manage your email subscriptions, visit: 
https://lab.dpdk.org/results/dashboard/preferences/subscriptions/