From mboxrd@z Thu Jan  1 00:00:00 1970
Return-Path: <test-report-bounces@dpdk.org>
Received: from mails.dpdk.org (mails.dpdk.org [217.70.189.124])
	by inbox.dpdk.org (Postfix) with ESMTP id 698D943B8F
	for <public@inbox.dpdk.org>; Thu, 29 Feb 2024 22:36:57 +0100 (CET)
Received: from mails.dpdk.org (localhost [127.0.0.1])
	by mails.dpdk.org (Postfix) with ESMTP id B555E4328F;
	Thu, 29 Feb 2024 22:36:56 +0100 (CET)
Received: from mail-qv1-f97.google.com (mail-qv1-f97.google.com
 [209.85.219.97]) by mails.dpdk.org (Postfix) with ESMTP id 22EBC40156
 for <test-report@dpdk.org>; Thu, 29 Feb 2024 22:35:38 +0100 (CET)
Received: by mail-qv1-f97.google.com with SMTP id
 6a1803df08f44-68f41af71ebso9865586d6.1
 for <test-report@dpdk.org>; Thu, 29 Feb 2024 13:35:38 -0800 (PST)
DKIM-Signature: v=1; a=rsa-sha256; c=relaxed/relaxed;
 d=iol.unh.edu; s=unh-iol; t=1709242537; x=1709847337; darn=dpdk.org;
 h=references:in-reply-to:cc:to:from:subject:message-id:date:from:to
 :cc:subject:date:message-id:reply-to;
 bh=pjrn/bLXs4ijb8XmqPu/KM5RjtaZUgJwXjNcgRMr/iE=;
 b=DL38sd5FaTPREqn0JFh5WrZtUwRDvFNmaxnWlyXtajJhVqN3Zz0Bd7Cq2S6OT7ozjQ
 hMJSgSD6cc6tMyX7gvOqatmaeBWf6v0Xu5yC6N/FiGshVtERz8F03HbnV+u9LSkwFU0o
 xWcrzxro/YjJ5rFPwZz1o8Kw6OxvoN5kwxAMM=
X-Google-DKIM-Signature: v=1; a=rsa-sha256; c=relaxed/relaxed;
 d=1e100.net; s=20230601; t=1709242537; x=1709847337;
 h=references:in-reply-to:cc:to:from:subject:message-id:date
 :x-gm-message-state:from:to:cc:subject:date:message-id:reply-to;
 bh=pjrn/bLXs4ijb8XmqPu/KM5RjtaZUgJwXjNcgRMr/iE=;
 b=nj89lqfI49kl502MblWDKBJWuriwk0IHmzLoI89aAR20ZuTdQIYRUhnGMj8wGxcDJd
 oZFdJfeWEFQMjsQ1QpW4KBnnyUXJJvKoaEhHa5etaL58mpRy/HJsN5+e8N/L+j3ev478
 TV/dfqtbEWMpjR36AIRpuiOMGSDdoN/d/+xlUPwaqPkOyY8/XEK2Exj1tBK26ZcNAcft
 wIqzpML9U9s46kjIfePxtzQOFL2h68rzPUXkfBKwWDFtkuk1XukVls3RnLm+lOa5JWZJ
 dhOLbfHHGiHqtM8Y/VAltBNcUwviwyJs+iFaX3e4pvCevrwCM/HUSo6SYRcxhwRRkR5M
 NjQA==
X-Gm-Message-State: AOJu0YwHk5KQ9STsru3N8f+RVUZ2xoG+Mhn+sPR1se7M1e/L5w7KmdHX
 HafxnJfW8j/BKkKUmla3R5B01vPeGBM8ghGgqhARv0U1QiCsDiQ4J7Sm4BQiBx9m/XXc9lGryrk
 03/FuW+Gt0ZrXQR1/MXQIbuJ9xVWU+aeuiaq9so8GE31fgA6VNhvISOXY
X-Google-Smtp-Source: AGHT+IFp+FFbbjSsCwnqa5ciskKkwvZRdO/TvSaAO0JX2Z/urPBwlSUkEqLBJsZi1c0guYEtx2MDLD5FAuX1
X-Received: by 2002:a0c:e4ce:0:b0:68f:b5ee:140a with SMTP id
 g14-20020a0ce4ce000000b0068fb5ee140amr3725868qvm.7.1709242537563; 
 Thu, 29 Feb 2024 13:35:37 -0800 (PST)
Received: from postal.iol.unh.edu (postal.iol.unh.edu.
 [2606:4100:3880:1234::84]) by smtp-relay.gmail.com with ESMTPS id
 8-20020ad45b88000000b0068ec08c8733sm107118qvp.47.2024.02.29.13.35.37
 (version=TLS1_2 cipher=ECDHE-ECDSA-AES128-GCM-SHA256 bits=128/128);
 Thu, 29 Feb 2024 13:35:37 -0800 (PST)
X-Relaying-Domain: iol.unh.edu
Date: Thu, 29 Feb 2024 13:35:37 -0800 (PST)
Message-ID: <65e0f8a9.d40a0220.4aa99.72aeSMTPIN_ADDED_MISSING@mx.google.com>
Received: from [172.17.0.6] (unknown [172.18.0.217])
 by postal.iol.unh.edu (Postfix) with ESMTP id 4306F6052712;
 Thu, 29 Feb 2024 16:35:37 -0500 (EST)
Subject: |SUCCESS| pw137508-137509 [PATCH] [2/2] net/mlx5: fix IP-in-IP tunne
From: dpdklab@iol.unh.edu
To: Test Report <test-report@dpdk.org>
Cc: dpdk-test-reports@iol.unh.edu
In-Reply-To: <20240229160505.630586-3-getelson@nvidia.com>
References: <20240229160505.630586-3-getelson@nvidia.com>
Content-Type: text/plain
X-BeenThere: test-report@dpdk.org
X-Mailman-Version: 2.1.29
Precedence: list
List-Id: automatic DPDK test reports <test-report.dpdk.org>
List-Unsubscribe: <https://mails.dpdk.org/options/test-report>,
 <mailto:test-report-request@dpdk.org?subject=unsubscribe>
List-Archive: <http://mails.dpdk.org/archives/test-report/>
List-Post: <mailto:test-report@dpdk.org>
List-Help: <mailto:test-report-request@dpdk.org?subject=help>
List-Subscribe: <https://mails.dpdk.org/listinfo/test-report>,
 <mailto:test-report-request@dpdk.org?subject=subscribe>
Errors-To: test-report-bounces@dpdk.org

Test-Label: iol-compile-arm64-testing
Test-Status: SUCCESS
http://dpdk.org/patch/137509

_Testing PASS_

Submitter: Gregory Etelson <getelson@nvidia.com>
Date: Thursday, February 29 2024 16:05:04 
DPDK git baseline: Repo:dpdk
  Branch: master
  CommitID:387aefe9fab8f1033071659a758ccda61a220ffd

137508-137509 --> testing pass

Test environment and result as below:

+----------------------------------------+--------------------+
|              Environment               | dpdk_meson_compile |
+========================================+====================+
| Ubuntu 20.04 ARM SVE                   | PASS               |
+----------------------------------------+--------------------+
| Ubuntu 20.04 (ARM)                     | PASS               |
+----------------------------------------+--------------------+
| Debian 11 (Buster) (ARM)               | PASS               |
+----------------------------------------+--------------------+
| Fedora 38 (ARM)                        | PASS               |
+----------------------------------------+--------------------+
| CentOS Stream 9 (ARM)                  | PASS               |
+----------------------------------------+--------------------+
| Ubuntu 20.04 aarch32 GCC Cross Compile | PASS               |
+----------------------------------------+--------------------+
| Ubuntu 20.04 ARM Clang Cross Compile   | PASS               |
+----------------------------------------+--------------------+
| Debian 12 (arm)                        | PASS               |
+----------------------------------------+--------------------+
| Fedora 37 (ARM)                        | PASS               |
+----------------------------------------+--------------------+
| Ubuntu 20.04 ARM GCC Cross Compile     | PASS               |
+----------------------------------------+--------------------+


Ubuntu 20.04 ARM SVE
	Kernel: 5.4.0-80-generic
	Compiler: gcc 10.3.0 (Ubuntu 10.3.0-1ubuntu1~20.04)

Ubuntu 20.04 (ARM)
	Kernel: Container Host Kernel
	Compiler: gcc 9.4.0

Debian 11 (Buster) (ARM)
	Kernel: Container Host Kernel
	Compiler: gcc 10.2.1

Fedora 38 (ARM)
	Kernel: Depends on container host
	Compiler: gcc 13.1.1

CentOS Stream 9 (ARM)
	Kernel: Container Host Kernel
	Compiler: gcc 11.3.1

Ubuntu 20.04 aarch32 GCC Cross Compile
	Kernel: 5.4.0-72-generic
	Compiler: gcc 9.3.0

Ubuntu 20.04 ARM Clang Cross Compile
	Kernel: 5.4.0-72-generic
	Compiler: clang version 10.0.0-4ubuntu1

Debian 12 (arm)
	Kernel: Container Host Kernel
	Compiler: gcc 11

Fedora 37 (ARM)
	Kernel: Depends on container host
	Compiler: gcc 12.3.1

Ubuntu 20.04 ARM GCC Cross Compile
	Kernel: 5.4.0-72-generic
	Compiler: aarch64-linux-gnu-gcc (Ubuntu 9.3.0-17ubuntu1~20.04) 9.3.0

To view detailed results, visit:
https://lab.dpdk.org/results/dashboard/patchsets/29343/

UNH-IOL DPDK Community Lab

To manage your email subscriptions, visit: 
https://lab.dpdk.org/results/dashboard/preferences/subscriptions/