From mboxrd@z Thu Jan  1 00:00:00 1970
Return-Path: <test-report-bounces@dpdk.org>
Received: from mails.dpdk.org (mails.dpdk.org [217.70.189.124])
	by inbox.dpdk.org (Postfix) with ESMTP id 1E00743BAD
	for <public@inbox.dpdk.org>; Thu, 29 Feb 2024 23:56:00 +0100 (CET)
Received: from mails.dpdk.org (localhost [127.0.0.1])
	by mails.dpdk.org (Postfix) with ESMTP id 09B22427D9;
	Thu, 29 Feb 2024 23:56:00 +0100 (CET)
Received: from mail-il1-f225.google.com (mail-il1-f225.google.com
 [209.85.166.225])
 by mails.dpdk.org (Postfix) with ESMTP id CF05140156
 for <test-report@dpdk.org>; Thu, 29 Feb 2024 23:55:58 +0100 (CET)
Received: by mail-il1-f225.google.com with SMTP id
 e9e14a558f8ab-3651d6dea15so4800045ab.1
 for <test-report@dpdk.org>; Thu, 29 Feb 2024 14:55:58 -0800 (PST)
DKIM-Signature: v=1; a=rsa-sha256; c=relaxed/relaxed;
 d=iol.unh.edu; s=unh-iol; t=1709247358; x=1709852158; darn=dpdk.org;
 h=references:in-reply-to:cc:to:from:subject:message-id:date:from:to
 :cc:subject:date:message-id:reply-to;
 bh=DciDZPe7/YtfLvHOOdlbigZyHiZko99n2EAwlsOZ1eY=;
 b=X8UcKHwCGA2DfHEoIZuvbeu3VlUdzZgGkCW27AZWmg6cgGSkxfKWF8LkeEKQ3g+Am/
 8Dgrh9GayfJZ9DyxOGtSXsgRyS8qhqVVl/X6W6u/1s1aePIZhlgvmYP2y6ENJpy5cBvi
 XvlHHyPe7oPlK1arRcOCk3rSxBIb5l6LALEEM=
X-Google-DKIM-Signature: v=1; a=rsa-sha256; c=relaxed/relaxed;
 d=1e100.net; s=20230601; t=1709247358; x=1709852158;
 h=references:in-reply-to:cc:to:from:subject:message-id:date
 :x-gm-message-state:from:to:cc:subject:date:message-id:reply-to;
 bh=DciDZPe7/YtfLvHOOdlbigZyHiZko99n2EAwlsOZ1eY=;
 b=EBojTNHqO8ULs6MmBHqFJX/3N+wSAEVbiiLV3G69TIwg8TzWDQDNEGn5c/GQXATM27
 KUF9LWNmY+oARGOTBvb94jG5Zy4N6r/GzQ1UBdi/RvUMejHRS/biwuflDIYu5DX0xULx
 ntbl0og2v68xl+R+U2kUf1upTdYZFKfMarKM91yodtLBdaID2pMoTDzTa1RKyjIKDRV3
 9Ap3PoC+HRY0KkeZQ/Nga+PwLB+nvTxUo8rs7tQXNrvTPU4Jn2fss8KfjWGN6bX1hQgh
 beJN0tHJqRLGj3/buuNjiDUPt2DCeEnNGi1N43E7Jfc+nDF6jjZy39pjGE7YwFOzJzNF
 TLZA==
X-Gm-Message-State: AOJu0YwrlEIXUF4OP2Y3hKMXJT3k/7jA5LifCQWXO8BzWPS4VJlCAxqW
 CtQlBn2MTao69ZVAY+1YPjEazwRUP9WqrNV5v0Kq1OydXazfVF0c1MYxbXCF3WPMYMlN+0U8WWq
 JB6FU8aAw5BM6xZ5CuGwK6emtprezlUG1gCBgpKrg
X-Google-Smtp-Source: AGHT+IGgIrAGi/c8KT1CKvJWYn6huzg5WeMVlLKNbm12uGkOpa1n+bB/ylns/Fz2H4gWmTcZuy2nxmLt1cBI
X-Received: by 2002:a05:6e02:1a4b:b0:365:4e45:7869 with SMTP id
 u11-20020a056e021a4b00b003654e457869mr178714ilv.12.1709247358176; 
 Thu, 29 Feb 2024 14:55:58 -0800 (PST)
Received: from postal.iol.unh.edu (postal.iol.unh.edu. [132.177.123.84])
 by smtp-relay.gmail.com with ESMTPS id
 by10-20020a056e02260a00b00363a24654adsm122702ilb.12.2024.02.29.14.55.58
 (version=TLS1_2 cipher=ECDHE-ECDSA-AES128-GCM-SHA256 bits=128/128);
 Thu, 29 Feb 2024 14:55:58 -0800 (PST)
X-Relaying-Domain: iol.unh.edu
Date: Thu, 29 Feb 2024 14:55:58 -0800 (PST)
Message-ID: <65e10b7e.050a0220.d4dd2.86a9SMTPIN_ADDED_MISSING@mx.google.com>
Received: from [172.21.0.7] (unknown [172.18.0.240])
 by postal.iol.unh.edu (Postfix) with ESMTP id 9EC0960527CD;
 Thu, 29 Feb 2024 17:55:57 -0500 (EST)
Subject: |SUCCESS| pw137514 [PATCH] net/tap: allow more that 4 queues
From: dpdklab@iol.unh.edu
To: Test Report <test-report@dpdk.org>
Cc: dpdk-test-reports@iol.unh.edu
In-Reply-To: <20240229175620.122949-1-stephen@networkplumber.org>
References: <20240229175620.122949-1-stephen@networkplumber.org>
Content-Type: text/plain
X-BeenThere: test-report@dpdk.org
X-Mailman-Version: 2.1.29
Precedence: list
List-Id: automatic DPDK test reports <test-report.dpdk.org>
List-Unsubscribe: <https://mails.dpdk.org/options/test-report>,
 <mailto:test-report-request@dpdk.org?subject=unsubscribe>
List-Archive: <http://mails.dpdk.org/archives/test-report/>
List-Post: <mailto:test-report@dpdk.org>
List-Help: <mailto:test-report-request@dpdk.org?subject=help>
List-Subscribe: <https://mails.dpdk.org/listinfo/test-report>,
 <mailto:test-report-request@dpdk.org?subject=subscribe>
Errors-To: test-report-bounces@dpdk.org

Test-Label: iol-abi-testing
Test-Status: SUCCESS
http://dpdk.org/patch/137514

_Testing PASS_

Submitter: Stephen Hemminger <stephen@networkplumber.org>
Date: Thursday, February 29 2024 17:56:18 
DPDK git baseline: Repo:dpdk
  Branch: master
  CommitID:f60df26faa3c90fc66d356e16347acd046971441

137514 --> testing pass

Test environment and result as below:

+------------------+----------+
|   Environment    | abi_test |
+==================+==========+
| CentOS Stream 9  | PASS     |
+------------------+----------+
| openSUSE Leap 15 | PASS     |
+------------------+----------+
| Ubuntu 22.04     | PASS     |
+------------------+----------+
| Fedora 38        | PASS     |
+------------------+----------+
| RHEL8            | PASS     |
+------------------+----------+
| Debian Bullseye  | PASS     |
+------------------+----------+
| Fedora 37        | PASS     |
+------------------+----------+
| Debian 12 (arm)  | PASS     |
+------------------+----------+
| CentOS Stream 8  | PASS     |
+------------------+----------+


CentOS Stream 9
	Kernel: 4.18.0-240.10.1.el8_3.x86_64
	Compiler: gcc 11.3.1 20220421

openSUSE Leap 15
	Kernel: 4.18.0-240.10.1.el8_3.x86_64
	Compiler: gcc 7.5.0

Ubuntu 22.04
	Kernel: 4.18.0-240.10.1.el8_3.x86_64
	Compiler: gcc 11.3.0

Fedora 38
	Kernel: Depends on container host
	Compiler: gcc 13.1.1

RHEL8
	Kernel: 4.18.0-240.10.1.el8_3.x86_64
	Compiler: gcc 8.3.1 20191121 (Red Hat 8.3.1-5)

Debian Bullseye
	Kernel: 5.4.0-122-generic
	Compiler: gcc 10.2.1-6

Fedora 37
	Kernel: Depends on container host system
	Compiler: gcc 12.3.1

Debian 12 (arm)
	Kernel: Container Host Kernel
	Compiler: gcc 11

CentOS Stream 8
	Kernel: 4.18.0-240.10.1.el8_3.x86_64
	Compiler: gcc 8.4.1 20200928

To view detailed results, visit:
https://lab.dpdk.org/results/dashboard/patchsets/29346/

UNH-IOL DPDK Community Lab

To manage your email subscriptions, visit: 
https://lab.dpdk.org/results/dashboard/preferences/subscriptions/