From mboxrd@z Thu Jan  1 00:00:00 1970
Return-Path: <test-report-bounces@dpdk.org>
Received: from mails.dpdk.org (mails.dpdk.org [217.70.189.124])
	by inbox.dpdk.org (Postfix) with ESMTP id 3BEF643BAE
	for <public@inbox.dpdk.org>; Fri,  1 Mar 2024 00:32:01 +0100 (CET)
Received: from mails.dpdk.org (localhost [127.0.0.1])
	by mails.dpdk.org (Postfix) with ESMTP id 380E042DDD;
	Fri,  1 Mar 2024 00:32:01 +0100 (CET)
Received: from mail-pg1-f227.google.com (mail-pg1-f227.google.com
 [209.85.215.227])
 by mails.dpdk.org (Postfix) with ESMTP id F062940282
 for <test-report@dpdk.org>; Fri,  1 Mar 2024 00:31:59 +0100 (CET)
Received: by mail-pg1-f227.google.com with SMTP id
 41be03b00d2f7-5d3907ff128so1389615a12.3
 for <test-report@dpdk.org>; Thu, 29 Feb 2024 15:31:59 -0800 (PST)
DKIM-Signature: v=1; a=rsa-sha256; c=relaxed/relaxed;
 d=iol.unh.edu; s=unh-iol; t=1709249519; x=1709854319; darn=dpdk.org;
 h=references:in-reply-to:cc:to:from:subject:message-id:date:from:to
 :cc:subject:date:message-id:reply-to;
 bh=ahKW6ogFJU69y4MGM5EsyBUaGppuUuz9Mi/nyUQnMG0=;
 b=JjwXa1w+31Zg7a0sQZOMQxb6HL8FcJ6C8tE64tb+6gFTUa33HdhiGGvKOItRfs9j4K
 JJHFUxJ5Np0B0SINRic4hWmtPKZ1hSYcnW381ewWKipUfmgWwqcHovhQN9pDf1ek3zw/
 MNseBuPRBdrC/5H1PV9hQsNeWT9DfNF40QYMo=
X-Google-DKIM-Signature: v=1; a=rsa-sha256; c=relaxed/relaxed;
 d=1e100.net; s=20230601; t=1709249519; x=1709854319;
 h=references:in-reply-to:cc:to:from:subject:message-id:date
 :x-gm-message-state:from:to:cc:subject:date:message-id:reply-to;
 bh=ahKW6ogFJU69y4MGM5EsyBUaGppuUuz9Mi/nyUQnMG0=;
 b=Du1t9xuUrnEINMNjyZ1G7TtOxOdXnL3L2u/tx+YtePOCKsIQA4YmRPHpPb/Qp4fjTP
 HNE9wpBSQYIR0jnzcC3g0zUjatCJZdlCZbpXjGnlJEW+wV71ktQIDcsh5OnoGHdfHKNo
 6vJN3zh9nHRVfFzUaH9h95d0oB9Dhiwcnf3GG/PFP6h0+NBB91Wa2iO7QvSORPLvzBQa
 jnya0nU9sUF+x9Un/HFBx8jQqETFs5V3Bu6IbXDx9Fikb2K443iXV7fYIJfPrWA4XWkM
 EJdatC/teW6sgQm3NgrU9U2jw6OSyPZ+aOYSwlJj7L5nru+qgTN5MezbJPJcZJcH5WIL
 sQAQ==
X-Gm-Message-State: AOJu0YxCuGtG1HwF2ba0BobsfM5AmZiwXAKoj9QonWG9Lr7V66LIu0u0
 zzqvcQniLm5x9TrsDSUvx2iJK/Qk7Vg8WD1Rc3O8ZtBJeYRzV+8SQGmUbP4Vb/kxkI1/w3HF+6r
 U2XwDozEccglP5u0L2iTPKrqVtdNqjfPyW3UZpHx2Nu7YvOgyIDuloyze
X-Google-Smtp-Source: AGHT+IHnCv33FEE4OXOjPjQP7fHpkzA22ASPfiVQIFYoKRqeS9pd2/f0hJKAJaO43D/bEf/gbgqoLKh0A87s
X-Received: by 2002:a05:6a20:ce4a:b0:1a0:fd53:740c with SMTP id
 id10-20020a056a20ce4a00b001a0fd53740cmr5023250pzb.22.1709249519208; 
 Thu, 29 Feb 2024 15:31:59 -0800 (PST)
Received: from postal.iol.unh.edu (postal.iol.unh.edu.
 [2606:4100:3880:1234::84]) by smtp-relay.gmail.com with ESMTPS id
 b5-20020a170902ed0500b001dbb6facadbsm64203pld.43.2024.02.29.15.31.59
 (version=TLS1_2 cipher=ECDHE-ECDSA-AES128-GCM-SHA256 bits=128/128);
 Thu, 29 Feb 2024 15:31:59 -0800 (PST)
X-Relaying-Domain: iol.unh.edu
Date: Thu, 29 Feb 2024 15:31:59 -0800 (PST)
Message-ID: <65e113ef.170a0220.5741d.4290SMTPIN_ADDED_MISSING@mx.google.com>
Received: from [172.21.0.6] (unknown [172.18.0.240])
 by postal.iol.unh.edu (Postfix) with ESMTP id 5C3D060527CD;
 Thu, 29 Feb 2024 18:31:58 -0500 (EST)
Subject: |SUCCESS| pw137522-137524 [PATCH] [v8,3/3] test/cryptodev: add tests
From: dpdklab@iol.unh.edu
To: Test Report <test-report@dpdk.org>
Cc: dpdk-test-reports@iol.unh.edu
In-Reply-To: <20240229194510.2741004-4-ciara.power@intel.com>
References: <20240229194510.2741004-4-ciara.power@intel.com>
Content-Type: text/plain
X-BeenThere: test-report@dpdk.org
X-Mailman-Version: 2.1.29
Precedence: list
List-Id: automatic DPDK test reports <test-report.dpdk.org>
List-Unsubscribe: <https://mails.dpdk.org/options/test-report>,
 <mailto:test-report-request@dpdk.org?subject=unsubscribe>
List-Archive: <http://mails.dpdk.org/archives/test-report/>
List-Post: <mailto:test-report@dpdk.org>
List-Help: <mailto:test-report-request@dpdk.org?subject=help>
List-Subscribe: <https://mails.dpdk.org/listinfo/test-report>,
 <mailto:test-report-request@dpdk.org?subject=subscribe>
Errors-To: test-report-bounces@dpdk.org

Test-Label: iol-abi-testing
Test-Status: SUCCESS
http://dpdk.org/patch/137524

_Testing PASS_

Submitter: Ciara Power <ciara.power@intel.com>
Date: Thursday, February 29 2024 19:45:09 
DPDK git baseline: Repo:dpdk
  Branch: master
  CommitID:8f27705b70911d12dc0f356a728d73279fbc1e84

137522-137524 --> testing pass

Test environment and result as below:

+------------------+----------+
|   Environment    | abi_test |
+==================+==========+
| Debian 12 (arm)  | PASS     |
+------------------+----------+
| CentOS Stream 9  | PASS     |
+------------------+----------+
| Debian Bullseye  | PASS     |
+------------------+----------+
| Fedora 38        | PASS     |
+------------------+----------+
| CentOS Stream 8  | PASS     |
+------------------+----------+
| openSUSE Leap 15 | PASS     |
+------------------+----------+
| Fedora 37        | PASS     |
+------------------+----------+
| Ubuntu 22.04     | PASS     |
+------------------+----------+
| RHEL8            | PASS     |
+------------------+----------+


Debian 12 (arm)
	Kernel: Container Host Kernel
	Compiler: gcc 11

CentOS Stream 9
	Kernel: 4.18.0-240.10.1.el8_3.x86_64
	Compiler: gcc 11.3.1 20220421

Debian Bullseye
	Kernel: 5.4.0-122-generic
	Compiler: gcc 10.2.1-6

Fedora 38
	Kernel: Depends on container host
	Compiler: gcc 13.1.1

CentOS Stream 8
	Kernel: 4.18.0-240.10.1.el8_3.x86_64
	Compiler: gcc 8.4.1 20200928

openSUSE Leap 15
	Kernel: 4.18.0-240.10.1.el8_3.x86_64
	Compiler: gcc 7.5.0

Fedora 37
	Kernel: Depends on container host system
	Compiler: gcc 12.3.1

Ubuntu 22.04
	Kernel: 4.18.0-240.10.1.el8_3.x86_64
	Compiler: gcc 11.3.0

RHEL8
	Kernel: 4.18.0-240.10.1.el8_3.x86_64
	Compiler: gcc 8.3.1 20191121 (Red Hat 8.3.1-5)

To view detailed results, visit:
https://lab.dpdk.org/results/dashboard/patchsets/29350/

UNH-IOL DPDK Community Lab

To manage your email subscriptions, visit: 
https://lab.dpdk.org/results/dashboard/preferences/subscriptions/