From mboxrd@z Thu Jan  1 00:00:00 1970
Return-Path: <test-report-bounces@dpdk.org>
Received: from mails.dpdk.org (mails.dpdk.org [217.70.189.124])
	by inbox.dpdk.org (Postfix) with ESMTP id 22AEC43BAE
	for <public@inbox.dpdk.org>; Fri,  1 Mar 2024 00:58:32 +0100 (CET)
Received: from mails.dpdk.org (localhost [127.0.0.1])
	by mails.dpdk.org (Postfix) with ESMTP id 1B8E040A80;
	Fri,  1 Mar 2024 00:58:32 +0100 (CET)
Received: from mail-io1-f97.google.com (mail-io1-f97.google.com
 [209.85.166.97]) by mails.dpdk.org (Postfix) with ESMTP id 68EB2402EA
 for <test-report@dpdk.org>; Fri,  1 Mar 2024 00:58:31 +0100 (CET)
Received: by mail-io1-f97.google.com with SMTP id
 ca18e2360f4ac-7c78573f294so101656839f.0
 for <test-report@dpdk.org>; Thu, 29 Feb 2024 15:58:31 -0800 (PST)
DKIM-Signature: v=1; a=rsa-sha256; c=relaxed/relaxed;
 d=iol.unh.edu; s=unh-iol; t=1709251111; x=1709855911; darn=dpdk.org;
 h=references:in-reply-to:cc:to:from:subject:message-id:date:from:to
 :cc:subject:date:message-id:reply-to;
 bh=amTy0Ag/0NhtyTHsGEzbybm8SqNAoWTd1gCsrxEQ0ys=;
 b=aK5pCZlOv69R9WJmaFnVU7xg7sJRo4hSRlfjMpLuDJL6dKRjUtox4YaKrZijk0QnG2
 aqmO9QpKikBVUMaEQPa6tET3nTpkXGhafygMk6EmcICByImr3SrmPUPRbxsl84K29T4O
 Ie8jgpfThzBORT0b4Ziutq9Nkg6tf6bcHGkB4=
X-Google-DKIM-Signature: v=1; a=rsa-sha256; c=relaxed/relaxed;
 d=1e100.net; s=20230601; t=1709251111; x=1709855911;
 h=references:in-reply-to:cc:to:from:subject:message-id:date
 :x-gm-message-state:from:to:cc:subject:date:message-id:reply-to;
 bh=amTy0Ag/0NhtyTHsGEzbybm8SqNAoWTd1gCsrxEQ0ys=;
 b=vj6x7HGuMn6vhSR0n4s7792V7YKnmE2pDDVHnyL8QGsw5lEDOCtj+59odLMjePHFLd
 0vScEgHd6kmgfr9THfnWcgvN+3Yu03T8QvbAnbc74MTRcplLXKqxnmLoT9ubPSgIukoT
 wM445D5UjBCrrEta5ddlqP8CzoHyij51jeX7XSyFVwONDdIGyfPoIzcnnmkxJ/5eEy1P
 wjQ0XdiU4K58Yu7xfplabyNV/DtXvO7QU4RehpeIfK0QroFCJIxEAMeAqxafA2OVLQD0
 hdejJRwVyhJlIQ7Rr7SPQHNTNsiQl3bLXMDrPvBiIyu8ZFP+zDk+a+nWDnG5jkXjCV4B
 RHgw==
X-Gm-Message-State: AOJu0Yx3koJ4CWetlJ/ExQsUFdjKMmmMSLiPw6nbW8lZtN8WLl2xXNwB
 W3uQoBlrBWGqvfshsrSRZX5jBPz+N8noWEtrR714vqF4Q5TgxH3eOgSzPxwmsxosRw7EqwDI1Fv
 a6pa1s8pPVPVVfsa4/IAddDDS7oduWoExQfZfeTXO43H9+k0a65zdYj2B
X-Google-Smtp-Source: AGHT+IETyvjJMpoFqaMyL8dYBsc0nsTNog1vZkVxdA4A/HRzOksR4dsqP0G1DrPd3UmebhqGP3Yry1WccRhR
X-Received: by 2002:a05:6e02:1849:b0:365:2390:9321 with SMTP id
 b9-20020a056e02184900b0036523909321mr273127ilv.4.1709251110836; 
 Thu, 29 Feb 2024 15:58:30 -0800 (PST)
Received: from postal.iol.unh.edu (postal.iol.unh.edu.
 [2606:4100:3880:1234::84]) by smtp-relay.gmail.com with ESMTPS id
 be1-20020a056e02304100b003619329f032sm116680ilb.4.2024.02.29.15.58.30
 (version=TLS1_2 cipher=ECDHE-ECDSA-AES128-GCM-SHA256 bits=128/128);
 Thu, 29 Feb 2024 15:58:30 -0800 (PST)
X-Relaying-Domain: iol.unh.edu
Date: Thu, 29 Feb 2024 15:58:30 -0800 (PST)
Message-ID: <65e11a26.050a0220.71ece.7aeeSMTPIN_ADDED_MISSING@mx.google.com>
Received: from [172.21.0.6] (unknown [172.18.0.240])
 by postal.iol.unh.edu (Postfix) with ESMTP id 5C32D60527CD;
 Thu, 29 Feb 2024 18:58:30 -0500 (EST)
Subject: |SUCCESS| pw137497-137500 [PATCH] [v11,4/4] app/dma-perf: add SG cop
From: dpdklab@iol.unh.edu
To: Test Report <test-report@dpdk.org>
Cc: dpdk-test-reports@iol.unh.edu
In-Reply-To: <e4852ed5b0b2dbb6ad0355ea7517cf1638ba61a7.1709210551.git.gmuthukrishn@marvell.com>
References: <e4852ed5b0b2dbb6ad0355ea7517cf1638ba61a7.1709210551.git.gmuthukrishn@marvell.com>
Content-Type: text/plain
X-BeenThere: test-report@dpdk.org
X-Mailman-Version: 2.1.29
Precedence: list
List-Id: automatic DPDK test reports <test-report.dpdk.org>
List-Unsubscribe: <https://mails.dpdk.org/options/test-report>,
 <mailto:test-report-request@dpdk.org?subject=unsubscribe>
List-Archive: <http://mails.dpdk.org/archives/test-report/>
List-Post: <mailto:test-report@dpdk.org>
List-Help: <mailto:test-report-request@dpdk.org?subject=help>
List-Subscribe: <https://mails.dpdk.org/listinfo/test-report>,
 <mailto:test-report-request@dpdk.org?subject=subscribe>
Errors-To: test-report-bounces@dpdk.org

Test-Label: iol-compile-amd64-testing
Test-Status: SUCCESS
http://dpdk.org/patch/137500

_Testing PASS_

Submitter: Gowrishankar Muthukrishnan <gmuthukrishn@marvell.com>
Date: Thursday, February 29 2024 13:48:10 
DPDK git baseline: Repo:dpdk
  Branch: master
  CommitID:92c0ad70caf3ed6f4b93de6ddaf7bc369737c049

137497-137500 --> testing pass

Test environment and result as below:

+---------------------+--------------------+
|     Environment     | dpdk_meson_compile |
+=====================+====================+
| FreeBSD 13.2        | PASS               |
+---------------------+--------------------+
| CentOS Stream 8     | PASS               |
+---------------------+--------------------+
| CentOS Stream 9     | PASS               |
+---------------------+--------------------+
| RHEL8               | PASS               |
+---------------------+--------------------+
| Debian Bullseye     | PASS               |
+---------------------+--------------------+
| Fedora 37           | PASS               |
+---------------------+--------------------+
| Debian 12 (arm)     | PASS               |
+---------------------+--------------------+
| Fedora 38           | PASS               |
+---------------------+--------------------+
| Windows Server 2022 | PASS               |
+---------------------+--------------------+
| openSUSE Leap 15    | PASS               |
+---------------------+--------------------+
| Ubuntu 22.04        | PASS               |
+---------------------+--------------------+
| Ubuntu 20.04        | PASS               |
+---------------------+--------------------+
| Alpine              | PASS               |
+---------------------+--------------------+


FreeBSD 13.2
	Kernel: 13.2
	Compiler: clang 11.3.0

CentOS Stream 8
	Kernel: 4.18.0-240.10.1.el8_3.x86_64
	Compiler: gcc 8.4.1 20200928

CentOS Stream 9
	Kernel: 4.18.0-240.10.1.el8_3.x86_64
	Compiler: gcc 11.3.1 20220421

RHEL8
	Kernel: 4.18.0-240.10.1.el8_3.x86_64
	Compiler: gcc 8.3.1 20191121 (Red Hat 8.3.1-5)

Debian Bullseye
	Kernel: 5.4.0-122-generic
	Compiler: gcc 10.2.1-6

Fedora 37
	Kernel: Depends on container host system
	Compiler: gcc 12.3.1

Debian 12 (arm)
	Kernel: Container Host Kernel
	Compiler: gcc 11

Fedora 38
	Kernel: Depends on container host
	Compiler: clang 16.0.3

Windows Server 2022
	Kernel: OS Build 20348.2031
	Compiler: MSVC VS-Preview

openSUSE Leap 15
	Kernel: 4.18.0-240.10.1.el8_3.x86_64
	Compiler: gcc 7.5.0

Ubuntu 22.04
	Kernel: 4.18.0-240.10.1.el8_3.x86_64
	Compiler: gcc 11.3.0

Ubuntu 20.04
	Kernel: 5.4.0-153-generic
	Compiler: gcc 9.4.0-1ubuntu1~20.04.1

Alpine
	Kernel: 5.4.0-73-generic
	Compiler: gcc (Alpine 10.3.1_git20210424) 10.3.1 20210424

To view detailed results, visit:
https://lab.dpdk.org/results/dashboard/patchsets/29338/

UNH-IOL DPDK Community Lab

To manage your email subscriptions, visit: 
https://lab.dpdk.org/results/dashboard/preferences/subscriptions/