From mboxrd@z Thu Jan  1 00:00:00 1970
Return-Path: <test-report-bounces@dpdk.org>
Received: from mails.dpdk.org (mails.dpdk.org [217.70.189.124])
	by inbox.dpdk.org (Postfix) with ESMTP id C7B0B43BAE
	for <public@inbox.dpdk.org>; Fri,  1 Mar 2024 01:06:06 +0100 (CET)
Received: from mails.dpdk.org (localhost [127.0.0.1])
	by mails.dpdk.org (Postfix) with ESMTP id C0E8240A80;
	Fri,  1 Mar 2024 01:06:06 +0100 (CET)
Received: from mail-yw1-f226.google.com (mail-yw1-f226.google.com
 [209.85.128.226])
 by mails.dpdk.org (Postfix) with ESMTP id 3D331402EA
 for <test-report@dpdk.org>; Fri,  1 Mar 2024 01:06:05 +0100 (CET)
Received: by mail-yw1-f226.google.com with SMTP id
 00721157ae682-60925d20af0so16786707b3.2
 for <test-report@dpdk.org>; Thu, 29 Feb 2024 16:06:05 -0800 (PST)
DKIM-Signature: v=1; a=rsa-sha256; c=relaxed/relaxed;
 d=iol.unh.edu; s=unh-iol; t=1709251564; x=1709856364; darn=dpdk.org;
 h=references:in-reply-to:cc:to:from:subject:message-id:date:from:to
 :cc:subject:date:message-id:reply-to;
 bh=pz1UsgdIWGQBB1oyjI6dnQ+Nwzu2KO1xQ6W5VFx2K+I=;
 b=bivUyYMdr986Fh+LbPC7e6Y+8Y2S23TAIk0k2L+Axqf3/Wngu7bziqBW5XcWsQmO7C
 /jU5UTfOSrLy9pVGHI1zSbNmxCdId+UR2umrKXoHodLDbGyLQXbyRbysAm7U3QqunFeI
 /Ik+RXwJZpT9t7jE09iQz7UZGccbtBD0rqMwU=
X-Google-DKIM-Signature: v=1; a=rsa-sha256; c=relaxed/relaxed;
 d=1e100.net; s=20230601; t=1709251564; x=1709856364;
 h=references:in-reply-to:cc:to:from:subject:message-id:date
 :x-gm-message-state:from:to:cc:subject:date:message-id:reply-to;
 bh=pz1UsgdIWGQBB1oyjI6dnQ+Nwzu2KO1xQ6W5VFx2K+I=;
 b=lTAnBxLE+cqcCE4lVpYPR+EqeLAcf4bvMiCDyOT5JmyCzOdAXhfaDkLQhZy7aiPR1B
 SXbndINMs/PRGV6gPPTchfN3QH7Zl8dsIBOiac5SezSAgrRmGQdEfwoPd4XDYNbrKhM8
 bx0hdNpdHobNj/QOTl74x/ptsiqJDq1UNpOjctQZQTuaKjBcqN5wZxseIze31nhDs0wY
 tAQm0CnrofKs8Rpi2R/O8cOuQUJ5Uk0D5CfTY/R3eLOeereyH6DleiZy8edtnZVaVJ3b
 DMS/ITUIURWGVQiAfRLfPH2Pk/dk4e7Ee0Monmex+cc5WTxzIEIXFYTNmHbNdvGpbQpV
 1aWw==
X-Gm-Message-State: AOJu0YzRil8ZeSD7PiNJd3jeMtzKAvlQqZeX2YZgZImMfyCZ4Ll4pCte
 M+ligNqnyeoVBg01vGfb1hXXIPZetKMVHsq63vWV/e3cO79fIyCN5/XQ8owXMVumszt1YibzuX4
 4r6YuZ4wslRVxC1hPzlfqc/9XzhSlXlEla3tFo4zm
X-Google-Smtp-Source: AGHT+IGQ42LHydBaQ/6qriJ7nxrgWDgHpjG+bWcCkG1oX+j7KpvW3HtiIdRqlRV31k3uZ0tkX74WiWPy5L4H
X-Received: by 2002:a0d:d4c6:0:b0:609:3250:865 with SMTP id
 w189-20020a0dd4c6000000b0060932500865mr116471ywd.7.1709251564668; 
 Thu, 29 Feb 2024 16:06:04 -0800 (PST)
Received: from postal.iol.unh.edu (postal.iol.unh.edu. [132.177.123.84])
 by smtp-relay.gmail.com with ESMTPS id
 bh24-20020a05690c039800b006096cd93e01sm59041ywb.49.2024.02.29.16.06.04
 (version=TLS1_2 cipher=ECDHE-ECDSA-AES128-GCM-SHA256 bits=128/128);
 Thu, 29 Feb 2024 16:06:04 -0800 (PST)
X-Relaying-Domain: iol.unh.edu
Date: Thu, 29 Feb 2024 16:06:04 -0800 (PST)
Message-ID: <65e11bec.050a0220.7647d.3cc2SMTPIN_ADDED_MISSING@mx.google.com>
Received: from [172.21.0.6] (unknown [172.18.0.240])
 by postal.iol.unh.edu (Postfix) with ESMTP id 586CA60527CD;
 Thu, 29 Feb 2024 19:06:04 -0500 (EST)
Subject: |SUCCESS| pw137497-137500 [PATCH] [v11,4/4] app/dma-perf: add SG cop
From: dpdklab@iol.unh.edu
To: Test Report <test-report@dpdk.org>
Cc: dpdk-test-reports@iol.unh.edu
In-Reply-To: <e4852ed5b0b2dbb6ad0355ea7517cf1638ba61a7.1709210551.git.gmuthukrishn@marvell.com>
References: <e4852ed5b0b2dbb6ad0355ea7517cf1638ba61a7.1709210551.git.gmuthukrishn@marvell.com>
Content-Type: text/plain
X-BeenThere: test-report@dpdk.org
X-Mailman-Version: 2.1.29
Precedence: list
List-Id: automatic DPDK test reports <test-report.dpdk.org>
List-Unsubscribe: <https://mails.dpdk.org/options/test-report>,
 <mailto:test-report-request@dpdk.org?subject=unsubscribe>
List-Archive: <http://mails.dpdk.org/archives/test-report/>
List-Post: <mailto:test-report@dpdk.org>
List-Help: <mailto:test-report-request@dpdk.org?subject=help>
List-Subscribe: <https://mails.dpdk.org/listinfo/test-report>,
 <mailto:test-report-request@dpdk.org?subject=subscribe>
Errors-To: test-report-bounces@dpdk.org

Test-Label: iol-unit-amd64-testing
Test-Status: SUCCESS
http://dpdk.org/patch/137500

_Testing PASS_

Submitter: Gowrishankar Muthukrishnan <gmuthukrishn@marvell.com>
Date: Thursday, February 29 2024 13:48:10 
DPDK git baseline: Repo:dpdk
  Branch: master
  CommitID:92c0ad70caf3ed6f4b93de6ddaf7bc369737c049

137497-137500 --> testing pass

Test environment and result as below:

+------------------+----------------+
|   Environment    | dpdk_unit_test |
+==================+================+
| CentOS Stream 8  | PASS           |
+------------------+----------------+
| CentOS Stream 9  | PASS           |
+------------------+----------------+
| Debian Bullseye  | PASS           |
+------------------+----------------+
| Fedora 37        | PASS           |
+------------------+----------------+
| openSUSE Leap 15 | PASS           |
+------------------+----------------+
| Debian 12 (arm)  | PASS           |
+------------------+----------------+
| Fedora 38        | PASS           |
+------------------+----------------+
| RHEL8            | PASS           |
+------------------+----------------+
| Ubuntu 22.04     | PASS           |
+------------------+----------------+
| Ubuntu 20.04     | PASS           |
+------------------+----------------+


CentOS Stream 8
	Kernel: 4.18.0-240.10.1.el8_3.x86_64
	Compiler: gcc 8.4.1 20200928

CentOS Stream 9
	Kernel: 4.18.0-240.10.1.el8_3.x86_64
	Compiler: gcc 11.3.1 20220421

Debian Bullseye
	Kernel: 5.4.0-122-generic
	Compiler: gcc 10.2.1-6

Fedora 37
	Kernel: Depends on container host system
	Compiler: gcc 12.3.1

openSUSE Leap 15
	Kernel: 4.18.0-240.10.1.el8_3.x86_64
	Compiler: gcc 7.5.0

Debian 12 (arm)
	Kernel: Container Host Kernel
	Compiler: gcc 11

Fedora 38
	Kernel: Depends on container host
	Compiler: gcc 13.1.1

RHEL8
	Kernel: 4.18.0-240.10.1.el8_3.x86_64
	Compiler: gcc 8.3.1 20191121 (Red Hat 8.3.1-5)

Ubuntu 22.04
	Kernel: 4.18.0-240.10.1.el8_3.x86_64
	Compiler: gcc 11.3.0

Ubuntu 20.04
	Kernel: 5.4.0-153-generic
	Compiler: gcc 9.4.0-1ubuntu1~20.04.1

To view detailed results, visit:
https://lab.dpdk.org/results/dashboard/patchsets/29338/

UNH-IOL DPDK Community Lab

To manage your email subscriptions, visit: 
https://lab.dpdk.org/results/dashboard/preferences/subscriptions/