From mboxrd@z Thu Jan  1 00:00:00 1970
Return-Path: <test-report-bounces@dpdk.org>
Received: from mails.dpdk.org (mails.dpdk.org [217.70.189.124])
	by inbox.dpdk.org (Postfix) with ESMTP id D5B3943BAE
	for <public@inbox.dpdk.org>; Fri,  1 Mar 2024 01:22:54 +0100 (CET)
Received: from mails.dpdk.org (localhost [127.0.0.1])
	by mails.dpdk.org (Postfix) with ESMTP id B97DF40A80;
	Fri,  1 Mar 2024 01:22:54 +0100 (CET)
Received: from mail-pl1-f225.google.com (mail-pl1-f225.google.com
 [209.85.214.225])
 by mails.dpdk.org (Postfix) with ESMTP id 43025402EA
 for <test-report@dpdk.org>; Fri,  1 Mar 2024 01:22:53 +0100 (CET)
Received: by mail-pl1-f225.google.com with SMTP id
 d9443c01a7336-1d7232dcb3eso12479705ad.2
 for <test-report@dpdk.org>; Thu, 29 Feb 2024 16:22:53 -0800 (PST)
DKIM-Signature: v=1; a=rsa-sha256; c=relaxed/relaxed;
 d=iol.unh.edu; s=unh-iol; t=1709252572; x=1709857372; darn=dpdk.org;
 h=references:in-reply-to:cc:to:from:subject:message-id:date:from:to
 :cc:subject:date:message-id:reply-to;
 bh=N8a+5eRl5EIKTLMRBMWpeZwWgABoVXegt0LN177dltc=;
 b=TATSrPR0HEqLVTwSuNLrwiN+AtFz2OCUQ0a4HffGP60RQqHS179ENpORFy4jmy1Ocm
 9ymynKu4phKZvpoIpnuImBH48TaxkupiJEhHzvdstVpnvp8BII4Gtv+ZlW7Hpqc3V7pQ
 BsGOXaC1Hkcqg4kuI7t2HoKz3VG2YTH/NWHa4=
X-Google-DKIM-Signature: v=1; a=rsa-sha256; c=relaxed/relaxed;
 d=1e100.net; s=20230601; t=1709252572; x=1709857372;
 h=references:in-reply-to:cc:to:from:subject:message-id:date
 :x-gm-message-state:from:to:cc:subject:date:message-id:reply-to;
 bh=N8a+5eRl5EIKTLMRBMWpeZwWgABoVXegt0LN177dltc=;
 b=ih3EmftZ7tAXMpCnJpfEz4kt/K2c5T6TWle/KXjdELI6vZWfPQw91bGFIzTwRtKW2S
 IUHA4gWiZlgbdg0RSQI2HVnNkgG23uQHf80Mg4HslfC1+w+0DYYB/9MZEzcgC0afiWvy
 dDVxYerjViB8sEAuF0ZndFJSh/Xpvod+isNuQx/tE4QS77ag5zkVksa+B80QI4LCq635
 LNiDNtWZ3itrnK5fcFD31XHakg31d2+cc2W/LUYxyzORp5wSSSJ27RzMPBE6o1Wo5bH8
 7kNGoe2/H1WpXdCWVoZXbmMUB9bYpHyUxHIZ40sw/hHnz7TNNn86180yOx56WhSvYgAA
 TZ8w==
X-Gm-Message-State: AOJu0Yz/BgzAjsq5UHi2pOADqgoE38/CMRI1RzLDXRpCOl3J8JajtEAn
 UbQ8EPmJMA6tdbpkZeb76gBiVtGOpviQ/MIJpGUxF2kv44mDGXv4ySa7G02WUGG72N3Gi7wk2mq
 000cejv0uSsQCwIwaB5r25UTvLeSXXAO5GoEsXqx9
X-Google-Smtp-Source: AGHT+IE1BMj7zwuUlFKUCppEEMNkkxjPKUeUv9Q/vhL95g+zwXJP5PFjch/YZ7wFquIvOH5ccvYU5CyUACgp
X-Received: by 2002:a17:903:2987:b0:1dc:16:9000 with SMTP id
 lm7-20020a170903298700b001dc00169000mr156074plb.16.1709252572343; 
 Thu, 29 Feb 2024 16:22:52 -0800 (PST)
Received: from postal.iol.unh.edu (postal.iol.unh.edu. [132.177.123.84])
 by smtp-relay.gmail.com with ESMTPS id
 n6-20020a170902968600b001d936afdd34sm62301plp.135.2024.02.29.16.22.52
 (version=TLS1_2 cipher=ECDHE-ECDSA-AES128-GCM-SHA256 bits=128/128);
 Thu, 29 Feb 2024 16:22:52 -0800 (PST)
X-Relaying-Domain: iol.unh.edu
Date: Thu, 29 Feb 2024 16:22:52 -0800 (PST)
Message-ID: <65e11fdc.170a0220.5c2b2.43f0SMTPIN_ADDED_MISSING@mx.google.com>
Received: from [172.21.0.6] (unknown [172.18.0.240])
 by postal.iol.unh.edu (Postfix) with ESMTP id 71F1160527CD;
 Thu, 29 Feb 2024 19:22:51 -0500 (EST)
Subject: |SUCCESS| pw137497-137500 [PATCH] [v11,4/4] app/dma-perf: add SG cop
From: dpdklab@iol.unh.edu
To: Test Report <test-report@dpdk.org>
Cc: dpdk-test-reports@iol.unh.edu
In-Reply-To: <e4852ed5b0b2dbb6ad0355ea7517cf1638ba61a7.1709210551.git.gmuthukrishn@marvell.com>
References: <e4852ed5b0b2dbb6ad0355ea7517cf1638ba61a7.1709210551.git.gmuthukrishn@marvell.com>
Content-Type: text/plain
X-BeenThere: test-report@dpdk.org
X-Mailman-Version: 2.1.29
Precedence: list
List-Id: automatic DPDK test reports <test-report.dpdk.org>
List-Unsubscribe: <https://mails.dpdk.org/options/test-report>,
 <mailto:test-report-request@dpdk.org?subject=unsubscribe>
List-Archive: <http://mails.dpdk.org/archives/test-report/>
List-Post: <mailto:test-report@dpdk.org>
List-Help: <mailto:test-report-request@dpdk.org?subject=help>
List-Subscribe: <https://mails.dpdk.org/listinfo/test-report>,
 <mailto:test-report-request@dpdk.org?subject=subscribe>
Errors-To: test-report-bounces@dpdk.org

Test-Label: iol-compile-arm64-testing
Test-Status: SUCCESS
http://dpdk.org/patch/137500

_Testing PASS_

Submitter: Gowrishankar Muthukrishnan <gmuthukrishn@marvell.com>
Date: Thursday, February 29 2024 13:48:10 
DPDK git baseline: Repo:dpdk
  Branch: master
  CommitID:92c0ad70caf3ed6f4b93de6ddaf7bc369737c049

137497-137500 --> testing pass

Test environment and result as below:

+----------------------------------------+--------------------+
|              Environment               | dpdk_meson_compile |
+========================================+====================+
| Ubuntu 20.04 ARM SVE                   | PASS               |
+----------------------------------------+--------------------+
| Fedora 37 (ARM)                        | PASS               |
+----------------------------------------+--------------------+
| Debian 11 (Buster) (ARM)               | PASS               |
+----------------------------------------+--------------------+
| Fedora 38 (ARM)                        | PASS               |
+----------------------------------------+--------------------+
| Ubuntu 20.04 (ARM)                     | PASS               |
+----------------------------------------+--------------------+
| Debian 12 (arm)                        | PASS               |
+----------------------------------------+--------------------+
| CentOS Stream 9 (ARM)                  | PASS               |
+----------------------------------------+--------------------+
| Ubuntu 20.04 ARM GCC Cross Compile     | PASS               |
+----------------------------------------+--------------------+
| Ubuntu 20.04 aarch32 GCC Cross Compile | PASS               |
+----------------------------------------+--------------------+
| Ubuntu 20.04 ARM Clang Cross Compile   | PASS               |
+----------------------------------------+--------------------+


Ubuntu 20.04 ARM SVE
	Kernel: 5.4.0-80-generic
	Compiler: gcc 10.3.0 (Ubuntu 10.3.0-1ubuntu1~20.04)

Fedora 37 (ARM)
	Kernel: Depends on container host
	Compiler: gcc 12.3.1

Debian 11 (Buster) (ARM)
	Kernel: Container Host Kernel
	Compiler: gcc 10.2.1

Fedora 38 (ARM)
	Kernel: Depends on container host
	Compiler: gcc 13.1.1

Ubuntu 20.04 (ARM)
	Kernel: Container Host Kernel
	Compiler: gcc 9.4.0

Debian 12 (arm)
	Kernel: Container Host Kernel
	Compiler: gcc 11

CentOS Stream 9 (ARM)
	Kernel: Container Host Kernel
	Compiler: gcc 11.3.1

Ubuntu 20.04 ARM GCC Cross Compile
	Kernel: 5.4.0-72-generic
	Compiler: aarch64-linux-gnu-gcc (Ubuntu 9.3.0-17ubuntu1~20.04) 9.3.0

Ubuntu 20.04 aarch32 GCC Cross Compile
	Kernel: 5.4.0-72-generic
	Compiler: gcc 9.3.0

Ubuntu 20.04 ARM Clang Cross Compile
	Kernel: 5.4.0-72-generic
	Compiler: clang version 10.0.0-4ubuntu1

To view detailed results, visit:
https://lab.dpdk.org/results/dashboard/patchsets/29338/

UNH-IOL DPDK Community Lab

To manage your email subscriptions, visit: 
https://lab.dpdk.org/results/dashboard/preferences/subscriptions/