From mboxrd@z Thu Jan  1 00:00:00 1970
Return-Path: <test-report-bounces@dpdk.org>
Received: from mails.dpdk.org (mails.dpdk.org [217.70.189.124])
	by inbox.dpdk.org (Postfix) with ESMTP id 25FB443BAE
	for <public@inbox.dpdk.org>; Fri,  1 Mar 2024 01:45:58 +0100 (CET)
Received: from mails.dpdk.org (localhost [127.0.0.1])
	by mails.dpdk.org (Postfix) with ESMTP id 21160402EA;
	Fri,  1 Mar 2024 01:45:58 +0100 (CET)
Received: from mail-pl1-f227.google.com (mail-pl1-f227.google.com
 [209.85.214.227])
 by mails.dpdk.org (Postfix) with ESMTP id 832BD4025C
 for <test-report@dpdk.org>; Fri,  1 Mar 2024 01:45:56 +0100 (CET)
Received: by mail-pl1-f227.google.com with SMTP id
 d9443c01a7336-1dc139ed11fso22681365ad.0
 for <test-report@dpdk.org>; Thu, 29 Feb 2024 16:45:56 -0800 (PST)
DKIM-Signature: v=1; a=rsa-sha256; c=relaxed/relaxed;
 d=iol.unh.edu; s=unh-iol; t=1709253956; x=1709858756; darn=dpdk.org;
 h=references:in-reply-to:cc:to:from:subject:message-id:date:from:to
 :cc:subject:date:message-id:reply-to;
 bh=LFWvlAAHOHYmOEKK4qZD/WykOksKMPO9v40AUnAxLWY=;
 b=b2yar2I2P9l0CtiuthMeHFT7/KitbMIxVC01DD+wyo0Z8wo1KJfQw4cwidqweMeHF5
 dOmCnhD/n57aAFvHAYR1ldCZYE5LI4/LyshL1WQ36kaqTudz8DjjtLr5PTWDvErotWvX
 k0iLfDNZtEatCJgfbbcjvHYNvO5KgtSel5RDw=
X-Google-DKIM-Signature: v=1; a=rsa-sha256; c=relaxed/relaxed;
 d=1e100.net; s=20230601; t=1709253956; x=1709858756;
 h=references:in-reply-to:cc:to:from:subject:message-id:date
 :x-gm-message-state:from:to:cc:subject:date:message-id:reply-to;
 bh=LFWvlAAHOHYmOEKK4qZD/WykOksKMPO9v40AUnAxLWY=;
 b=cxrSu104/ARDBSZxGX8XGGPoP2kffjPhmNHWm3Va3bro8GZPWJ3/GUrn+60GtbGLcO
 p6aDARQvKUCQw2r+8eJikFZr145S9iaxLfkf46A9IQ3gYSXxkVtUxe8JsgJGs2oqTdpO
 B47nrzHbu0UVCq9U5WCZSjNI3fgY7LQuDkvNtDFIWVm0q4DEZYBBiHdXj+sPe9BeYoGv
 HjtogxN9EGmQSzC/sIwAdSY23+qsE1cFPQErasVor+T9ICHefjktg43DLYS1K6/EFdE2
 z+rS5nJ7euVaK66yJaTiHlCziJz2uOkg4g1PSSCHY7kT1Ml/ZVlESkJBfRw5zAoyDZ2C
 KV6w==
X-Gm-Message-State: AOJu0YzK0YUEHc9SQXoveeYB2Ir/Nh1O4Tv697pUdHqNkYhlQuupsRyF
 4jwyyPvG4w+L5zcZLMep8mI0SqXJrkXgufDvSZ1r87BdmnwzuNXyzqid1yFNjerF2t0hH4flhP6
 P0iAn3wmV6VelCAb8cI6IgMOY5rPlAft33KTnNu9fhzYOZTr/Q65UBq4O
X-Google-Smtp-Source: AGHT+IElRvTcfhcyDaL7E+0VyNSN36p9wO9zVF1Yda3mC8c5Ymo45NCazS66yHj2yACUmgXpQ/eFoDXTvnz2
X-Received: by 2002:a17:902:e88d:b0:1d9:adc9:2962 with SMTP id
 w13-20020a170902e88d00b001d9adc92962mr242455plg.20.1709253955727; 
 Thu, 29 Feb 2024 16:45:55 -0800 (PST)
Received: from postal.iol.unh.edu (postal.iol.unh.edu.
 [2606:4100:3880:1234::84]) by smtp-relay.gmail.com with ESMTPS id
 p5-20020a170902eac500b001db5d12792esm65312pld.112.2024.02.29.16.45.55
 (version=TLS1_2 cipher=ECDHE-ECDSA-AES128-GCM-SHA256 bits=128/128);
 Thu, 29 Feb 2024 16:45:55 -0800 (PST)
X-Relaying-Domain: iol.unh.edu
Date: Thu, 29 Feb 2024 16:45:55 -0800 (PST)
Message-ID: <65e12543.170a0220.3dd1c.419dSMTPIN_ADDED_MISSING@mx.google.com>
Received: from [172.21.0.6] (unknown [172.18.0.240])
 by postal.iol.unh.edu (Postfix) with ESMTP id E135860527CD;
 Thu, 29 Feb 2024 19:45:54 -0500 (EST)
Subject: |SUCCESS| pw137511-137513 [PATCH] [3/3] net/tap: compute TC handle c
From: dpdklab@iol.unh.edu
To: Test Report <test-report@dpdk.org>
Cc: dpdk-test-reports@iol.unh.edu
In-Reply-To: <20240229173154.121491-4-stephen@networkplumber.org>
References: <20240229173154.121491-4-stephen@networkplumber.org>
Content-Type: text/plain
X-BeenThere: test-report@dpdk.org
X-Mailman-Version: 2.1.29
Precedence: list
List-Id: automatic DPDK test reports <test-report.dpdk.org>
List-Unsubscribe: <https://mails.dpdk.org/options/test-report>,
 <mailto:test-report-request@dpdk.org?subject=unsubscribe>
List-Archive: <http://mails.dpdk.org/archives/test-report/>
List-Post: <mailto:test-report@dpdk.org>
List-Help: <mailto:test-report-request@dpdk.org?subject=help>
List-Subscribe: <https://mails.dpdk.org/listinfo/test-report>,
 <mailto:test-report-request@dpdk.org?subject=subscribe>
Errors-To: test-report-bounces@dpdk.org

Test-Label: iol-compile-arm64-testing
Test-Status: SUCCESS
http://dpdk.org/patch/137513

_Testing PASS_

Submitter: Stephen Hemminger <stephen@networkplumber.org>
Date: Thursday, February 29 2024 17:31:08 
DPDK git baseline: Repo:dpdk
  Branch: master
  CommitID:f60df26faa3c90fc66d356e16347acd046971441

137511-137513 --> testing pass

Test environment and result as below:

+----------------------------------------+--------------------+
|              Environment               | dpdk_meson_compile |
+========================================+====================+
| Ubuntu 20.04 ARM SVE                   | PASS               |
+----------------------------------------+--------------------+
| Debian 12 (arm)                        | PASS               |
+----------------------------------------+--------------------+
| Ubuntu 20.04 (ARM)                     | PASS               |
+----------------------------------------+--------------------+
| Debian 11 (Buster) (ARM)               | PASS               |
+----------------------------------------+--------------------+
| Fedora 38 (ARM)                        | PASS               |
+----------------------------------------+--------------------+
| Fedora 37 (ARM)                        | PASS               |
+----------------------------------------+--------------------+
| CentOS Stream 9 (ARM)                  | PASS               |
+----------------------------------------+--------------------+
| Ubuntu 20.04 aarch32 GCC Cross Compile | PASS               |
+----------------------------------------+--------------------+


Ubuntu 20.04 ARM SVE
	Kernel: 5.4.0-80-generic
	Compiler: gcc 10.3.0 (Ubuntu 10.3.0-1ubuntu1~20.04)

Debian 12 (arm)
	Kernel: Container Host Kernel
	Compiler: gcc 11

Ubuntu 20.04 (ARM)
	Kernel: Container Host Kernel
	Compiler: gcc 9.4.0

Debian 11 (Buster) (ARM)
	Kernel: Container Host Kernel
	Compiler: gcc 10.2.1

Fedora 38 (ARM)
	Kernel: Depends on container host
	Compiler: gcc 13.1.1

Fedora 37 (ARM)
	Kernel: Depends on container host
	Compiler: gcc 12.3.1

CentOS Stream 9 (ARM)
	Kernel: Container Host Kernel
	Compiler: gcc 11.3.1

Ubuntu 20.04 aarch32 GCC Cross Compile
	Kernel: 5.4.0-72-generic
	Compiler: gcc 9.3.0

To view detailed results, visit:
https://lab.dpdk.org/results/dashboard/patchsets/29345/

UNH-IOL DPDK Community Lab

To manage your email subscriptions, visit: 
https://lab.dpdk.org/results/dashboard/preferences/subscriptions/