From mboxrd@z Thu Jan  1 00:00:00 1970
Return-Path: <test-report-bounces@dpdk.org>
Received: from mails.dpdk.org (mails.dpdk.org [217.70.189.124])
	by inbox.dpdk.org (Postfix) with ESMTP id D221E43BAE
	for <public@inbox.dpdk.org>; Fri,  1 Mar 2024 01:49:41 +0100 (CET)
Received: from mails.dpdk.org (localhost [127.0.0.1])
	by mails.dpdk.org (Postfix) with ESMTP id CAF9B402EA;
	Fri,  1 Mar 2024 01:49:41 +0100 (CET)
Received: from mail-io1-f98.google.com (mail-io1-f98.google.com
 [209.85.166.98]) by mails.dpdk.org (Postfix) with ESMTP id 3ACE64025C
 for <test-report@dpdk.org>; Fri,  1 Mar 2024 01:49:41 +0100 (CET)
Received: by mail-io1-f98.google.com with SMTP id
 ca18e2360f4ac-7c7701f95b6so78864039f.1
 for <test-report@dpdk.org>; Thu, 29 Feb 2024 16:49:41 -0800 (PST)
DKIM-Signature: v=1; a=rsa-sha256; c=relaxed/relaxed;
 d=iol.unh.edu; s=unh-iol; t=1709254180; x=1709858980; darn=dpdk.org;
 h=references:in-reply-to:cc:to:from:subject:message-id:date:from:to
 :cc:subject:date:message-id:reply-to;
 bh=Z5KaugRHIpj/zZ2INHWTsY8ZpG0S27oaqaaYVXf3NCo=;
 b=ft0finjPRhUsTdMOVAWX7Ynhdwop3BuoJJOCvFmxmamiWnNB5eeJulzmh0ioR71h5i
 7GGrEW7IYwaJOOB2ko7VwqfKa7Vvs/HWmcWO5WIfuerumrddcV9npY9Oqx8flUYzZRb6
 JcxMbN5gve2ywkzkfqL8hZzrkG4vVJ7D0Fcqk=
X-Google-DKIM-Signature: v=1; a=rsa-sha256; c=relaxed/relaxed;
 d=1e100.net; s=20230601; t=1709254180; x=1709858980;
 h=references:in-reply-to:cc:to:from:subject:message-id:date
 :x-gm-message-state:from:to:cc:subject:date:message-id:reply-to;
 bh=Z5KaugRHIpj/zZ2INHWTsY8ZpG0S27oaqaaYVXf3NCo=;
 b=lAvQCZbNEPSfTZWVPkhUAXRvg+n5+hmbbhbJyjsIR51WAwuoXxTN5TfnFxlLHDBqNS
 +VQQ0sarAGiEsWd8GJ/tAqS213EDZa/Fdot5U7kxNC2GF/hcEdoiWzZmZjYwKd6ehdP3
 OmxrQ4crhqZXOcG82pdvVCaApaTfphNQtorZuJn8r5czLkgSpneQCbg+RKxg+bAQL7EN
 KThBOg1UxlQreep7PbVwTjNv4R32Ok0sa/LoQo9+DS5cPnfNlwFk2myGghN56nx2+t2t
 S8Iq3DmP0BPPBnQlV/zxrLiijh1q/qEaAe1Mf93sIDT/FZDZfNera0NEmZXLlViMiGuJ
 4WHQ==
X-Gm-Message-State: AOJu0Yxg0v6CULwbunfW8dy8EpRV2V9P2FLdgFC581piGnSCpwB0BCea
 BftmzTFiZIlthURiqiHM+QiRKaqPlPUe8g4xW/bBRa76BtlkQPouVFHDn7j4H3toBYeEvMoLoVJ
 JUJ6cfBb5bEmto5Cex0oA0P06yucScxt2JLs5VhIA
X-Google-Smtp-Source: AGHT+IGsO4xxsuhNahzEcgj5ifXyrR6+pRN8qlWfrWEFPbDlWSPIs8rpy8nugfs+1idx5sdZSGo7n83EVzod
X-Received: by 2002:a92:c56b:0:b0:364:e54:9fad with SMTP id
 b11-20020a92c56b000000b003640e549fadmr78400ilj.2.1709254180631; 
 Thu, 29 Feb 2024 16:49:40 -0800 (PST)
Received: from postal.iol.unh.edu (postal.iol.unh.edu. [132.177.123.84])
 by smtp-relay.gmail.com with ESMTPS id
 cn15-20020a056e02388f00b00365822e4606sm123024ilb.62.2024.02.29.16.49.40
 (version=TLS1_2 cipher=ECDHE-ECDSA-AES128-GCM-SHA256 bits=128/128);
 Thu, 29 Feb 2024 16:49:40 -0800 (PST)
X-Relaying-Domain: iol.unh.edu
Date: Thu, 29 Feb 2024 16:49:40 -0800 (PST)
Message-ID: <65e12624.050a0220.f13fd.8127SMTPIN_ADDED_MISSING@mx.google.com>
Received: from [172.21.0.6] (unknown [172.18.0.240])
 by postal.iol.unh.edu (Postfix) with ESMTP id 478F860527CD;
 Thu, 29 Feb 2024 19:49:40 -0500 (EST)
Subject: |SUCCESS| pw137511-137513 [PATCH] [3/3] net/tap: compute TC handle c
From: dpdklab@iol.unh.edu
To: Test Report <test-report@dpdk.org>
Cc: dpdk-test-reports@iol.unh.edu
In-Reply-To: <20240229173154.121491-4-stephen@networkplumber.org>
References: <20240229173154.121491-4-stephen@networkplumber.org>
Content-Type: text/plain
X-BeenThere: test-report@dpdk.org
X-Mailman-Version: 2.1.29
Precedence: list
List-Id: automatic DPDK test reports <test-report.dpdk.org>
List-Unsubscribe: <https://mails.dpdk.org/options/test-report>,
 <mailto:test-report-request@dpdk.org?subject=unsubscribe>
List-Archive: <http://mails.dpdk.org/archives/test-report/>
List-Post: <mailto:test-report@dpdk.org>
List-Help: <mailto:test-report-request@dpdk.org?subject=help>
List-Subscribe: <https://mails.dpdk.org/listinfo/test-report>,
 <mailto:test-report-request@dpdk.org?subject=subscribe>
Errors-To: test-report-bounces@dpdk.org

Test-Label: iol-compile-amd64-testing
Test-Status: SUCCESS
http://dpdk.org/patch/137513

_Testing PASS_

Submitter: Stephen Hemminger <stephen@networkplumber.org>
Date: Thursday, February 29 2024 17:31:08 
DPDK git baseline: Repo:dpdk
  Branch: master
  CommitID:f60df26faa3c90fc66d356e16347acd046971441

137511-137513 --> testing pass

Test environment and result as below:

+---------------------+--------------------+
|     Environment     | dpdk_meson_compile |
+=====================+====================+
| FreeBSD 13.2        | PASS               |
+---------------------+--------------------+
| Debian Bullseye     | PASS               |
+---------------------+--------------------+
| CentOS Stream 8     | PASS               |
+---------------------+--------------------+
| Debian 12 (arm)     | PASS               |
+---------------------+--------------------+
| Fedora 38           | PASS               |
+---------------------+--------------------+
| CentOS Stream 9     | PASS               |
+---------------------+--------------------+
| RHEL8               | PASS               |
+---------------------+--------------------+
| Fedora 37           | PASS               |
+---------------------+--------------------+
| Windows Server 2022 | PASS               |
+---------------------+--------------------+
| Ubuntu 22.04        | PASS               |
+---------------------+--------------------+
| openSUSE Leap 15    | PASS               |
+---------------------+--------------------+
| Ubuntu 20.04        | PASS               |
+---------------------+--------------------+


FreeBSD 13.2
	Kernel: 13.2
	Compiler: clang 11.3.0

Debian Bullseye
	Kernel: 5.4.0-122-generic
	Compiler: gcc 10.2.1-6

CentOS Stream 8
	Kernel: 4.18.0-240.10.1.el8_3.x86_64
	Compiler: gcc 8.4.1 20200928

Debian 12 (arm)
	Kernel: Container Host Kernel
	Compiler: gcc 11

Fedora 38
	Kernel: Depends on container host
	Compiler: gcc 13.1.1

CentOS Stream 9
	Kernel: 4.18.0-240.10.1.el8_3.x86_64
	Compiler: gcc 11.3.1 20220421

RHEL8
	Kernel: 4.18.0-240.10.1.el8_3.x86_64
	Compiler: gcc 8.3.1 20191121 (Red Hat 8.3.1-5)

Fedora 37
	Kernel: Depends on container host system
	Compiler: gcc 12.3.1

Windows Server 2022
	Kernel: OS Build 20348.2031
	Compiler: MSVC VS-Preview

Ubuntu 22.04
	Kernel: 4.18.0-240.10.1.el8_3.x86_64
	Compiler: gcc 11.3.0

openSUSE Leap 15
	Kernel: 4.18.0-240.10.1.el8_3.x86_64
	Compiler: gcc 7.5.0

Ubuntu 20.04
	Kernel: 5.4.0-153-generic
	Compiler: gcc 9.4.0-1ubuntu1~20.04.1

To view detailed results, visit:
https://lab.dpdk.org/results/dashboard/patchsets/29345/

UNH-IOL DPDK Community Lab

To manage your email subscriptions, visit: 
https://lab.dpdk.org/results/dashboard/preferences/subscriptions/