From mboxrd@z Thu Jan  1 00:00:00 1970
Return-Path: <test-report-bounces@dpdk.org>
Received: from mails.dpdk.org (mails.dpdk.org [217.70.189.124])
	by inbox.dpdk.org (Postfix) with ESMTP id 2214943BAE
	for <public@inbox.dpdk.org>; Fri,  1 Mar 2024 01:50:13 +0100 (CET)
Received: from mails.dpdk.org (localhost [127.0.0.1])
	by mails.dpdk.org (Postfix) with ESMTP id 1A80C402EA;
	Fri,  1 Mar 2024 01:50:13 +0100 (CET)
Received: from mail-pg1-f225.google.com (mail-pg1-f225.google.com
 [209.85.215.225])
 by mails.dpdk.org (Postfix) with ESMTP id 556DC4025C
 for <test-report@dpdk.org>; Fri,  1 Mar 2024 01:50:12 +0100 (CET)
Received: by mail-pg1-f225.google.com with SMTP id
 41be03b00d2f7-5cddfe0cb64so1116176a12.0
 for <test-report@dpdk.org>; Thu, 29 Feb 2024 16:50:12 -0800 (PST)
DKIM-Signature: v=1; a=rsa-sha256; c=relaxed/relaxed;
 d=iol.unh.edu; s=unh-iol; t=1709254211; x=1709859011; darn=dpdk.org;
 h=references:in-reply-to:cc:to:from:subject:message-id:date:from:to
 :cc:subject:date:message-id:reply-to;
 bh=LFWvlAAHOHYmOEKK4qZD/WykOksKMPO9v40AUnAxLWY=;
 b=ckmYCAJG3x/KTJbXBxzWbis0UAAhMpQThe5w4b6V5U6xcmyZm+TNp9PPy08HPDU5oE
 84DWL4uBRaEewe36Wjv5Ila1MliaKTxbS6o+hZUB/h6kNBnwe51n9620jxRypvJjEMkQ
 KBzHWLvEfHrdSMobCQFCOvEEsAD3HdSGT/7wc=
X-Google-DKIM-Signature: v=1; a=rsa-sha256; c=relaxed/relaxed;
 d=1e100.net; s=20230601; t=1709254211; x=1709859011;
 h=references:in-reply-to:cc:to:from:subject:message-id:date
 :x-gm-message-state:from:to:cc:subject:date:message-id:reply-to;
 bh=LFWvlAAHOHYmOEKK4qZD/WykOksKMPO9v40AUnAxLWY=;
 b=YI1kYYbUqp4Ad3U7j3kwaS2iPxdUhSeKUdHGDO3wofFO6tL7CPxpc+l0gAGSh59+wm
 CJ4g2HTY4Hulk3iwU2ghOd/dR1MlhXe/ySp7qh+daWOP+qpzYk3b18AabSEiA87uvdWz
 NXz7adAoOCnHuLqcYyS9a0YC/MlSHCoJsnmcW2/9PPLG/lLxBeUZ2HeBABnJCY/sZW6O
 7RnMCWwoLRF6xTXrR/40tfZv6hl935McLgD4lQpGPh0BNRUR5Hw+yXq+VjnvBuIvARkt
 OW8kNmdrYRWvkCv5ydkLqLjsZrJHQ+P0mx8MXcXJGobP3IsAdO9RCPieogtuZY/AsyY/
 HVHA==
X-Gm-Message-State: AOJu0YyJQMop63QEyp03CXMwH+0wVro8z9eVawBgRWJuw7SWupEii+aw
 yUO/vPi+kr77FbFRKJW0MHqCdZ4W61OnWPjHW4u4Q4M40lhg/RJKk6WNdh+OxATvTezbj6RG18V
 VcdRM0KIaAC6Q+2OWiwjOaXLMhbTJmSd7Q3uOuTng
X-Google-Smtp-Source: AGHT+IGBs2GAB6tYGSQuvTbrDfE5tnzIjs/8KrcE13UEpSMolOpOie7kOiaCqJct8SMEuKsYp44FdG6bPHGB
X-Received: by 2002:a17:90a:d983:b0:29a:b31e:2801 with SMTP id
 d3-20020a17090ad98300b0029ab31e2801mr292182pjv.1.1709254211608; 
 Thu, 29 Feb 2024 16:50:11 -0800 (PST)
Received: from postal.iol.unh.edu (postal.iol.unh.edu. [132.177.123.84])
 by smtp-relay.gmail.com with ESMTPS id
 t7-20020a17090abc4700b0029b180e5392sm47346pjv.14.2024.02.29.16.50.11
 (version=TLS1_2 cipher=ECDHE-ECDSA-AES128-GCM-SHA256 bits=128/128);
 Thu, 29 Feb 2024 16:50:11 -0800 (PST)
X-Relaying-Domain: iol.unh.edu
Date: Thu, 29 Feb 2024 16:50:11 -0800 (PST)
Message-ID: <65e12643.170a0220.c02f5.2f57SMTPIN_ADDED_MISSING@mx.google.com>
Received: from [172.21.0.7] (unknown [172.18.0.240])
 by postal.iol.unh.edu (Postfix) with ESMTP id C8D7B60527CD;
 Thu, 29 Feb 2024 19:50:10 -0500 (EST)
Subject: |SUCCESS| pw137511-137513 [PATCH] [3/3] net/tap: compute TC handle c
From: dpdklab@iol.unh.edu
To: Test Report <test-report@dpdk.org>
Cc: dpdk-test-reports@iol.unh.edu
In-Reply-To: <20240229173154.121491-4-stephen@networkplumber.org>
References: <20240229173154.121491-4-stephen@networkplumber.org>
Content-Type: text/plain
X-BeenThere: test-report@dpdk.org
X-Mailman-Version: 2.1.29
Precedence: list
List-Id: automatic DPDK test reports <test-report.dpdk.org>
List-Unsubscribe: <https://mails.dpdk.org/options/test-report>,
 <mailto:test-report-request@dpdk.org?subject=unsubscribe>
List-Archive: <http://mails.dpdk.org/archives/test-report/>
List-Post: <mailto:test-report@dpdk.org>
List-Help: <mailto:test-report-request@dpdk.org?subject=help>
List-Subscribe: <https://mails.dpdk.org/listinfo/test-report>,
 <mailto:test-report-request@dpdk.org?subject=subscribe>
Errors-To: test-report-bounces@dpdk.org

Test-Label: iol-compile-arm64-testing
Test-Status: SUCCESS
http://dpdk.org/patch/137513

_Testing PASS_

Submitter: Stephen Hemminger <stephen@networkplumber.org>
Date: Thursday, February 29 2024 17:31:08 
DPDK git baseline: Repo:dpdk
  Branch: master
  CommitID:f60df26faa3c90fc66d356e16347acd046971441

137511-137513 --> testing pass

Test environment and result as below:

+----------------------------------------+--------------------+
|              Environment               | dpdk_meson_compile |
+========================================+====================+
| Ubuntu 20.04 ARM SVE                   | PASS               |
+----------------------------------------+--------------------+
| Debian 12 (arm)                        | PASS               |
+----------------------------------------+--------------------+
| Ubuntu 20.04 (ARM)                     | PASS               |
+----------------------------------------+--------------------+
| Debian 11 (Buster) (ARM)               | PASS               |
+----------------------------------------+--------------------+
| Fedora 38 (ARM)                        | PASS               |
+----------------------------------------+--------------------+
| Fedora 37 (ARM)                        | PASS               |
+----------------------------------------+--------------------+
| CentOS Stream 9 (ARM)                  | PASS               |
+----------------------------------------+--------------------+
| Ubuntu 20.04 aarch32 GCC Cross Compile | PASS               |
+----------------------------------------+--------------------+


Ubuntu 20.04 ARM SVE
	Kernel: 5.4.0-80-generic
	Compiler: gcc 10.3.0 (Ubuntu 10.3.0-1ubuntu1~20.04)

Debian 12 (arm)
	Kernel: Container Host Kernel
	Compiler: gcc 11

Ubuntu 20.04 (ARM)
	Kernel: Container Host Kernel
	Compiler: gcc 9.4.0

Debian 11 (Buster) (ARM)
	Kernel: Container Host Kernel
	Compiler: gcc 10.2.1

Fedora 38 (ARM)
	Kernel: Depends on container host
	Compiler: gcc 13.1.1

Fedora 37 (ARM)
	Kernel: Depends on container host
	Compiler: gcc 12.3.1

CentOS Stream 9 (ARM)
	Kernel: Container Host Kernel
	Compiler: gcc 11.3.1

Ubuntu 20.04 aarch32 GCC Cross Compile
	Kernel: 5.4.0-72-generic
	Compiler: gcc 9.3.0

To view detailed results, visit:
https://lab.dpdk.org/results/dashboard/patchsets/29345/

UNH-IOL DPDK Community Lab

To manage your email subscriptions, visit: 
https://lab.dpdk.org/results/dashboard/preferences/subscriptions/