From mboxrd@z Thu Jan  1 00:00:00 1970
Return-Path: <test-report-bounces@dpdk.org>
Received: from mails.dpdk.org (mails.dpdk.org [217.70.189.124])
	by inbox.dpdk.org (Postfix) with ESMTP id 980DC43BAE
	for <public@inbox.dpdk.org>; Fri,  1 Mar 2024 01:58:20 +0100 (CET)
Received: from mails.dpdk.org (localhost [127.0.0.1])
	by mails.dpdk.org (Postfix) with ESMTP id 67294402E0;
	Fri,  1 Mar 2024 01:58:20 +0100 (CET)
Received: from mail-qv1-f99.google.com (mail-qv1-f99.google.com
 [209.85.219.99]) by mails.dpdk.org (Postfix) with ESMTP id 755B84025C
 for <test-report@dpdk.org>; Fri,  1 Mar 2024 01:58:18 +0100 (CET)
Received: by mail-qv1-f99.google.com with SMTP id
 6a1803df08f44-68f5cdca7a3so20330156d6.1
 for <test-report@dpdk.org>; Thu, 29 Feb 2024 16:58:18 -0800 (PST)
DKIM-Signature: v=1; a=rsa-sha256; c=relaxed/relaxed;
 d=iol.unh.edu; s=unh-iol; t=1709254698; x=1709859498; darn=dpdk.org;
 h=references:in-reply-to:cc:to:from:subject:message-id:date:from:to
 :cc:subject:date:message-id:reply-to;
 bh=1XLQA5/h/thIthkd4pqw96vWOjrmAWNUfGYQL1fE70k=;
 b=D1+QXwV7jUteEh1yuvcMzLWYhOeYMbI+TZbvwrUEu0KrFacRLy0sEdv0nKk48+PoXT
 lJx1NPMi7ds4UHczHO0qWH8Y5mDQ5HUIcQRPpg51PvwLc41qHlYeoQO4GdvgTDBSLmrE
 Nx3erIMtyLU746Tsrq98edJuv1+vsRneX1mhU=
X-Google-DKIM-Signature: v=1; a=rsa-sha256; c=relaxed/relaxed;
 d=1e100.net; s=20230601; t=1709254698; x=1709859498;
 h=references:in-reply-to:cc:to:from:subject:message-id:date
 :x-gm-message-state:from:to:cc:subject:date:message-id:reply-to;
 bh=1XLQA5/h/thIthkd4pqw96vWOjrmAWNUfGYQL1fE70k=;
 b=WWj1kPXoO7EYpa4BPkbwm7Xu/vLZAZQ+GQcwvN1eA65Xi6sQW/Sa9NQFR5ZeGELD0d
 GTQZT//C/Vs7tFVZ/WMQS3syF/CT2dDV9rx9bNUkJhD7pCujuj6L5qEUPilXGYJ3cMyU
 99OcbfxmKHO0RSxVdBnaGKL1rwf6A2qS4CZC8r84yKK+vAHKV/0mKVftcBc3oBmpD7ST
 UbVqhgYmbXPLCzl3UCcOAhQjhTa2B78VRiGlV2irNBscWNLAguxrQb1YXv+Cy2+EdbSr
 9g3S5916WNSGdFHgap71Cyyd+yDmZvhrUMlOFyk0z7GD3dHn0jSR94EM01RQjZOAoHsU
 ro0g==
X-Gm-Message-State: AOJu0YwEj8TaTm28RZDOxeEeGfSuI9E5WhIHwzQqm2d6lu9DhtgzleTX
 2B/LqQbsWmUyoNSgbwE/u5esT0DZp7pHM+KH3ERs4WqY35JiIicKJk/j79ztzdZaIlXpxQ+tWJB
 TPg5AQhJZgzCTzMWshx1Wfx8yl9g5ejT0o5m2lMQC
X-Google-Smtp-Source: AGHT+IHWFC6qmtRZ4szIFZAm0CF3H8FPMY+Bg5/L+l3k5zBl0Yc7bxluy9yrx88EeV7VsRK5IBJMITt4zqV4
X-Received: by 2002:a0c:fb12:0:b0:690:551c:1a9 with SMTP id
 c18-20020a0cfb12000000b00690551c01a9mr317192qvp.10.1709254697871; 
 Thu, 29 Feb 2024 16:58:17 -0800 (PST)
Received: from postal.iol.unh.edu (postal.iol.unh.edu. [132.177.123.84])
 by smtp-relay.gmail.com with ESMTPS id
 gi8-20020a056214248800b0068f3d78e17dsm92991qvb.41.2024.02.29.16.58.17
 (version=TLS1_2 cipher=ECDHE-ECDSA-AES128-GCM-SHA256 bits=128/128);
 Thu, 29 Feb 2024 16:58:17 -0800 (PST)
X-Relaying-Domain: iol.unh.edu
Date: Thu, 29 Feb 2024 16:58:17 -0800 (PST)
Message-ID: <65e12829.050a0220.595e8.6363SMTPIN_ADDED_MISSING@mx.google.com>
Received: from [172.21.0.6] (unknown [172.18.0.240])
 by postal.iol.unh.edu (Postfix) with ESMTP id 9B39260527CD;
 Thu, 29 Feb 2024 19:58:17 -0500 (EST)
Subject: |SUCCESS| pw137511-137513 [PATCH] [3/3] net/tap: compute TC handle c
From: dpdklab@iol.unh.edu
To: Test Report <test-report@dpdk.org>
Cc: dpdk-test-reports@iol.unh.edu
In-Reply-To: <20240229173154.121491-4-stephen@networkplumber.org>
References: <20240229173154.121491-4-stephen@networkplumber.org>
Content-Type: text/plain
X-BeenThere: test-report@dpdk.org
X-Mailman-Version: 2.1.29
Precedence: list
List-Id: automatic DPDK test reports <test-report.dpdk.org>
List-Unsubscribe: <https://mails.dpdk.org/options/test-report>,
 <mailto:test-report-request@dpdk.org?subject=unsubscribe>
List-Archive: <http://mails.dpdk.org/archives/test-report/>
List-Post: <mailto:test-report@dpdk.org>
List-Help: <mailto:test-report-request@dpdk.org?subject=help>
List-Subscribe: <https://mails.dpdk.org/listinfo/test-report>,
 <mailto:test-report-request@dpdk.org?subject=subscribe>
Errors-To: test-report-bounces@dpdk.org

Test-Label: iol-compile-amd64-testing
Test-Status: SUCCESS
http://dpdk.org/patch/137513

_Testing PASS_

Submitter: Stephen Hemminger <stephen@networkplumber.org>
Date: Thursday, February 29 2024 17:31:08 
DPDK git baseline: Repo:dpdk
  Branch: master
  CommitID:f60df26faa3c90fc66d356e16347acd046971441

137511-137513 --> testing pass

Test environment and result as below:

+---------------------+--------------------+
|     Environment     | dpdk_meson_compile |
+=====================+====================+
| FreeBSD 13.2        | PASS               |
+---------------------+--------------------+
| Debian Bullseye     | PASS               |
+---------------------+--------------------+
| CentOS Stream 8     | PASS               |
+---------------------+--------------------+
| Debian 12 (arm)     | PASS               |
+---------------------+--------------------+
| Fedora 38           | PASS               |
+---------------------+--------------------+
| CentOS Stream 9     | PASS               |
+---------------------+--------------------+
| RHEL8               | PASS               |
+---------------------+--------------------+
| Fedora 37           | PASS               |
+---------------------+--------------------+
| Windows Server 2022 | PASS               |
+---------------------+--------------------+
| Ubuntu 22.04        | PASS               |
+---------------------+--------------------+
| openSUSE Leap 15    | PASS               |
+---------------------+--------------------+
| Ubuntu 20.04        | PASS               |
+---------------------+--------------------+
| Alpine              | PASS               |
+---------------------+--------------------+


FreeBSD 13.2
	Kernel: 13.2
	Compiler: clang 11.3.0

Debian Bullseye
	Kernel: 5.4.0-122-generic
	Compiler: gcc 10.2.1-6

CentOS Stream 8
	Kernel: 4.18.0-240.10.1.el8_3.x86_64
	Compiler: gcc 8.4.1 20200928

Debian 12 (arm)
	Kernel: Container Host Kernel
	Compiler: gcc 11

Fedora 38
	Kernel: Depends on container host
	Compiler: gcc 13.1.1

CentOS Stream 9
	Kernel: 4.18.0-240.10.1.el8_3.x86_64
	Compiler: gcc 11.3.1 20220421

RHEL8
	Kernel: 4.18.0-240.10.1.el8_3.x86_64
	Compiler: gcc 8.3.1 20191121 (Red Hat 8.3.1-5)

Fedora 37
	Kernel: Depends on container host system
	Compiler: gcc 12.3.1

Windows Server 2022
	Kernel: OS Build 20348.2031
	Compiler: MSVC VS-Preview

Ubuntu 22.04
	Kernel: 4.18.0-240.10.1.el8_3.x86_64
	Compiler: gcc 11.3.0

openSUSE Leap 15
	Kernel: 4.18.0-240.10.1.el8_3.x86_64
	Compiler: gcc 7.5.0

Ubuntu 20.04
	Kernel: 5.4.0-153-generic
	Compiler: gcc 9.4.0-1ubuntu1~20.04.1

Alpine
	Kernel: 5.4.0-73-generic
	Compiler: gcc (Alpine 10.3.1_git20210424) 10.3.1 20210424

To view detailed results, visit:
https://lab.dpdk.org/results/dashboard/patchsets/29345/

UNH-IOL DPDK Community Lab

To manage your email subscriptions, visit: 
https://lab.dpdk.org/results/dashboard/preferences/subscriptions/