From mboxrd@z Thu Jan  1 00:00:00 1970
Return-Path: <test-report-bounces@dpdk.org>
Received: from mails.dpdk.org (mails.dpdk.org [217.70.189.124])
	by inbox.dpdk.org (Postfix) with ESMTP id 3AB8A43BB1
	for <public@inbox.dpdk.org>; Fri,  1 Mar 2024 02:00:33 +0100 (CET)
Received: from mails.dpdk.org (localhost [127.0.0.1])
	by mails.dpdk.org (Postfix) with ESMTP id 36673402E0;
	Fri,  1 Mar 2024 02:00:33 +0100 (CET)
Received: from mail-ot1-f100.google.com (mail-ot1-f100.google.com
 [209.85.210.100])
 by mails.dpdk.org (Postfix) with ESMTP id F40394025C
 for <test-report@dpdk.org>; Fri,  1 Mar 2024 02:00:31 +0100 (CET)
Received: by mail-ot1-f100.google.com with SMTP id
 46e09a7af769-6e480d8fb5eso709256a34.1
 for <test-report@dpdk.org>; Thu, 29 Feb 2024 17:00:31 -0800 (PST)
DKIM-Signature: v=1; a=rsa-sha256; c=relaxed/relaxed;
 d=iol.unh.edu; s=unh-iol; t=1709254831; x=1709859631; darn=dpdk.org;
 h=references:in-reply-to:cc:to:from:subject:message-id:date:from:to
 :cc:subject:date:message-id:reply-to;
 bh=g0E28dJdW5jcSHTAhJDwa9YbDpEmE142YgzCHUjeLHI=;
 b=Lt5r/+rrIww7c6ERHSFJk8vRH8jbHyooH1UMe1Z9sOuB+6LcKSrkI8EQY9cdzGSkkg
 pjkE8HF3a4q1+bUTfCP0YwZqtdmXzT4bJGoCgo+gV6QhBktJ5KikRCW0yvSOfJ4nGJeO
 uPTPfgAX91fn0IYqVpMOlS8bpyTROtUIz1raE=
X-Google-DKIM-Signature: v=1; a=rsa-sha256; c=relaxed/relaxed;
 d=1e100.net; s=20230601; t=1709254831; x=1709859631;
 h=references:in-reply-to:cc:to:from:subject:message-id:date
 :x-gm-message-state:from:to:cc:subject:date:message-id:reply-to;
 bh=g0E28dJdW5jcSHTAhJDwa9YbDpEmE142YgzCHUjeLHI=;
 b=FrdhfPrXWaa3JDrdskCmLHx3cjUw4QQRiNyTBAFaD+e18oJglc5t3weMCMLChxpDf2
 f8KU0MUYuBXKBreW1a4ZCz6/GJpVKdVgX+hv3ULCAJZ1gAiy1czDuGY54UWNQcO5YzSV
 MHwxQ+4NUHCagH8FVrikrktQXDcusCDZB4exVQklZOMh3YCy5kwsTe5mYNlWi/yFkx7L
 2vk6rg9bCT8Lp+uQO9PykOBfwpwmSiin5Av8xN6ePPJm6RAWwyDhSIJKUJMApsqikULQ
 585sKUGuQf9xwOHqw3Pb0qJJ70ywVXgsXCThleO6oo5DYsgm025Kzgtmx2n5yyFcdWPm
 3WiQ==
X-Gm-Message-State: AOJu0YzkkDjYdGmxUM/CF8o2841g4IjP9gCy5EBbfJk3xNwgIzHr9ZMV
 OAyOfdEg9u/G2JyadfyrBtDyKbHGJBXjNIjmGwGbXmFQga3hKY/xu8fHiU8SCApKwB2eWlwuxcu
 TY9lDL4fJ+aRqItcY/g3rOzeTcpJDBwdxFogqZ4cd
X-Google-Smtp-Source: AGHT+IFhMx75VnMosiZkMa/cyYCAs8wgQO15Be5pZaep6Jd8zT3rrqikykwsQCFV3/0Sw84fUVFvHJnlsKpt
X-Received: by 2002:a05:6870:dc4b:b0:21f:f485:6b71 with SMTP id
 nr11-20020a056870dc4b00b0021ff4856b71mr220464oab.8.1709254831158; 
 Thu, 29 Feb 2024 17:00:31 -0800 (PST)
Received: from postal.iol.unh.edu (postal.iol.unh.edu. [132.177.123.84])
 by smtp-relay.gmail.com with ESMTPS id
 q14-20020a9d664e000000b006e4973c3ce1sm98803otm.8.2024.02.29.17.00.31
 (version=TLS1_2 cipher=ECDHE-ECDSA-AES128-GCM-SHA256 bits=128/128);
 Thu, 29 Feb 2024 17:00:31 -0800 (PST)
X-Relaying-Domain: iol.unh.edu
Date: Thu, 29 Feb 2024 17:00:31 -0800 (PST)
Message-ID: <65e128af.9d0a0220.64ecb.57d3SMTPIN_ADDED_MISSING@mx.google.com>
Received: from [172.21.0.6] (unknown [172.18.0.240])
 by postal.iol.unh.edu (Postfix) with ESMTP id A0D6460527CD;
 Thu, 29 Feb 2024 20:00:30 -0500 (EST)
Subject: |SUCCESS| pw137511-137513 [PATCH] [3/3] net/tap: compute TC handle c
From: dpdklab@iol.unh.edu
To: Test Report <test-report@dpdk.org>
Cc: dpdk-test-reports@iol.unh.edu
In-Reply-To: <20240229173154.121491-4-stephen@networkplumber.org>
References: <20240229173154.121491-4-stephen@networkplumber.org>
Content-Type: text/plain
X-BeenThere: test-report@dpdk.org
X-Mailman-Version: 2.1.29
Precedence: list
List-Id: automatic DPDK test reports <test-report.dpdk.org>
List-Unsubscribe: <https://mails.dpdk.org/options/test-report>,
 <mailto:test-report-request@dpdk.org?subject=unsubscribe>
List-Archive: <http://mails.dpdk.org/archives/test-report/>
List-Post: <mailto:test-report@dpdk.org>
List-Help: <mailto:test-report-request@dpdk.org?subject=help>
List-Subscribe: <https://mails.dpdk.org/listinfo/test-report>,
 <mailto:test-report-request@dpdk.org?subject=subscribe>
Errors-To: test-report-bounces@dpdk.org

Test-Label: iol-unit-amd64-testing
Test-Status: SUCCESS
http://dpdk.org/patch/137513

_Testing PASS_

Submitter: Stephen Hemminger <stephen@networkplumber.org>
Date: Thursday, February 29 2024 17:31:08 
DPDK git baseline: Repo:dpdk
  Branch: master
  CommitID:f60df26faa3c90fc66d356e16347acd046971441

137511-137513 --> testing pass

Test environment and result as below:

+------------------+----------------+
|   Environment    | dpdk_unit_test |
+==================+================+
| CentOS Stream 8  | PASS           |
+------------------+----------------+
| CentOS Stream 9  | PASS           |
+------------------+----------------+
| Debian Bullseye  | PASS           |
+------------------+----------------+
| Debian 12 (arm)  | PASS           |
+------------------+----------------+
| Fedora 37        | PASS           |
+------------------+----------------+
| RHEL8            | PASS           |
+------------------+----------------+
| Fedora 38        | PASS           |
+------------------+----------------+
| Ubuntu 22.04     | PASS           |
+------------------+----------------+
| Ubuntu 20.04     | PASS           |
+------------------+----------------+
| openSUSE Leap 15 | PASS           |
+------------------+----------------+


CentOS Stream 8
	Kernel: 4.18.0-240.10.1.el8_3.x86_64
	Compiler: gcc 8.4.1 20200928

CentOS Stream 9
	Kernel: 4.18.0-240.10.1.el8_3.x86_64
	Compiler: gcc 11.3.1 20220421

Debian Bullseye
	Kernel: 5.4.0-122-generic
	Compiler: gcc 10.2.1-6

Debian 12 (arm)
	Kernel: Container Host Kernel
	Compiler: gcc 11

Fedora 37
	Kernel: Depends on container host system
	Compiler: gcc 12.3.1

RHEL8
	Kernel: 4.18.0-240.10.1.el8_3.x86_64
	Compiler: gcc 8.3.1 20191121 (Red Hat 8.3.1-5)

Fedora 38
	Kernel: Depends on container host
	Compiler: gcc 13.1.1

Ubuntu 22.04
	Kernel: 4.18.0-240.10.1.el8_3.x86_64
	Compiler: gcc 11.3.0

Ubuntu 20.04
	Kernel: 5.4.0-153-generic
	Compiler: gcc 9.4.0-1ubuntu1~20.04.1

openSUSE Leap 15
	Kernel: 4.18.0-240.10.1.el8_3.x86_64
	Compiler: gcc 7.5.0

To view detailed results, visit:
https://lab.dpdk.org/results/dashboard/patchsets/29345/

UNH-IOL DPDK Community Lab

To manage your email subscriptions, visit: 
https://lab.dpdk.org/results/dashboard/preferences/subscriptions/