From mboxrd@z Thu Jan  1 00:00:00 1970
Return-Path: <test-report-bounces@dpdk.org>
Received: from mails.dpdk.org (mails.dpdk.org [217.70.189.124])
	by inbox.dpdk.org (Postfix) with ESMTP id BF76943B68
	for <public@inbox.dpdk.org>; Fri,  1 Mar 2024 02:31:18 +0100 (CET)
Received: from mails.dpdk.org (localhost [127.0.0.1])
	by mails.dpdk.org (Postfix) with ESMTP id BA5C0402E0;
	Fri,  1 Mar 2024 02:31:18 +0100 (CET)
Received: from mail-pg1-f225.google.com (mail-pg1-f225.google.com
 [209.85.215.225])
 by mails.dpdk.org (Postfix) with ESMTP id 48D0C4025C
 for <test-report@dpdk.org>; Fri,  1 Mar 2024 02:31:18 +0100 (CET)
Received: by mail-pg1-f225.google.com with SMTP id
 41be03b00d2f7-5ce2aada130so1417045a12.1
 for <test-report@dpdk.org>; Thu, 29 Feb 2024 17:31:18 -0800 (PST)
DKIM-Signature: v=1; a=rsa-sha256; c=relaxed/relaxed;
 d=iol.unh.edu; s=unh-iol; t=1709256677; x=1709861477; darn=dpdk.org;
 h=references:in-reply-to:cc:to:from:subject:message-id:date:from:to
 :cc:subject:date:message-id:reply-to;
 bh=5d+bejsk52rVKgZ8iZ5TkoY9sDfpMoeMpo+KTsHAUbo=;
 b=XgnyGi2XCXcbb7Qn0HrPlcRTNyZyQka5UQls/mUGJdiZyqsWaJYWmoD9+roMCXFORd
 SQQkEFOp2mL3+PXYFAYrtLeoDP9jqznsOnOEkcTmiWBhRU9uV7Ia95TsRK1ZbJkIuKkR
 WkfOAYYlTQYUwQmH3UcTLCETKOgo3L8QssR6M=
X-Google-DKIM-Signature: v=1; a=rsa-sha256; c=relaxed/relaxed;
 d=1e100.net; s=20230601; t=1709256677; x=1709861477;
 h=references:in-reply-to:cc:to:from:subject:message-id:date
 :x-gm-message-state:from:to:cc:subject:date:message-id:reply-to;
 bh=5d+bejsk52rVKgZ8iZ5TkoY9sDfpMoeMpo+KTsHAUbo=;
 b=iYmZ0sp2m06AmUBek/sO7Iw8X+FdSABcmS0p4IYfTUQ1SbZ0Drf7P6nWAMwpMnIG4R
 Y53f8NbX8P7qbzqP6F25cqepXBM7FzmoJ1PaCIorDTB7lBHJbj3LWGbkxSNfiMcOI+F3
 T9OwxrXHhSx8ivWl2BtNLwdspqcU0CkmprfFEtns6MwjqLwxVglFpV8Ph6rI6WnyrZKg
 s6xZc9+H1Rlb8ca5vzRlRR09foPXb7dSPUPfvahBva0t9nqogpEc2RGD31GX9wDs1I5k
 wJ0VkFVC3f1m3nez8oZtciKLGGe08ki8Xn96lD2mMkneEBCYoN5MvnDYEKEcdrKjZBXY
 ubGQ==
X-Gm-Message-State: AOJu0YzupblALRSHvhP89hw0gWcuCTvovwc6ffDLsYdKDVucVwFxtAUA
 a4Zx8ozdVxQYFF5B6DCJeH5BgLDVSijplSv38m77F+IFgdYp/3ot+OqaoWaTwzxwBmJZQzRlGZ3
 xn+a8GV3NYlPFBBd0S5DfUIPles/jMaWOimEPtb+U
X-Google-Smtp-Source: AGHT+IGQPthKlD7Ugj2aiz6CwfRGqklpcfXc4A6mJ37U5QsI2IsBsd0NG3PcJkD7kSd0Vi2ImWmy5SjXU1OK
X-Received: by 2002:a05:6a21:a584:b0:1a1:1f17:594a with SMTP id
 gd4-20020a056a21a58400b001a11f17594amr179128pzc.13.1709256677319; 
 Thu, 29 Feb 2024 17:31:17 -0800 (PST)
Received: from postal.iol.unh.edu (postal.iol.unh.edu. [132.177.123.84])
 by smtp-relay.gmail.com with ESMTPS id
 j17-20020a170902c3d100b001dc8edd6138sm66959plj.136.2024.02.29.17.31.17
 (version=TLS1_2 cipher=ECDHE-ECDSA-AES128-GCM-SHA256 bits=128/128);
 Thu, 29 Feb 2024 17:31:17 -0800 (PST)
X-Relaying-Domain: iol.unh.edu
Date: Thu, 29 Feb 2024 17:31:17 -0800 (PST)
Message-ID: <65e12fe5.170a0220.ce7d.45f8SMTPIN_ADDED_MISSING@mx.google.com>
Received: from [172.21.0.6] (unknown [172.18.0.240])
 by postal.iol.unh.edu (Postfix) with ESMTP id 7B75F60527CD;
 Thu, 29 Feb 2024 20:31:16 -0500 (EST)
Subject: |SUCCESS| pw137511-137513 [PATCH] [3/3] net/tap: compute TC handle c
From: dpdklab@iol.unh.edu
To: Test Report <test-report@dpdk.org>
Cc: dpdk-test-reports@iol.unh.edu
In-Reply-To: <20240229173154.121491-4-stephen@networkplumber.org>
References: <20240229173154.121491-4-stephen@networkplumber.org>
Content-Type: text/plain
X-BeenThere: test-report@dpdk.org
X-Mailman-Version: 2.1.29
Precedence: list
List-Id: automatic DPDK test reports <test-report.dpdk.org>
List-Unsubscribe: <https://mails.dpdk.org/options/test-report>,
 <mailto:test-report-request@dpdk.org?subject=unsubscribe>
List-Archive: <http://mails.dpdk.org/archives/test-report/>
List-Post: <mailto:test-report@dpdk.org>
List-Help: <mailto:test-report-request@dpdk.org?subject=help>
List-Subscribe: <https://mails.dpdk.org/listinfo/test-report>,
 <mailto:test-report-request@dpdk.org?subject=subscribe>
Errors-To: test-report-bounces@dpdk.org

Test-Label: iol-unit-arm64-testing
Test-Status: SUCCESS
http://dpdk.org/patch/137513

_Testing PASS_

Submitter: Stephen Hemminger <stephen@networkplumber.org>
Date: Thursday, February 29 2024 17:31:08 
DPDK git baseline: Repo:dpdk
  Branch: master
  CommitID:f60df26faa3c90fc66d356e16347acd046971441

137511-137513 --> testing pass

Test environment and result as below:

+--------------------------+--------------+------------------------------+---------------------------+----------------+
|       Environment        | lpm_autotest | cryptodev_sw_snow3g_autotest | cryptodev_sw_zuc_autotest | dpdk_unit_test |
+==========================+==============+==============================+===========================+================+
| Ubuntu 20.04 ARM SVE     | PASS         | SKIPPED                      | SKIPPED                   | SKIPPED        |
+--------------------------+--------------+------------------------------+---------------------------+----------------+
| Debian 12 (arm)          | SKIPPED      | PASS                         | PASS                      | PASS           |
+--------------------------+--------------+------------------------------+---------------------------+----------------+
| CentOS Stream 9 (ARM)    | SKIPPED      | SKIPPED                      | SKIPPED                   | PASS           |
+--------------------------+--------------+------------------------------+---------------------------+----------------+
| Debian 11 (Buster) (ARM) | SKIPPED      | SKIPPED                      | SKIPPED                   | PASS           |
+--------------------------+--------------+------------------------------+---------------------------+----------------+
| Fedora 38 (ARM)          | SKIPPED      | SKIPPED                      | SKIPPED                   | PASS           |
+--------------------------+--------------+------------------------------+---------------------------+----------------+
| Fedora 37 (ARM)          | SKIPPED      | SKIPPED                      | SKIPPED                   | PASS           |
+--------------------------+--------------+------------------------------+---------------------------+----------------+
| Ubuntu 20.04 (ARM)       | SKIPPED      | SKIPPED                      | SKIPPED                   | PASS           |
+--------------------------+--------------+------------------------------+---------------------------+----------------+
| Fedora 38 (ARM Clang)    | SKIPPED      | SKIPPED                      | SKIPPED                   | PASS           |
+--------------------------+--------------+------------------------------+---------------------------+----------------+


Ubuntu 20.04 ARM SVE
	Kernel: 5.4.0-80-generic
	Compiler: gcc 10.3.0 (Ubuntu 10.3.0-1ubuntu1~20.04)

Debian 12 (arm)
	Kernel: Container Host Kernel
	Compiler: gcc 11

CentOS Stream 9 (ARM)
	Kernel: Container Host Kernel
	Compiler: gcc 11.3.1

Debian 11 (Buster) (ARM)
	Kernel: Container Host Kernel
	Compiler: gcc 10.2.1

Fedora 38 (ARM)
	Kernel: Depends on container host
	Compiler: gcc 13.1.1

Fedora 37 (ARM)
	Kernel: Depends on container host
	Compiler: gcc 12.3.1

Ubuntu 20.04 (ARM)
	Kernel: Container Host Kernel
	Compiler: gcc 9.4.0

Fedora 38 (ARM Clang)
	Kernel: Depends on container host
	Compiler: clang 16.0.3

To view detailed results, visit:
https://lab.dpdk.org/results/dashboard/patchsets/29345/

UNH-IOL DPDK Community Lab

To manage your email subscriptions, visit: 
https://lab.dpdk.org/results/dashboard/preferences/subscriptions/