From mboxrd@z Thu Jan  1 00:00:00 1970
Return-Path: <test-report-bounces@dpdk.org>
Received: from mails.dpdk.org (mails.dpdk.org [217.70.189.124])
	by inbox.dpdk.org (Postfix) with ESMTP id AC99B43BB1
	for <public@inbox.dpdk.org>; Fri,  1 Mar 2024 02:33:18 +0100 (CET)
Received: from mails.dpdk.org (localhost [127.0.0.1])
	by mails.dpdk.org (Postfix) with ESMTP id A4A8E427DE;
	Fri,  1 Mar 2024 02:33:18 +0100 (CET)
Received: from mail-qv1-f98.google.com (mail-qv1-f98.google.com
 [209.85.219.98]) by mails.dpdk.org (Postfix) with ESMTP id 4DB3C427DE
 for <test-report@dpdk.org>; Fri,  1 Mar 2024 02:33:17 +0100 (CET)
Received: by mail-qv1-f98.google.com with SMTP id
 6a1803df08f44-68facd7ea4aso12521056d6.0
 for <test-report@dpdk.org>; Thu, 29 Feb 2024 17:33:17 -0800 (PST)
DKIM-Signature: v=1; a=rsa-sha256; c=relaxed/relaxed;
 d=iol.unh.edu; s=unh-iol; t=1709256796; x=1709861596; darn=dpdk.org;
 h=references:in-reply-to:cc:to:from:subject:message-id:date:from:to
 :cc:subject:date:message-id:reply-to;
 bh=5d+bejsk52rVKgZ8iZ5TkoY9sDfpMoeMpo+KTsHAUbo=;
 b=RuXwKdiCBiWEXgIiq9CXtV5FB8H/GmawYYgm7hlPfUpZTpegTGAf0jqS+Gn88Wj1TE
 MyPSLATiQ3uq/r9QFsxUeIGV799IR+bdSTrn5kXIX/KQ2Vz2RV1NiZ/GEfYZ/OLHBKfC
 KhostFZiVMmIVMot5ia6aSA8oC6jkDCv7cdbo=
X-Google-DKIM-Signature: v=1; a=rsa-sha256; c=relaxed/relaxed;
 d=1e100.net; s=20230601; t=1709256796; x=1709861596;
 h=references:in-reply-to:cc:to:from:subject:message-id:date
 :x-gm-message-state:from:to:cc:subject:date:message-id:reply-to;
 bh=5d+bejsk52rVKgZ8iZ5TkoY9sDfpMoeMpo+KTsHAUbo=;
 b=NlhKgriPySPmv9dEE3L6iHo3Et5yEENp5JUpbOpJeWfrJv5ypOWhLbnL3mw6k2XABW
 648gQ4riIHs+0ysG3M4zQIp5NqLnq9jlbk8bZ2tE+5z714s4k8Jz58AfVBgHUq7Z0P5q
 E8/3kay2LDWCqkrMIhI2Y+xLRiR4smuQjACXJjv+YOiuhdRTRdHhI4ZywDIfDoXVS/bT
 6n29GCtCBSjt1+RdMuOMfc8LBIj1VGlOtlpZF0hW8/M2jwHFRFukegwhSJ9qzfP/rCKJ
 ZjF4nI06mHA6IVoGpQKBD3JnoaWKLUTZb0sXXoIElScCLErcRg2FRBBTt4nVbx8o/ddG
 QfIA==
X-Gm-Message-State: AOJu0YzZUOYRhiEXDRMUlOp8z+EYv1BxsCU+B8GZap3JUd8EgJNrEFXg
 owO1iFODdoWvK0MTjQDXF8iVBDw0oKclCMZJr7W9Bb6+R2IgYQOOXc8Q+Mko+CaAOTNrGJWnMBa
 2j4NNAkHB5+iRipbXnNB/cH9MiCvNp0dNlPsN65GRLOf1GHRyEl+LyXDy
X-Google-Smtp-Source: AGHT+IHYzOpab1LR/Y88IgHWHmHDXZrbDdowsJseY80sTVafSyLOllNVKT/cQU33CZXBpzs5tgsJ+9lj56Xt
X-Received: by 2002:a05:6214:282:b0:690:3735:a9bb with SMTP id
 l2-20020a056214028200b006903735a9bbmr479504qvv.12.1709256796652; 
 Thu, 29 Feb 2024 17:33:16 -0800 (PST)
Received: from postal.iol.unh.edu (postal.iol.unh.edu.
 [2606:4100:3880:1234::84]) by smtp-relay.gmail.com with ESMTPS id
 m13-20020a0562141bcd00b0068f36c50c31sm133259qvc.76.2024.02.29.17.33.16
 (version=TLS1_2 cipher=ECDHE-ECDSA-AES128-GCM-SHA256 bits=128/128);
 Thu, 29 Feb 2024 17:33:16 -0800 (PST)
X-Relaying-Domain: iol.unh.edu
Date: Thu, 29 Feb 2024 17:33:16 -0800 (PST)
Message-ID: <65e1305c.050a0220.7af68.97f4SMTPIN_ADDED_MISSING@mx.google.com>
Received: from [172.21.0.6] (unknown [172.18.0.240])
 by postal.iol.unh.edu (Postfix) with ESMTP id 5F32760527CD;
 Thu, 29 Feb 2024 20:33:16 -0500 (EST)
Subject: |SUCCESS| pw137511-137513 [PATCH] [3/3] net/tap: compute TC handle c
From: dpdklab@iol.unh.edu
To: Test Report <test-report@dpdk.org>
Cc: dpdk-test-reports@iol.unh.edu
In-Reply-To: <20240229173154.121491-4-stephen@networkplumber.org>
References: <20240229173154.121491-4-stephen@networkplumber.org>
Content-Type: text/plain
X-BeenThere: test-report@dpdk.org
X-Mailman-Version: 2.1.29
Precedence: list
List-Id: automatic DPDK test reports <test-report.dpdk.org>
List-Unsubscribe: <https://mails.dpdk.org/options/test-report>,
 <mailto:test-report-request@dpdk.org?subject=unsubscribe>
List-Archive: <http://mails.dpdk.org/archives/test-report/>
List-Post: <mailto:test-report@dpdk.org>
List-Help: <mailto:test-report-request@dpdk.org?subject=help>
List-Subscribe: <https://mails.dpdk.org/listinfo/test-report>,
 <mailto:test-report-request@dpdk.org?subject=subscribe>
Errors-To: test-report-bounces@dpdk.org

Test-Label: iol-unit-arm64-testing
Test-Status: SUCCESS
http://dpdk.org/patch/137513

_Testing PASS_

Submitter: Stephen Hemminger <stephen@networkplumber.org>
Date: Thursday, February 29 2024 17:31:08 
DPDK git baseline: Repo:dpdk
  Branch: master
  CommitID:f60df26faa3c90fc66d356e16347acd046971441

137511-137513 --> testing pass

Test environment and result as below:

+--------------------------+--------------+------------------------------+---------------------------+----------------+
|       Environment        | lpm_autotest | cryptodev_sw_snow3g_autotest | cryptodev_sw_zuc_autotest | dpdk_unit_test |
+==========================+==============+==============================+===========================+================+
| Ubuntu 20.04 ARM SVE     | PASS         | SKIPPED                      | SKIPPED                   | SKIPPED        |
+--------------------------+--------------+------------------------------+---------------------------+----------------+
| Debian 12 (arm)          | SKIPPED      | PASS                         | PASS                      | PASS           |
+--------------------------+--------------+------------------------------+---------------------------+----------------+
| CentOS Stream 9 (ARM)    | SKIPPED      | SKIPPED                      | SKIPPED                   | PASS           |
+--------------------------+--------------+------------------------------+---------------------------+----------------+
| Debian 11 (Buster) (ARM) | SKIPPED      | SKIPPED                      | SKIPPED                   | PASS           |
+--------------------------+--------------+------------------------------+---------------------------+----------------+
| Fedora 38 (ARM)          | SKIPPED      | SKIPPED                      | SKIPPED                   | PASS           |
+--------------------------+--------------+------------------------------+---------------------------+----------------+
| Fedora 37 (ARM)          | SKIPPED      | SKIPPED                      | SKIPPED                   | PASS           |
+--------------------------+--------------+------------------------------+---------------------------+----------------+
| Ubuntu 20.04 (ARM)       | SKIPPED      | SKIPPED                      | SKIPPED                   | PASS           |
+--------------------------+--------------+------------------------------+---------------------------+----------------+
| Fedora 38 (ARM Clang)    | SKIPPED      | SKIPPED                      | SKIPPED                   | PASS           |
+--------------------------+--------------+------------------------------+---------------------------+----------------+


Ubuntu 20.04 ARM SVE
	Kernel: 5.4.0-80-generic
	Compiler: gcc 10.3.0 (Ubuntu 10.3.0-1ubuntu1~20.04)

Debian 12 (arm)
	Kernel: Container Host Kernel
	Compiler: gcc 11

CentOS Stream 9 (ARM)
	Kernel: Container Host Kernel
	Compiler: gcc 11.3.1

Debian 11 (Buster) (ARM)
	Kernel: Container Host Kernel
	Compiler: gcc 10.2.1

Fedora 38 (ARM)
	Kernel: Depends on container host
	Compiler: gcc 13.1.1

Fedora 37 (ARM)
	Kernel: Depends on container host
	Compiler: gcc 12.3.1

Ubuntu 20.04 (ARM)
	Kernel: Container Host Kernel
	Compiler: gcc 9.4.0

Fedora 38 (ARM Clang)
	Kernel: Depends on container host
	Compiler: clang 16.0.3

To view detailed results, visit:
https://lab.dpdk.org/results/dashboard/patchsets/29345/

UNH-IOL DPDK Community Lab

To manage your email subscriptions, visit: 
https://lab.dpdk.org/results/dashboard/preferences/subscriptions/