From mboxrd@z Thu Jan  1 00:00:00 1970
Return-Path: <test-report-bounces@dpdk.org>
Received: from mails.dpdk.org (mails.dpdk.org [217.70.189.124])
	by inbox.dpdk.org (Postfix) with ESMTP id 69E8F43BB1
	for <public@inbox.dpdk.org>; Fri,  1 Mar 2024 03:10:08 +0100 (CET)
Received: from mails.dpdk.org (localhost [127.0.0.1])
	by mails.dpdk.org (Postfix) with ESMTP id 63A8E402CD;
	Fri,  1 Mar 2024 03:10:08 +0100 (CET)
Received: from mail-oa1-f97.google.com (mail-oa1-f97.google.com
 [209.85.160.97]) by mails.dpdk.org (Postfix) with ESMTP id 482254025C
 for <test-report@dpdk.org>; Fri,  1 Mar 2024 03:10:07 +0100 (CET)
Received: by mail-oa1-f97.google.com with SMTP id
 586e51a60fabf-21ea1aae402so817131fac.1
 for <test-report@dpdk.org>; Thu, 29 Feb 2024 18:10:07 -0800 (PST)
DKIM-Signature: v=1; a=rsa-sha256; c=relaxed/relaxed;
 d=iol.unh.edu; s=unh-iol; t=1709259006; x=1709863806; darn=dpdk.org;
 h=references:in-reply-to:cc:to:from:subject:message-id:date:from:to
 :cc:subject:date:message-id:reply-to;
 bh=dJwJr3aViAU4q8xzhrw0wR1ni3qnhFxAny0A60TdmWA=;
 b=hXz4MU5yTQhgdKK8d+5DgCmtLtO7wJp1vN2Cflp1qobd6nkCL5zJDBSqt2OnYByb6m
 yHn/HQ4RKZA9K4U1FBLjLXlQUNKacOFF7TQ2D+FGsson/QnuXJ0FxEHxg2JazaMY/r3B
 X6j0V+nHh0c/77g+HqPAUvf/jWUwz/4Nexhx4=
X-Google-DKIM-Signature: v=1; a=rsa-sha256; c=relaxed/relaxed;
 d=1e100.net; s=20230601; t=1709259006; x=1709863806;
 h=references:in-reply-to:cc:to:from:subject:message-id:date
 :x-gm-message-state:from:to:cc:subject:date:message-id:reply-to;
 bh=dJwJr3aViAU4q8xzhrw0wR1ni3qnhFxAny0A60TdmWA=;
 b=f59VYuR63E7pUbWG/jCp7s1jSXPpyduZqey4Ys8IwlXi/EZoeKAHtL7hJC4iZdwZKH
 gUTaA41Ag3sPXYuaUFLHddS61okCtJj4NRgpzbyxJg1uxC0HXfKYLdIyuCtL2v3iwlyj
 84pycdC/++/PD6qs1JHNqAWOhEYJH1gNVwNfsFDc4NUXUOM2UwRRby87K9ZOu6OqN0NU
 J1HmNfW1Jx+8SRRAcxe4s2Y5oZkBswLbttOmy/FEFg4DXFBrsWRbaLxMfoaiYleLewPR
 Qn/uQ9B2W8VIMlWaz2Xuh7llBhB3GpVXqCjxlwjTLmqhSEXB9LiCDqAUSMDYbjhbV6gD
 SmZQ==
X-Gm-Message-State: AOJu0Ywzq5LRIqWtjn/9mJuUwEGKb4qIaoxEO69qaGlLSGjB8cqjryZk
 Kt61bZVI2Okp/cfoRdbFlEb488DN7GTk4trat6+tmhg/05gJgHxWKfrIZNiShIH04csuLJgXikh
 fGM2t/B2MGxyM2ZmTpLIven7gy5EOEm0q8AfA8ufp
X-Google-Smtp-Source: AGHT+IEQwn8VUwoWTGf6l0tcOPnyiL8DepHByW9gBA9jysDYv3NDzPLAke06gXlk7y8qOhZq1iwHoulnFCfc
X-Received: by 2002:a05:6870:eca4:b0:21e:8cdb:1030 with SMTP id
 eo36-20020a056870eca400b0021e8cdb1030mr393109oab.24.1709259006655; 
 Thu, 29 Feb 2024 18:10:06 -0800 (PST)
Received: from postal.iol.unh.edu (postal.iol.unh.edu. [132.177.123.84])
 by smtp-relay.gmail.com with ESMTPS id
 zq10-20020a0568718e8a00b00204737c7dc1sm86403oab.31.2024.02.29.18.10.06
 (version=TLS1_2 cipher=ECDHE-ECDSA-AES128-GCM-SHA256 bits=128/128);
 Thu, 29 Feb 2024 18:10:06 -0800 (PST)
X-Relaying-Domain: iol.unh.edu
Date: Thu, 29 Feb 2024 18:10:06 -0800 (PST)
Message-ID: <65e138fe.050a0220.6c77d.5ccfSMTPIN_ADDED_MISSING@mx.google.com>
Received: from [172.17.0.8] (unknown [172.18.0.217])
 by postal.iol.unh.edu (Postfix) with ESMTP id 2777D60527CD;
 Thu, 29 Feb 2024 21:10:06 -0500 (EST)
Subject: |SUCCESS| pw137514 [PATCH] net/tap: allow more that 4 queues
From: dpdklab@iol.unh.edu
To: Test Report <test-report@dpdk.org>
Cc: dpdklab@iol.unh.edu
In-Reply-To: <20240229175620.122949-1-stephen@networkplumber.org>
References: <20240229175620.122949-1-stephen@networkplumber.org>
Content-Type: text/plain
X-BeenThere: test-report@dpdk.org
X-Mailman-Version: 2.1.29
Precedence: list
List-Id: automatic DPDK test reports <test-report.dpdk.org>
List-Unsubscribe: <https://mails.dpdk.org/options/test-report>,
 <mailto:test-report-request@dpdk.org?subject=unsubscribe>
List-Archive: <http://mails.dpdk.org/archives/test-report/>
List-Post: <mailto:test-report@dpdk.org>
List-Help: <mailto:test-report-request@dpdk.org?subject=help>
List-Subscribe: <https://mails.dpdk.org/listinfo/test-report>,
 <mailto:test-report-request@dpdk.org?subject=subscribe>
Errors-To: test-report-bounces@dpdk.org

Test-Label: iol-compile-amd64-testing
Test-Status: SUCCESS
http://dpdk.org/patch/137514

_Testing PASS_

Submitter: Stephen Hemminger <stephen@networkplumber.org>
Date: Thursday, February 29 2024 17:56:18 
DPDK git baseline: Repo:dpdk
  Branch: master
  CommitID:f60df26faa3c90fc66d356e16347acd046971441

137514 --> testing pass

Test environment and result as below:

+---------------------+--------------------+
|     Environment     | dpdk_meson_compile |
+=====================+====================+
| FreeBSD 13.2        | PASS               |
+---------------------+--------------------+
| CentOS Stream 9     | PASS               |
+---------------------+--------------------+
| Debian 12 (arm)     | PASS               |
+---------------------+--------------------+
| Debian Bullseye     | PASS               |
+---------------------+--------------------+
| CentOS Stream 8     | PASS               |
+---------------------+--------------------+
| Fedora 37           | PASS               |
+---------------------+--------------------+
| openSUSE Leap 15    | PASS               |
+---------------------+--------------------+
| Ubuntu 22.04        | PASS               |
+---------------------+--------------------+
| RHEL8               | PASS               |
+---------------------+--------------------+
| Alpine              | PASS               |
+---------------------+--------------------+
| Fedora 38           | PASS               |
+---------------------+--------------------+
| Ubuntu 20.04        | PASS               |
+---------------------+--------------------+
| Windows Server 2022 | PASS               |
+---------------------+--------------------+


FreeBSD 13.2
	Kernel: 13.2
	Compiler: clang 11.3.0

CentOS Stream 9
	Kernel: 4.18.0-240.10.1.el8_3.x86_64
	Compiler: gcc 11.3.1 20220421

Debian 12 (arm)
	Kernel: Container Host Kernel
	Compiler: gcc 11

Debian Bullseye
	Kernel: 5.4.0-122-generic
	Compiler: gcc 10.2.1-6

CentOS Stream 8
	Kernel: 4.18.0-240.10.1.el8_3.x86_64
	Compiler: gcc 8.4.1 20200928

Fedora 37
	Kernel: Depends on container host system
	Compiler: gcc 12.3.1

openSUSE Leap 15
	Kernel: 4.18.0-240.10.1.el8_3.x86_64
	Compiler: gcc 7.5.0

Ubuntu 22.04
	Kernel: 4.18.0-240.10.1.el8_3.x86_64
	Compiler: gcc 11.3.0

RHEL8
	Kernel: 4.18.0-240.10.1.el8_3.x86_64
	Compiler: gcc 8.3.1 20191121 (Red Hat 8.3.1-5)

Alpine
	Kernel: 5.4.0-73-generic
	Compiler: gcc (Alpine 10.3.1_git20210424) 10.3.1 20210424

Fedora 38
	Kernel: Depends on container host
	Compiler: gcc 13.1.1

Ubuntu 20.04
	Kernel: 5.4.0-153-generic
	Compiler: gcc 9.4.0-1ubuntu1~20.04.1

Windows Server 2022
	Kernel: OS Build 20348.2031
	Compiler: MSVC VS-Preview

To view detailed results, visit:
https://lab.dpdk.org/results/dashboard/patchsets/29346/

UNH-IOL DPDK Community Lab

To manage your email subscriptions, visit: 
https://lab.dpdk.org/results/dashboard/preferences/subscriptions/