From mboxrd@z Thu Jan  1 00:00:00 1970
Return-Path: <test-report-bounces@dpdk.org>
Received: from mails.dpdk.org (mails.dpdk.org [217.70.189.124])
	by inbox.dpdk.org (Postfix) with ESMTP id 0331643BB1
	for <public@inbox.dpdk.org>; Fri,  1 Mar 2024 03:15:26 +0100 (CET)
Received: from mails.dpdk.org (localhost [127.0.0.1])
	by mails.dpdk.org (Postfix) with ESMTP id F1BFE402CD;
	Fri,  1 Mar 2024 03:15:25 +0100 (CET)
Received: from mail-oo1-f98.google.com (mail-oo1-f98.google.com
 [209.85.161.98]) by mails.dpdk.org (Postfix) with ESMTP id 0DBBF4025C
 for <test-report@dpdk.org>; Fri,  1 Mar 2024 03:15:25 +0100 (CET)
Received: by mail-oo1-f98.google.com with SMTP id
 006d021491bc7-5a027fda5aeso750136eaf.1
 for <test-report@dpdk.org>; Thu, 29 Feb 2024 18:15:25 -0800 (PST)
DKIM-Signature: v=1; a=rsa-sha256; c=relaxed/relaxed;
 d=iol.unh.edu; s=unh-iol; t=1709259324; x=1709864124; darn=dpdk.org;
 h=references:in-reply-to:cc:to:from:subject:message-id:date:from:to
 :cc:subject:date:message-id:reply-to;
 bh=dJwJr3aViAU4q8xzhrw0wR1ni3qnhFxAny0A60TdmWA=;
 b=R3/acFJKX+kETSB8m5cKWaiBzBubxIMwW0K/pplZNzwcqK1caXHRsMRQeT6sQOQBSI
 cYBNDzToapgUa1e3L61m9JqQk94hnHP181WvCqzUMJyL5x7ntTFdascsg+PG5by94itO
 BK4xycBpHyg/rDTUYvWwpOyqwMOUASmqjYYpE=
X-Google-DKIM-Signature: v=1; a=rsa-sha256; c=relaxed/relaxed;
 d=1e100.net; s=20230601; t=1709259324; x=1709864124;
 h=references:in-reply-to:cc:to:from:subject:message-id:date
 :x-gm-message-state:from:to:cc:subject:date:message-id:reply-to;
 bh=dJwJr3aViAU4q8xzhrw0wR1ni3qnhFxAny0A60TdmWA=;
 b=euxZFM6sVP5RsaM9M2UnO1vQVUYq0/5UoGO0LiRSk9I8gPjQ+/T1IsLAMXaFmngV0T
 xkESWVggRvF60Yzu0hLEg5IcoYhtbyovd/sjID9na1KfmwoL7YKgV6MmpUm0CmSE79FZ
 QPqxchSA03+qCY9o+n/kgEe5VtqGkotdKZ9KvIrxAHf0UDOQA0zRWV0vz8yAOdDsn7of
 JDUU6PFuHCI2IBq5fFnX2smp1xo+f3cwzaKvlTXUKYhhexOg0MTwxk+cAY0//HRofiHe
 vbGyEX2WXfIk0pzsOYzIvOxHS2o/m1l4JehpE0C7FAv13LvDhFr0rerSE76lo65xcDBh
 YMFw==
X-Gm-Message-State: AOJu0YwnluzsvC/dj/Irg+qoBStO7BVVw17LrwH6qkA7/PTJGRNabyW7
 RZK8wKVnDBo9BzFdjt0Am39reWfBybRBaaydG7zDgp1nK/9nM3iQkG9witWsfJox4CoweJx18n4
 dYcBBh0fe+pkmeA0dWBWGO6jRAHe/Lx3cPDLzKMZN/xyP+5HNlJMp5Vp5
X-Google-Smtp-Source: AGHT+IGT5V6I3/7fmmx1JvCvqFxFJSlM0G66uT8TXceDAaxQVffJNPFsSaAdqod4hUNW+unRtvRw573xm6Fx
X-Received: by 2002:a4a:840c:0:b0:5a0:e030:673 with SMTP id
 l12-20020a4a840c000000b005a0e0300673mr234091oog.1.1709259324519; 
 Thu, 29 Feb 2024 18:15:24 -0800 (PST)
Received: from postal.iol.unh.edu (postal.iol.unh.edu.
 [2606:4100:3880:1234::84]) by smtp-relay.gmail.com with ESMTPS id
 124-20020a4a0682000000b0059cfbbe5f5asm137291ooj.20.2024.02.29.18.15.24
 (version=TLS1_2 cipher=ECDHE-ECDSA-AES128-GCM-SHA256 bits=128/128);
 Thu, 29 Feb 2024 18:15:24 -0800 (PST)
X-Relaying-Domain: iol.unh.edu
Date: Thu, 29 Feb 2024 18:15:24 -0800 (PST)
Message-ID: <65e13a3c.4a0a0220.97b1.8f75SMTPIN_ADDED_MISSING@mx.google.com>
Received: from [172.17.0.6] (unknown [172.18.0.217])
 by postal.iol.unh.edu (Postfix) with ESMTP id 0AA7B60527CD;
 Thu, 29 Feb 2024 21:15:24 -0500 (EST)
Subject: |SUCCESS| pw137514 [PATCH] net/tap: allow more that 4 queues
From: dpdklab@iol.unh.edu
To: Test Report <test-report@dpdk.org>
Cc: dpdklab@iol.unh.edu
In-Reply-To: <20240229175620.122949-1-stephen@networkplumber.org>
References: <20240229175620.122949-1-stephen@networkplumber.org>
Content-Type: text/plain
X-BeenThere: test-report@dpdk.org
X-Mailman-Version: 2.1.29
Precedence: list
List-Id: automatic DPDK test reports <test-report.dpdk.org>
List-Unsubscribe: <https://mails.dpdk.org/options/test-report>,
 <mailto:test-report-request@dpdk.org?subject=unsubscribe>
List-Archive: <http://mails.dpdk.org/archives/test-report/>
List-Post: <mailto:test-report@dpdk.org>
List-Help: <mailto:test-report-request@dpdk.org?subject=help>
List-Subscribe: <https://mails.dpdk.org/listinfo/test-report>,
 <mailto:test-report-request@dpdk.org?subject=subscribe>
Errors-To: test-report-bounces@dpdk.org

Test-Label: iol-compile-amd64-testing
Test-Status: SUCCESS
http://dpdk.org/patch/137514

_Testing PASS_

Submitter: Stephen Hemminger <stephen@networkplumber.org>
Date: Thursday, February 29 2024 17:56:18 
DPDK git baseline: Repo:dpdk
  Branch: master
  CommitID:f60df26faa3c90fc66d356e16347acd046971441

137514 --> testing pass

Test environment and result as below:

+---------------------+--------------------+
|     Environment     | dpdk_meson_compile |
+=====================+====================+
| FreeBSD 13.2        | PASS               |
+---------------------+--------------------+
| CentOS Stream 9     | PASS               |
+---------------------+--------------------+
| Debian 12 (arm)     | PASS               |
+---------------------+--------------------+
| Debian Bullseye     | PASS               |
+---------------------+--------------------+
| CentOS Stream 8     | PASS               |
+---------------------+--------------------+
| Fedora 37           | PASS               |
+---------------------+--------------------+
| openSUSE Leap 15    | PASS               |
+---------------------+--------------------+
| Ubuntu 22.04        | PASS               |
+---------------------+--------------------+
| RHEL8               | PASS               |
+---------------------+--------------------+
| Alpine              | PASS               |
+---------------------+--------------------+
| Fedora 38           | PASS               |
+---------------------+--------------------+
| Ubuntu 20.04        | PASS               |
+---------------------+--------------------+
| Windows Server 2022 | PASS               |
+---------------------+--------------------+


FreeBSD 13.2
	Kernel: 13.2
	Compiler: clang 11.3.0

CentOS Stream 9
	Kernel: 4.18.0-240.10.1.el8_3.x86_64
	Compiler: gcc 11.3.1 20220421

Debian 12 (arm)
	Kernel: Container Host Kernel
	Compiler: gcc 11

Debian Bullseye
	Kernel: 5.4.0-122-generic
	Compiler: gcc 10.2.1-6

CentOS Stream 8
	Kernel: 4.18.0-240.10.1.el8_3.x86_64
	Compiler: gcc 8.4.1 20200928

Fedora 37
	Kernel: Depends on container host system
	Compiler: gcc 12.3.1

openSUSE Leap 15
	Kernel: 4.18.0-240.10.1.el8_3.x86_64
	Compiler: gcc 7.5.0

Ubuntu 22.04
	Kernel: 4.18.0-240.10.1.el8_3.x86_64
	Compiler: gcc 11.3.0

RHEL8
	Kernel: 4.18.0-240.10.1.el8_3.x86_64
	Compiler: gcc 8.3.1 20191121 (Red Hat 8.3.1-5)

Alpine
	Kernel: 5.4.0-73-generic
	Compiler: gcc (Alpine 10.3.1_git20210424) 10.3.1 20210424

Fedora 38
	Kernel: Depends on container host
	Compiler: gcc 13.1.1

Ubuntu 20.04
	Kernel: 5.4.0-153-generic
	Compiler: gcc 9.4.0-1ubuntu1~20.04.1

Windows Server 2022
	Kernel: OS Build 20348.2031
	Compiler: MSVC VS-Preview

To view detailed results, visit:
https://lab.dpdk.org/results/dashboard/patchsets/29346/

UNH-IOL DPDK Community Lab

To manage your email subscriptions, visit: 
https://lab.dpdk.org/results/dashboard/preferences/subscriptions/