From mboxrd@z Thu Jan  1 00:00:00 1970
Return-Path: <test-report-bounces@dpdk.org>
Received: from mails.dpdk.org (mails.dpdk.org [217.70.189.124])
	by inbox.dpdk.org (Postfix) with ESMTP id 15B5E43BB1
	for <public@inbox.dpdk.org>; Fri,  1 Mar 2024 03:15:33 +0100 (CET)
Received: from mails.dpdk.org (localhost [127.0.0.1])
	by mails.dpdk.org (Postfix) with ESMTP id 10962402CD;
	Fri,  1 Mar 2024 03:15:33 +0100 (CET)
Received: from mail-ua1-f100.google.com (mail-ua1-f100.google.com
 [209.85.222.100])
 by mails.dpdk.org (Postfix) with ESMTP id B0CA84025C
 for <test-report@dpdk.org>; Fri,  1 Mar 2024 03:15:31 +0100 (CET)
Received: by mail-ua1-f100.google.com with SMTP id
 a1e0cc1a2514c-7d6275d7d4dso704034241.2
 for <test-report@dpdk.org>; Thu, 29 Feb 2024 18:15:31 -0800 (PST)
DKIM-Signature: v=1; a=rsa-sha256; c=relaxed/relaxed;
 d=iol.unh.edu; s=unh-iol; t=1709259331; x=1709864131; darn=dpdk.org;
 h=references:in-reply-to:cc:to:from:subject:message-id:date:from:to
 :cc:subject:date:message-id:reply-to;
 bh=pJEPGgMbuKEXqplVs7aFN83VTFRVCO6GxzLD+h+Rt7s=;
 b=YepaJ05Ks6ogks91yVAMbox20x6p/3x6OgORBE+BI8OwtYNaRGtUlkCuvGVdfwy0XY
 tR3MtKG9KRUXoIZ6218P5rRmWAYebrZUxOwGPR8sLEhCyXlYz1uy527Qrps3YHStN7Yh
 qMxCADDKguTOq3Q9t+Aa8xkKwYDCh5KsO7v20=
X-Google-DKIM-Signature: v=1; a=rsa-sha256; c=relaxed/relaxed;
 d=1e100.net; s=20230601; t=1709259331; x=1709864131;
 h=references:in-reply-to:cc:to:from:subject:message-id:date
 :x-gm-message-state:from:to:cc:subject:date:message-id:reply-to;
 bh=pJEPGgMbuKEXqplVs7aFN83VTFRVCO6GxzLD+h+Rt7s=;
 b=bjXSbe7/gyrcCmPc63YuLrkN07HJ3kSedwG+NyBrgyUD+sni9GLj2G/uXb0g+tJ6Ya
 OVOwIPHDdvT1h+/Szl/KXA8xrRQjfBlKqONCIIdPf+bjmshi2S2zgpG2WJFqJPh48K1d
 9lEnFGiBvM5ETauMBDWGQd4U9OKMuK+xLIXS22Qj1jHH6xvgarKl/VSoBtbBbJ4q0zgg
 rh5+16/Y6XLaNe9x8fBbZk/Mei8LCpxijelAXHbEtR0V/01QtXw0oJ2eJvAlnErT3GCu
 1hYcQJT3U1g1b3cLZ8fRr4MluxFDm8Ul6h6oTKqXzwR8s2rZ8zCWdEGl//Ab5FqC0TpT
 kEbw==
X-Gm-Message-State: AOJu0YzNZ9iLaBDIOPb+80cRLLd0WUADEWVLj/moHsfsq77jLQxgiMd0
 DP/XkFxPc5/wLCOdgyOzcEChF+MLF9p7Ih68rCMedpoGELcDrA17HFNzq1d8j0IDXilPp4MyYIC
 NgHODVVOQ7oFChCVx7Pt/WMuat7++KGJgbKQ2Bzf5JTQmSr47OHXop/Vj
X-Google-Smtp-Source: AGHT+IGxTCTrNUmawa9NGUy4nP0tZ0DRPr+z3U+ALwLn1gXbdzkxdYblU6Wt05/6W4GwBKUNmmLOnv/8Gz1m
X-Received: by 2002:a05:6102:316a:b0:472:7a22:3539 with SMTP id
 l10-20020a056102316a00b004727a223539mr158059vsm.34.1709259331114; 
 Thu, 29 Feb 2024 18:15:31 -0800 (PST)
Received: from postal.iol.unh.edu (postal.iol.unh.edu.
 [2606:4100:3880:1234::84]) by smtp-relay.gmail.com with ESMTPS id
 gf4-20020a056214250400b0068f982967casm137521qvb.77.2024.02.29.18.15.31
 (version=TLS1_2 cipher=ECDHE-ECDSA-AES128-GCM-SHA256 bits=128/128);
 Thu, 29 Feb 2024 18:15:31 -0800 (PST)
X-Relaying-Domain: iol.unh.edu
Date: Thu, 29 Feb 2024 18:15:31 -0800 (PST)
Message-ID: <65e13a43.050a0220.96cd1.96aaSMTPIN_ADDED_MISSING@mx.google.com>
Received: from [172.17.0.8] (unknown [172.18.0.217])
 by postal.iol.unh.edu (Postfix) with ESMTP id CF5A260527CD;
 Thu, 29 Feb 2024 21:15:30 -0500 (EST)
Subject: |SUCCESS| pw137514 [PATCH] net/tap: allow more that 4 queues
From: dpdklab@iol.unh.edu
To: Test Report <test-report@dpdk.org>
Cc: dpdk-test-reports@iol.unh.edu
In-Reply-To: <20240229175620.122949-1-stephen@networkplumber.org>
References: <20240229175620.122949-1-stephen@networkplumber.org>
Content-Type: text/plain
X-BeenThere: test-report@dpdk.org
X-Mailman-Version: 2.1.29
Precedence: list
List-Id: automatic DPDK test reports <test-report.dpdk.org>
List-Unsubscribe: <https://mails.dpdk.org/options/test-report>,
 <mailto:test-report-request@dpdk.org?subject=unsubscribe>
List-Archive: <http://mails.dpdk.org/archives/test-report/>
List-Post: <mailto:test-report@dpdk.org>
List-Help: <mailto:test-report-request@dpdk.org?subject=help>
List-Subscribe: <https://mails.dpdk.org/listinfo/test-report>,
 <mailto:test-report-request@dpdk.org?subject=subscribe>
Errors-To: test-report-bounces@dpdk.org

Test-Label: iol-compile-arm64-testing
Test-Status: SUCCESS
http://dpdk.org/patch/137514

_Testing PASS_

Submitter: Stephen Hemminger <stephen@networkplumber.org>
Date: Thursday, February 29 2024 17:56:18 
DPDK git baseline: Repo:dpdk
  Branch: master
  CommitID:f60df26faa3c90fc66d356e16347acd046971441

137514 --> testing pass

Test environment and result as below:

+----------------------------------------+--------------------+
|              Environment               | dpdk_meson_compile |
+========================================+====================+
| Ubuntu 20.04 ARM SVE                   | PASS               |
+----------------------------------------+--------------------+
| Ubuntu 20.04 aarch32 GCC Cross Compile | PASS               |
+----------------------------------------+--------------------+
| Fedora 37 (ARM)                        | PASS               |
+----------------------------------------+--------------------+
| CentOS Stream 9 (ARM)                  | PASS               |
+----------------------------------------+--------------------+
| Debian 11 (Buster) (ARM)               | PASS               |
+----------------------------------------+--------------------+
| Fedora 38 (ARM)                        | PASS               |
+----------------------------------------+--------------------+
| Ubuntu 20.04 (ARM)                     | PASS               |
+----------------------------------------+--------------------+
| Debian 12 (arm)                        | PASS               |
+----------------------------------------+--------------------+
| Ubuntu 20.04 ARM Clang Cross Compile   | PASS               |
+----------------------------------------+--------------------+
| Ubuntu 20.04 ARM GCC Cross Compile     | PASS               |
+----------------------------------------+--------------------+


Ubuntu 20.04 ARM SVE
	Kernel: 5.4.0-80-generic
	Compiler: gcc 10.3.0 (Ubuntu 10.3.0-1ubuntu1~20.04)

Ubuntu 20.04 aarch32 GCC Cross Compile
	Kernel: 5.4.0-72-generic
	Compiler: gcc 9.3.0

Fedora 37 (ARM)
	Kernel: Depends on container host
	Compiler: gcc 12.3.1

CentOS Stream 9 (ARM)
	Kernel: Container Host Kernel
	Compiler: gcc 11.3.1

Debian 11 (Buster) (ARM)
	Kernel: Container Host Kernel
	Compiler: gcc 10.2.1

Fedora 38 (ARM)
	Kernel: Depends on container host
	Compiler: gcc 13.1.1

Ubuntu 20.04 (ARM)
	Kernel: Container Host Kernel
	Compiler: gcc 9.4.0

Debian 12 (arm)
	Kernel: Container Host Kernel
	Compiler: gcc 11

Ubuntu 20.04 ARM Clang Cross Compile
	Kernel: 5.4.0-72-generic
	Compiler: clang version 10.0.0-4ubuntu1

Ubuntu 20.04 ARM GCC Cross Compile
	Kernel: 5.4.0-72-generic
	Compiler: aarch64-linux-gnu-gcc (Ubuntu 9.3.0-17ubuntu1~20.04) 9.3.0

To view detailed results, visit:
https://lab.dpdk.org/results/dashboard/patchsets/29346/

UNH-IOL DPDK Community Lab

To manage your email subscriptions, visit: 
https://lab.dpdk.org/results/dashboard/preferences/subscriptions/