From mboxrd@z Thu Jan  1 00:00:00 1970
Return-Path: <test-report-bounces@dpdk.org>
Received: from mails.dpdk.org (mails.dpdk.org [217.70.189.124])
	by inbox.dpdk.org (Postfix) with ESMTP id B5FD843B85
	for <public@inbox.dpdk.org>; Fri,  1 Mar 2024 03:23:43 +0100 (CET)
Received: from mails.dpdk.org (localhost [127.0.0.1])
	by mails.dpdk.org (Postfix) with ESMTP id AF89A402CD;
	Fri,  1 Mar 2024 03:23:43 +0100 (CET)
Received: from mail-yb1-f226.google.com (mail-yb1-f226.google.com
 [209.85.219.226])
 by mails.dpdk.org (Postfix) with ESMTP id E89CE4025C
 for <test-report@dpdk.org>; Fri,  1 Mar 2024 03:23:41 +0100 (CET)
Received: by mail-yb1-f226.google.com with SMTP id
 3f1490d57ef6-dc236729a2bso1530903276.0
 for <test-report@dpdk.org>; Thu, 29 Feb 2024 18:23:41 -0800 (PST)
DKIM-Signature: v=1; a=rsa-sha256; c=relaxed/relaxed;
 d=iol.unh.edu; s=unh-iol; t=1709259821; x=1709864621; darn=dpdk.org;
 h=references:in-reply-to:cc:to:from:subject:message-id:date:from:to
 :cc:subject:date:message-id:reply-to;
 bh=eku2XzZqJQ1gbiT2mF5ryJPiNPE6YQojxpqnO5wbxkM=;
 b=L3iwC0TTZsI6ABu2D9SdEX3aPWBSbHaWupUXDnatcZCn5Yo1+bCkdEM2RCKElHol7Q
 +kDtqsWHSp887WwiGp8g2cvHI6J3/pPwsJfRK2SfbYPtE0BXvfTcXbKtLDgb5G4yvHZA
 1mp33wrEX4nEf6yoiHjB+4zSxnb/7jmAvDcd0=
X-Google-DKIM-Signature: v=1; a=rsa-sha256; c=relaxed/relaxed;
 d=1e100.net; s=20230601; t=1709259821; x=1709864621;
 h=references:in-reply-to:cc:to:from:subject:message-id:date
 :x-gm-message-state:from:to:cc:subject:date:message-id:reply-to;
 bh=eku2XzZqJQ1gbiT2mF5ryJPiNPE6YQojxpqnO5wbxkM=;
 b=jORsVCk2QvDLyFHWa/2tPmYth99U8lYtAWAgx5D6/tN0JOB9t6IYcJBbt1n4xJCHDC
 YiV1j80vFSm6OLo/ksCkhteJV66Coj/FTUKgUj6xyNxHz15gK2iffSFAsV0E98lqFLpo
 0o5wdOoKqifvnYf8xKVmWc7Pgqb0KSPfm9HYcHWgDvVlwl3Bk7jTKBJjYMtcOl+l7evi
 ZIYdVXZ8fQ1PfzEViFOcQ9eOLidEzMAy4UAtXfbQ7X0Bt5rF50lAAVhCWjk86imUjSjK
 YG8DnWAP0X7qZAkmRhPi97XxudcZFsEOY5eqPiSFkE+P2gC0Y4gEG5riEx56mZ8WLImF
 7cjQ==
X-Gm-Message-State: AOJu0Yze8HOa5FWO7rp/5/t+XY+zkMD5fPfPlQJ8z70giI/R3EhE3Z58
 SAoomj0v+v2EAC3m0N1WYu7OOMxjjUXxwKGHkS7t/Rqv7Ki6SGPS4JEIhAFzAztfYg+ULR+gFXD
 6P7iE7kHByNdoa2Hf1s3ovR5iEzO36NDRq1CKSSWf
X-Google-Smtp-Source: AGHT+IF0A/CtFMHljTeGpYuPDvaeB+Ocxd90Lvax3aKvYxvi3FGI9JZ3qBzbOcdr8kDq5bdhNNRDDqNQTaaH
X-Received: by 2002:a5b:d08:0:b0:dcd:97da:926e with SMTP id
 y8-20020a5b0d08000000b00dcd97da926emr306655ybp.13.1709259821307; 
 Thu, 29 Feb 2024 18:23:41 -0800 (PST)
Received: from postal.iol.unh.edu (postal.iol.unh.edu. [132.177.123.84])
 by smtp-relay.gmail.com with ESMTPS id
 p82-20020a25d855000000b00dccb4db0ca9sm136305ybg.28.2024.02.29.18.23.41
 (version=TLS1_2 cipher=ECDHE-ECDSA-AES128-GCM-SHA256 bits=128/128);
 Thu, 29 Feb 2024 18:23:41 -0800 (PST)
X-Relaying-Domain: iol.unh.edu
Date: Thu, 29 Feb 2024 18:23:41 -0800 (PST)
Message-ID: <65e13c2d.250a0220.b2e92.8f4aSMTPIN_ADDED_MISSING@mx.google.com>
Received: from [172.17.0.7] (unknown [172.18.0.217])
 by postal.iol.unh.edu (Postfix) with ESMTP id E357F60527CD;
 Thu, 29 Feb 2024 21:23:40 -0500 (EST)
Subject: |SUCCESS| pw137497-137500 [PATCH] [v11,4/4] app/dma-perf: add SG cop
From: dpdklab@iol.unh.edu
To: Test Report <test-report@dpdk.org>
Cc: dpdk-test-reports@iol.unh.edu
In-Reply-To: <e4852ed5b0b2dbb6ad0355ea7517cf1638ba61a7.1709210551.git.gmuthukrishn@marvell.com>
References: <e4852ed5b0b2dbb6ad0355ea7517cf1638ba61a7.1709210551.git.gmuthukrishn@marvell.com>
Content-Type: text/plain
X-BeenThere: test-report@dpdk.org
X-Mailman-Version: 2.1.29
Precedence: list
List-Id: automatic DPDK test reports <test-report.dpdk.org>
List-Unsubscribe: <https://mails.dpdk.org/options/test-report>,
 <mailto:test-report-request@dpdk.org?subject=unsubscribe>
List-Archive: <http://mails.dpdk.org/archives/test-report/>
List-Post: <mailto:test-report@dpdk.org>
List-Help: <mailto:test-report-request@dpdk.org?subject=help>
List-Subscribe: <https://mails.dpdk.org/listinfo/test-report>,
 <mailto:test-report-request@dpdk.org?subject=subscribe>
Errors-To: test-report-bounces@dpdk.org

Test-Label: iol-compile-arm64-testing
Test-Status: SUCCESS
http://dpdk.org/patch/137500

_Testing PASS_

Submitter: Gowrishankar Muthukrishnan <gmuthukrishn@marvell.com>
Date: Thursday, February 29 2024 13:48:10 
DPDK git baseline: Repo:dpdk
  Branch: master
  CommitID:92c0ad70caf3ed6f4b93de6ddaf7bc369737c049

137497-137500 --> testing pass

Test environment and result as below:

+----------------------------------------+--------------------+
|              Environment               | dpdk_meson_compile |
+========================================+====================+
| Ubuntu 20.04 ARM SVE                   | PASS               |
+----------------------------------------+--------------------+
| Fedora 37 (ARM)                        | PASS               |
+----------------------------------------+--------------------+
| Debian 11 (Buster) (ARM)               | PASS               |
+----------------------------------------+--------------------+
| Fedora 38 (ARM)                        | PASS               |
+----------------------------------------+--------------------+
| Ubuntu 20.04 (ARM)                     | PASS               |
+----------------------------------------+--------------------+
| Debian 12 (arm)                        | PASS               |
+----------------------------------------+--------------------+
| CentOS Stream 9 (ARM)                  | PASS               |
+----------------------------------------+--------------------+
| Ubuntu 20.04 ARM GCC Cross Compile     | PASS               |
+----------------------------------------+--------------------+
| Ubuntu 20.04 aarch32 GCC Cross Compile | PASS               |
+----------------------------------------+--------------------+
| Ubuntu 20.04 ARM Clang Cross Compile   | PASS               |
+----------------------------------------+--------------------+
| Fedora 38 (ARM Clang)                  | PASS               |
+----------------------------------------+--------------------+


Ubuntu 20.04 ARM SVE
	Kernel: 5.4.0-80-generic
	Compiler: gcc 10.3.0 (Ubuntu 10.3.0-1ubuntu1~20.04)

Fedora 37 (ARM)
	Kernel: Depends on container host
	Compiler: gcc 12.3.1

Debian 11 (Buster) (ARM)
	Kernel: Container Host Kernel
	Compiler: gcc 10.2.1

Fedora 38 (ARM)
	Kernel: Depends on container host
	Compiler: gcc 13.1.1

Ubuntu 20.04 (ARM)
	Kernel: Container Host Kernel
	Compiler: gcc 9.4.0

Debian 12 (arm)
	Kernel: Container Host Kernel
	Compiler: gcc 11

CentOS Stream 9 (ARM)
	Kernel: Container Host Kernel
	Compiler: gcc 11.3.1

Ubuntu 20.04 ARM GCC Cross Compile
	Kernel: 5.4.0-72-generic
	Compiler: aarch64-linux-gnu-gcc (Ubuntu 9.3.0-17ubuntu1~20.04) 9.3.0

Ubuntu 20.04 aarch32 GCC Cross Compile
	Kernel: 5.4.0-72-generic
	Compiler: gcc 9.3.0

Ubuntu 20.04 ARM Clang Cross Compile
	Kernel: 5.4.0-72-generic
	Compiler: clang version 10.0.0-4ubuntu1

Fedora 38 (ARM Clang)
	Kernel: Depends on container host
	Compiler: clang 16.0.3

To view detailed results, visit:
https://lab.dpdk.org/results/dashboard/patchsets/29338/

UNH-IOL DPDK Community Lab

To manage your email subscriptions, visit: 
https://lab.dpdk.org/results/dashboard/preferences/subscriptions/