From mboxrd@z Thu Jan  1 00:00:00 1970
Return-Path: <test-report-bounces@dpdk.org>
Received: from mails.dpdk.org (mails.dpdk.org [217.70.189.124])
	by inbox.dpdk.org (Postfix) with ESMTP id BB51743B97
	for <public@inbox.dpdk.org>; Fri,  1 Mar 2024 03:35:29 +0100 (CET)
Received: from mails.dpdk.org (localhost [127.0.0.1])
	by mails.dpdk.org (Postfix) with ESMTP id B3F44402CD;
	Fri,  1 Mar 2024 03:35:29 +0100 (CET)
Received: from mail-pl1-f226.google.com (mail-pl1-f226.google.com
 [209.85.214.226])
 by mails.dpdk.org (Postfix) with ESMTP id 89F484025C
 for <test-report@dpdk.org>; Fri,  1 Mar 2024 03:35:28 +0100 (CET)
Received: by mail-pl1-f226.google.com with SMTP id
 d9443c01a7336-1dc0d11d1b7so14800845ad.2
 for <test-report@dpdk.org>; Thu, 29 Feb 2024 18:35:28 -0800 (PST)
DKIM-Signature: v=1; a=rsa-sha256; c=relaxed/relaxed;
 d=iol.unh.edu; s=unh-iol; t=1709260528; x=1709865328; darn=dpdk.org;
 h=references:in-reply-to:cc:to:from:subject:message-id:date:from:to
 :cc:subject:date:message-id:reply-to;
 bh=3bx9UbKiMXwvVDa5+AtjWsqWOT4sPL72YejT/wegUQk=;
 b=df+CyAn+WaKJAPea4bZ+OvU1ukNOZtxiiYYxapJBqRwqW0NRmbgPmHpj3m/qXws7AO
 nI50CNUGIehq9VUkxMcmDebdhWSzZ87q/hu88iemN5POCT95BvSUQIeJL1OPaqJuTBAB
 e+4kh7GkyTqYOzcC3549PmI6YceY+jBbOYP5M=
X-Google-DKIM-Signature: v=1; a=rsa-sha256; c=relaxed/relaxed;
 d=1e100.net; s=20230601; t=1709260528; x=1709865328;
 h=references:in-reply-to:cc:to:from:subject:message-id:date
 :x-gm-message-state:from:to:cc:subject:date:message-id:reply-to;
 bh=3bx9UbKiMXwvVDa5+AtjWsqWOT4sPL72YejT/wegUQk=;
 b=qW4KnYg+hBCMMFNHu+aO2QsvzSmK1LE/uTtmCtcZK+QmoCiwrNT+g4abGrafv/bfWw
 3v+rVVy1IdNK5p0ZWYvMFvLcPsOsxo+gCYRoLDEiuVtlP0kCF9u0niKFB97BPiFHYHWM
 ZpU8R77Ky/QSAjRlB71lIgLZXzEiNddqdU9QQBxojBjTvaT/479q5aHofeDWbo13VK8l
 HlimnFjYlKkBK5C0ssWrx0JFviZAJe/nw0+8s0TxorbLnq2LDoKazEGRdVTPwpiQmOXh
 DJBk6/3UjLQDMNadY72zmVP+DoP9SIUzDqc77GjWt58xioO1RraPDRBCFbF6mfyF0dL2
 Z+3w==
X-Gm-Message-State: AOJu0YzYK1x1hO6UszDtwN9hG2h2ewiFWQyGZ0s07UQyrEX83V2l7QXn
 k/+XyaRgz/+Om5asYmuRind6ClKPRcyAMhzCJwuZmJcJZIYxKo74yBQi1MF246I9jKhNuEILwEk
 EBITcanbhq9Tq7+C7StXlijrYqeLZI8PS2KpxSm2tJTykfyXQgojw3mkk
X-Google-Smtp-Source: AGHT+IGStcNvEpPc53w9RpPDEYs3y8qklxeCwy2tP/nr0b2RzVdBt5l80cYtNJ/CA7yyAn+8uHCLYjkQEgaN
X-Received: by 2002:a17:902:a385:b0:1dc:afd1:9c37 with SMTP id
 x5-20020a170902a38500b001dcafd19c37mr418265pla.24.1709260527660; 
 Thu, 29 Feb 2024 18:35:27 -0800 (PST)
Received: from postal.iol.unh.edu (postal.iol.unh.edu.
 [2606:4100:3880:1234::84]) by smtp-relay.gmail.com with ESMTPS id
 iy21-20020a170903131500b001dc6abd4b85sm71229plb.86.2024.02.29.18.35.27
 (version=TLS1_2 cipher=ECDHE-ECDSA-AES128-GCM-SHA256 bits=128/128);
 Thu, 29 Feb 2024 18:35:27 -0800 (PST)
X-Relaying-Domain: iol.unh.edu
Date: Thu, 29 Feb 2024 18:35:27 -0800 (PST)
Message-ID: <65e13eef.170a0220.8c7b5.4f1aSMTPIN_ADDED_MISSING@mx.google.com>
Received: from [172.21.0.7] (unknown [172.18.0.240])
 by postal.iol.unh.edu (Postfix) with ESMTP id D002960527CD;
 Thu, 29 Feb 2024 21:35:26 -0500 (EST)
Subject: |SUCCESS| pw137522-137524 [PATCH] [v8,3/3] test/cryptodev: add tests
From: dpdklab@iol.unh.edu
To: Test Report <test-report@dpdk.org>
Cc: dpdk-test-reports@iol.unh.edu
In-Reply-To: <20240229194510.2741004-4-ciara.power@intel.com>
References: <20240229194510.2741004-4-ciara.power@intel.com>
Content-Type: text/plain
X-BeenThere: test-report@dpdk.org
X-Mailman-Version: 2.1.29
Precedence: list
List-Id: automatic DPDK test reports <test-report.dpdk.org>
List-Unsubscribe: <https://mails.dpdk.org/options/test-report>,
 <mailto:test-report-request@dpdk.org?subject=unsubscribe>
List-Archive: <http://mails.dpdk.org/archives/test-report/>
List-Post: <mailto:test-report@dpdk.org>
List-Help: <mailto:test-report-request@dpdk.org?subject=help>
List-Subscribe: <https://mails.dpdk.org/listinfo/test-report>,
 <mailto:test-report-request@dpdk.org?subject=subscribe>
Errors-To: test-report-bounces@dpdk.org

Test-Label: iol-unit-amd64-testing
Test-Status: SUCCESS
http://dpdk.org/patch/137524

_Testing PASS_

Submitter: Ciara Power <ciara.power@intel.com>
Date: Thursday, February 29 2024 19:45:09 
DPDK git baseline: Repo:dpdk
  Branch: master
  CommitID:8f27705b70911d12dc0f356a728d73279fbc1e84

137522-137524 --> testing pass

Test environment and result as below:

+------------------+----------------+
|   Environment    | dpdk_unit_test |
+==================+================+
| CentOS Stream 8  | PASS           |
+------------------+----------------+
| Debian Bullseye  | PASS           |
+------------------+----------------+
| Fedora 38        | PASS           |
+------------------+----------------+
| Fedora 37        | PASS           |
+------------------+----------------+
| Debian 12 (arm)  | PASS           |
+------------------+----------------+
| CentOS Stream 9  | PASS           |
+------------------+----------------+
| openSUSE Leap 15 | PASS           |
+------------------+----------------+
| RHEL8            | PASS           |
+------------------+----------------+
| Ubuntu 22.04     | PASS           |
+------------------+----------------+
| Ubuntu 20.04     | PASS           |
+------------------+----------------+


CentOS Stream 8
	Kernel: 4.18.0-240.10.1.el8_3.x86_64
	Compiler: gcc 8.4.1 20200928

Debian Bullseye
	Kernel: 5.4.0-122-generic
	Compiler: gcc 10.2.1-6

Fedora 38
	Kernel: Depends on container host
	Compiler: gcc 13.1.1

Fedora 37
	Kernel: Depends on container host system
	Compiler: gcc 12.3.1

Debian 12 (arm)
	Kernel: Container Host Kernel
	Compiler: gcc 11

CentOS Stream 9
	Kernel: 4.18.0-240.10.1.el8_3.x86_64
	Compiler: gcc 11.3.1 20220421

openSUSE Leap 15
	Kernel: 4.18.0-240.10.1.el8_3.x86_64
	Compiler: gcc 7.5.0

RHEL8
	Kernel: 4.18.0-240.10.1.el8_3.x86_64
	Compiler: gcc 8.3.1 20191121 (Red Hat 8.3.1-5)

Ubuntu 22.04
	Kernel: 4.18.0-240.10.1.el8_3.x86_64
	Compiler: gcc 11.3.0

Ubuntu 20.04
	Kernel: 5.4.0-153-generic
	Compiler: gcc 9.4.0-1ubuntu1~20.04.1

To view detailed results, visit:
https://lab.dpdk.org/results/dashboard/patchsets/29350/

UNH-IOL DPDK Community Lab

To manage your email subscriptions, visit: 
https://lab.dpdk.org/results/dashboard/preferences/subscriptions/