From mboxrd@z Thu Jan  1 00:00:00 1970
Return-Path: <test-report-bounces@dpdk.org>
Received: from mails.dpdk.org (mails.dpdk.org [217.70.189.124])
	by inbox.dpdk.org (Postfix) with ESMTP id 5CA1C43B68
	for <public@inbox.dpdk.org>; Fri,  1 Mar 2024 03:44:56 +0100 (CET)
Received: from mails.dpdk.org (localhost [127.0.0.1])
	by mails.dpdk.org (Postfix) with ESMTP id 4E40C40A80;
	Fri,  1 Mar 2024 03:44:56 +0100 (CET)
Received: from mail-ot1-f99.google.com (mail-ot1-f99.google.com
 [209.85.210.99]) by mails.dpdk.org (Postfix) with ESMTP id 494FF402CD
 for <test-report@dpdk.org>; Fri,  1 Mar 2024 03:44:54 +0100 (CET)
Received: by mail-ot1-f99.google.com with SMTP id
 46e09a7af769-6e49812ba77so791149a34.2
 for <test-report@dpdk.org>; Thu, 29 Feb 2024 18:44:54 -0800 (PST)
DKIM-Signature: v=1; a=rsa-sha256; c=relaxed/relaxed;
 d=iol.unh.edu; s=unh-iol; t=1709261093; x=1709865893; darn=dpdk.org;
 h=references:in-reply-to:cc:to:from:subject:message-id:date:from:to
 :cc:subject:date:message-id:reply-to;
 bh=3bx9UbKiMXwvVDa5+AtjWsqWOT4sPL72YejT/wegUQk=;
 b=XWHbh0zwdwCUXDwfA9sNZdv3zylOb0lPQJz1I+kslEAfHi2hVIpH/XhJQkvgniW/Eb
 T7iSREI7n8o8Q0kk7SzxMX/pQ2o6M2haXWdRXeFOBTALpGFUueHJgRp+h4+0eQPHuDrR
 zyqJjG72rQKhNVS7jrqtMZf2PLtXT9pMRdrp8=
X-Google-DKIM-Signature: v=1; a=rsa-sha256; c=relaxed/relaxed;
 d=1e100.net; s=20230601; t=1709261093; x=1709865893;
 h=references:in-reply-to:cc:to:from:subject:message-id:date
 :x-gm-message-state:from:to:cc:subject:date:message-id:reply-to;
 bh=3bx9UbKiMXwvVDa5+AtjWsqWOT4sPL72YejT/wegUQk=;
 b=WbPZPPsx2T+nPtVIX14Yu20fPhH9ytCpDZmnKmBumrZQ+kS3Ua4FFcVvCRFWVD7Rn5
 sJlsbTbQL50MNE/gppup+rMtE6FDh4v17boCQ4f4XfOEMP3FaHfHANCMe6LvPMas12Oe
 +YyU72eOF40+9HCud7U47cN3aA8mhtl5LxSGh3/Vl/mEa0HIU7py3NtpSzeqK+HYWGlX
 THt+dYGfLIEJzQ82Trn/tcXgIL0ol2DIw9mS2gBAIcM8/ntL6w5XF8rnBUhvSh5Fr36v
 EztfbA+3ITvTi+LL+FTU+4sd1PFTR/xlGkdeJzrW4lsG5xXjTO9vH0GFnurX1R2TXsE3
 AJWw==
X-Gm-Message-State: AOJu0YxVLpQHqSJ0ekATmLXqZfMQI51g6fyP/vywFrQQ95Nyb7j2cVXT
 7T8RePd/z36T/OemrDyd46T9KcqGOy20W8T/ZX6Zjhcwg3XUv4I+VjNBygKXxwbrhs71PoLrPNc
 JZQqbeEFpdOiOZQjxJ+tISLdHIyjzUYGTz6ZQmcID5ag22lvDgkW8dhRP
X-Google-Smtp-Source: AGHT+IHBJqZLxfFng3LwSKP8yVhmuUcquDJa/84lr3OwHqr2yLzz/2po4rQO5hiUbRKzyoprGer31OUaPrxC
X-Received: by 2002:a05:6830:20d8:b0:6e4:8c3c:63fb with SMTP id
 z24-20020a05683020d800b006e48c3c63fbmr585001otq.22.1709261093650; 
 Thu, 29 Feb 2024 18:44:53 -0800 (PST)
Received: from postal.iol.unh.edu (postal.iol.unh.edu.
 [2606:4100:3880:1234::84]) by smtp-relay.gmail.com with ESMTPS id
 t184-20020a4a54c1000000b0059cda30858fsm132251ooa.6.2024.02.29.18.44.53
 (version=TLS1_2 cipher=ECDHE-ECDSA-AES128-GCM-SHA256 bits=128/128);
 Thu, 29 Feb 2024 18:44:53 -0800 (PST)
X-Relaying-Domain: iol.unh.edu
Date: Thu, 29 Feb 2024 18:44:53 -0800 (PST)
Message-ID: <65e14125.4a0a0220.410c1.8ac5SMTPIN_ADDED_MISSING@mx.google.com>
Received: from [172.21.0.6] (unknown [172.18.0.240])
 by postal.iol.unh.edu (Postfix) with ESMTP id 2AA0160527CD;
 Thu, 29 Feb 2024 21:44:53 -0500 (EST)
Subject: |SUCCESS| pw137522-137524 [PATCH] [v8,3/3] test/cryptodev: add tests
From: dpdklab@iol.unh.edu
To: Test Report <test-report@dpdk.org>
Cc: dpdk-test-reports@iol.unh.edu
In-Reply-To: <20240229194510.2741004-4-ciara.power@intel.com>
References: <20240229194510.2741004-4-ciara.power@intel.com>
Content-Type: text/plain
X-BeenThere: test-report@dpdk.org
X-Mailman-Version: 2.1.29
Precedence: list
List-Id: automatic DPDK test reports <test-report.dpdk.org>
List-Unsubscribe: <https://mails.dpdk.org/options/test-report>,
 <mailto:test-report-request@dpdk.org?subject=unsubscribe>
List-Archive: <http://mails.dpdk.org/archives/test-report/>
List-Post: <mailto:test-report@dpdk.org>
List-Help: <mailto:test-report-request@dpdk.org?subject=help>
List-Subscribe: <https://mails.dpdk.org/listinfo/test-report>,
 <mailto:test-report-request@dpdk.org?subject=subscribe>
Errors-To: test-report-bounces@dpdk.org

Test-Label: iol-unit-amd64-testing
Test-Status: SUCCESS
http://dpdk.org/patch/137524

_Testing PASS_

Submitter: Ciara Power <ciara.power@intel.com>
Date: Thursday, February 29 2024 19:45:09 
DPDK git baseline: Repo:dpdk
  Branch: master
  CommitID:8f27705b70911d12dc0f356a728d73279fbc1e84

137522-137524 --> testing pass

Test environment and result as below:

+------------------+----------------+
|   Environment    | dpdk_unit_test |
+==================+================+
| CentOS Stream 8  | PASS           |
+------------------+----------------+
| Debian Bullseye  | PASS           |
+------------------+----------------+
| Fedora 38        | PASS           |
+------------------+----------------+
| Fedora 37        | PASS           |
+------------------+----------------+
| Debian 12 (arm)  | PASS           |
+------------------+----------------+
| CentOS Stream 9  | PASS           |
+------------------+----------------+
| openSUSE Leap 15 | PASS           |
+------------------+----------------+
| RHEL8            | PASS           |
+------------------+----------------+
| Ubuntu 22.04     | PASS           |
+------------------+----------------+
| Ubuntu 20.04     | PASS           |
+------------------+----------------+


CentOS Stream 8
	Kernel: 4.18.0-240.10.1.el8_3.x86_64
	Compiler: gcc 8.4.1 20200928

Debian Bullseye
	Kernel: 5.4.0-122-generic
	Compiler: gcc 10.2.1-6

Fedora 38
	Kernel: Depends on container host
	Compiler: gcc 13.1.1

Fedora 37
	Kernel: Depends on container host system
	Compiler: gcc 12.3.1

Debian 12 (arm)
	Kernel: Container Host Kernel
	Compiler: gcc 11

CentOS Stream 9
	Kernel: 4.18.0-240.10.1.el8_3.x86_64
	Compiler: gcc 11.3.1 20220421

openSUSE Leap 15
	Kernel: 4.18.0-240.10.1.el8_3.x86_64
	Compiler: gcc 7.5.0

RHEL8
	Kernel: 4.18.0-240.10.1.el8_3.x86_64
	Compiler: gcc 8.3.1 20191121 (Red Hat 8.3.1-5)

Ubuntu 22.04
	Kernel: 4.18.0-240.10.1.el8_3.x86_64
	Compiler: gcc 11.3.0

Ubuntu 20.04
	Kernel: 5.4.0-153-generic
	Compiler: gcc 9.4.0-1ubuntu1~20.04.1

To view detailed results, visit:
https://lab.dpdk.org/results/dashboard/patchsets/29350/

UNH-IOL DPDK Community Lab

To manage your email subscriptions, visit: 
https://lab.dpdk.org/results/dashboard/preferences/subscriptions/