From mboxrd@z Thu Jan  1 00:00:00 1970
Return-Path: <test-report-bounces@dpdk.org>
Received: from mails.dpdk.org (mails.dpdk.org [217.70.189.124])
	by inbox.dpdk.org (Postfix) with ESMTP id 1CAF643B9C
	for <public@inbox.dpdk.org>; Fri,  1 Mar 2024 03:46:29 +0100 (CET)
Received: from mails.dpdk.org (localhost [127.0.0.1])
	by mails.dpdk.org (Postfix) with ESMTP id 10020402CD;
	Fri,  1 Mar 2024 03:46:29 +0100 (CET)
Received: from mail-il1-f227.google.com (mail-il1-f227.google.com
 [209.85.166.227])
 by mails.dpdk.org (Postfix) with ESMTP id 6C9184025C
 for <test-report@dpdk.org>; Fri,  1 Mar 2024 03:46:28 +0100 (CET)
Received: by mail-il1-f227.google.com with SMTP id
 e9e14a558f8ab-3651edae0a1so6404815ab.0
 for <test-report@dpdk.org>; Thu, 29 Feb 2024 18:46:28 -0800 (PST)
DKIM-Signature: v=1; a=rsa-sha256; c=relaxed/relaxed;
 d=iol.unh.edu; s=unh-iol; t=1709261188; x=1709865988; darn=dpdk.org;
 h=references:in-reply-to:cc:to:from:subject:message-id:date:from:to
 :cc:subject:date:message-id:reply-to;
 bh=3bx9UbKiMXwvVDa5+AtjWsqWOT4sPL72YejT/wegUQk=;
 b=O8FJenYEUnYjnVOAeJJ2OFrrkraC4Rk5QetEVcUIg+hUmFX+lyb6bwSet4mw3VTlAj
 bYTIBstkwia7BkKwJquPNqO+Yz2hj8+kN9WQN34r8P70EmeLL0ONyssBjvnZB/KJrXSO
 huyKHjGHXM5FZhl2p02R0W9hDGqd27geMJEG0=
X-Google-DKIM-Signature: v=1; a=rsa-sha256; c=relaxed/relaxed;
 d=1e100.net; s=20230601; t=1709261188; x=1709865988;
 h=references:in-reply-to:cc:to:from:subject:message-id:date
 :x-gm-message-state:from:to:cc:subject:date:message-id:reply-to;
 bh=3bx9UbKiMXwvVDa5+AtjWsqWOT4sPL72YejT/wegUQk=;
 b=g1G3LaOQRcedJDjxkYUXwa5ENdIt3sagxiV1ScnM/InisxE+r/ep4Ggwi/c2yxqLsQ
 x1JOoWt5OKkuutWbz96hAsNwWMCGYZq3jP4fP2gK2MaZjr8qVvLYxLpi/gsUNg+H94nV
 IgvKk3ZhPDDYjCu3xDjo9qVaWiOraTxv5wQMM9nwvbVIspatyPlRv+eFYc/+fl48s/Hb
 ZETjnrp1uHLFMoBHP0a/5jeB9v27Q2i+JMOCSSbog3pj8I6mF7ffiGGMT+MbxcxbPCKm
 N1FIyyXtTDrsMikPnSbvIgOKY8MgoSc+813YC4c77JUXSrW3MXqxiWzjwv8qhJYWOAjl
 /VDQ==
X-Gm-Message-State: AOJu0Yy7v4PnuXtSwcR6E4Wu+mUT4OH4HR2SaEBaUZL779uKeCoGlY7d
 rtp5tS+yCfgN58MixhjTu6agGfImaG/JuJqryNKvSJtdWDoCbtwlrB/CqQTFiSy43XRZmw9+Gvk
 /29SfKrAweupz/hOdYYpMv30hZXPJ6Zo/cZR9Ud/J
X-Google-Smtp-Source: AGHT+IFwQ4PZAQznyQNG/QB1h2vD83Hpc0xyE0AEzXFTwzpewwULxIKpbzKu9nTIuQxb88UtyDS7ZwSRHHI/
X-Received: by 2002:a05:6e02:1885:b0:365:24c1:c996 with SMTP id
 o5-20020a056e02188500b0036524c1c996mr535227ilu.19.1709261187855; 
 Thu, 29 Feb 2024 18:46:27 -0800 (PST)
Received: from postal.iol.unh.edu (postal.iol.unh.edu. [132.177.123.84])
 by smtp-relay.gmail.com with ESMTPS id
 p15-20020a056e02144f00b003644c4923aesm122940ilo.22.2024.02.29.18.46.27
 (version=TLS1_2 cipher=ECDHE-ECDSA-AES128-GCM-SHA256 bits=128/128);
 Thu, 29 Feb 2024 18:46:27 -0800 (PST)
X-Relaying-Domain: iol.unh.edu
Date: Thu, 29 Feb 2024 18:46:27 -0800 (PST)
Message-ID: <65e14183.050a0220.e0daa.896fSMTPIN_ADDED_MISSING@mx.google.com>
Received: from [172.21.0.7] (unknown [172.18.0.240])
 by postal.iol.unh.edu (Postfix) with ESMTP id 5B47260527CD;
 Thu, 29 Feb 2024 21:46:27 -0500 (EST)
Subject: |SUCCESS| pw137522-137524 [PATCH] [v8,3/3] test/cryptodev: add tests
From: dpdklab@iol.unh.edu
To: Test Report <test-report@dpdk.org>
Cc: dpdk-test-reports@iol.unh.edu
In-Reply-To: <20240229194510.2741004-4-ciara.power@intel.com>
References: <20240229194510.2741004-4-ciara.power@intel.com>
Content-Type: text/plain
X-BeenThere: test-report@dpdk.org
X-Mailman-Version: 2.1.29
Precedence: list
List-Id: automatic DPDK test reports <test-report.dpdk.org>
List-Unsubscribe: <https://mails.dpdk.org/options/test-report>,
 <mailto:test-report-request@dpdk.org?subject=unsubscribe>
List-Archive: <http://mails.dpdk.org/archives/test-report/>
List-Post: <mailto:test-report@dpdk.org>
List-Help: <mailto:test-report-request@dpdk.org?subject=help>
List-Subscribe: <https://mails.dpdk.org/listinfo/test-report>,
 <mailto:test-report-request@dpdk.org?subject=subscribe>
Errors-To: test-report-bounces@dpdk.org

Test-Label: iol-unit-amd64-testing
Test-Status: SUCCESS
http://dpdk.org/patch/137524

_Testing PASS_

Submitter: Ciara Power <ciara.power@intel.com>
Date: Thursday, February 29 2024 19:45:09 
DPDK git baseline: Repo:dpdk
  Branch: master
  CommitID:8f27705b70911d12dc0f356a728d73279fbc1e84

137522-137524 --> testing pass

Test environment and result as below:

+------------------+----------------+
|   Environment    | dpdk_unit_test |
+==================+================+
| CentOS Stream 8  | PASS           |
+------------------+----------------+
| Debian Bullseye  | PASS           |
+------------------+----------------+
| Fedora 38        | PASS           |
+------------------+----------------+
| Fedora 37        | PASS           |
+------------------+----------------+
| Debian 12 (arm)  | PASS           |
+------------------+----------------+
| CentOS Stream 9  | PASS           |
+------------------+----------------+
| openSUSE Leap 15 | PASS           |
+------------------+----------------+
| RHEL8            | PASS           |
+------------------+----------------+
| Ubuntu 22.04     | PASS           |
+------------------+----------------+
| Ubuntu 20.04     | PASS           |
+------------------+----------------+


CentOS Stream 8
	Kernel: 4.18.0-240.10.1.el8_3.x86_64
	Compiler: gcc 8.4.1 20200928

Debian Bullseye
	Kernel: 5.4.0-122-generic
	Compiler: gcc 10.2.1-6

Fedora 38
	Kernel: Depends on container host
	Compiler: gcc 13.1.1

Fedora 37
	Kernel: Depends on container host system
	Compiler: gcc 12.3.1

Debian 12 (arm)
	Kernel: Container Host Kernel
	Compiler: gcc 11

CentOS Stream 9
	Kernel: 4.18.0-240.10.1.el8_3.x86_64
	Compiler: gcc 11.3.1 20220421

openSUSE Leap 15
	Kernel: 4.18.0-240.10.1.el8_3.x86_64
	Compiler: gcc 7.5.0

RHEL8
	Kernel: 4.18.0-240.10.1.el8_3.x86_64
	Compiler: gcc 8.3.1 20191121 (Red Hat 8.3.1-5)

Ubuntu 22.04
	Kernel: 4.18.0-240.10.1.el8_3.x86_64
	Compiler: gcc 11.3.0

Ubuntu 20.04
	Kernel: 5.4.0-153-generic
	Compiler: gcc 9.4.0-1ubuntu1~20.04.1

To view detailed results, visit:
https://lab.dpdk.org/results/dashboard/patchsets/29350/

UNH-IOL DPDK Community Lab

To manage your email subscriptions, visit: 
https://lab.dpdk.org/results/dashboard/preferences/subscriptions/