From mboxrd@z Thu Jan  1 00:00:00 1970
Return-Path: <test-report-bounces@dpdk.org>
Received: from mails.dpdk.org (mails.dpdk.org [217.70.189.124])
	by inbox.dpdk.org (Postfix) with ESMTP id D7F6743BA4
	for <public@inbox.dpdk.org>; Fri,  1 Mar 2024 03:58:56 +0100 (CET)
Received: from mails.dpdk.org (localhost [127.0.0.1])
	by mails.dpdk.org (Postfix) with ESMTP id D2E90402CD;
	Fri,  1 Mar 2024 03:58:56 +0100 (CET)
Received: from mail-ot1-f97.google.com (mail-ot1-f97.google.com
 [209.85.210.97]) by mails.dpdk.org (Postfix) with ESMTP id C130F4025C
 for <test-report@dpdk.org>; Fri,  1 Mar 2024 03:58:55 +0100 (CET)
Received: by mail-ot1-f97.google.com with SMTP id
 46e09a7af769-6e48153c13aso875557a34.3
 for <test-report@dpdk.org>; Thu, 29 Feb 2024 18:58:55 -0800 (PST)
DKIM-Signature: v=1; a=rsa-sha256; c=relaxed/relaxed;
 d=iol.unh.edu; s=unh-iol; t=1709261935; x=1709866735; darn=dpdk.org;
 h=references:in-reply-to:cc:to:from:subject:message-id:date:from:to
 :cc:subject:date:message-id:reply-to;
 bh=Ea3dJW4K/anbdlk1ZdZQDmxeMMU2IvJYPLC0hUXI/mo=;
 b=JjCg+VLgcWTb218zGxP8gpe4DCokHhqHCEbx5GyaBMvL2W9DhuDCcsvYuSqT6hoEWd
 5mXF2JiE10CqoUWmkZMieZD03HUIUwzeCIjKPnRZVRoA97T2MgMdmH8nikZ/vHz1n2O7
 Dj4WHYypaCQdMptRd48Xr0n4CvssSvHY6NaIs=
X-Google-DKIM-Signature: v=1; a=rsa-sha256; c=relaxed/relaxed;
 d=1e100.net; s=20230601; t=1709261935; x=1709866735;
 h=references:in-reply-to:cc:to:from:subject:message-id:date
 :x-gm-message-state:from:to:cc:subject:date:message-id:reply-to;
 bh=Ea3dJW4K/anbdlk1ZdZQDmxeMMU2IvJYPLC0hUXI/mo=;
 b=Qd3oMLZXoByNs+QRojD/W9LlOsghJB68yLvTu8CQeVwwknoNGa8xQvpbyIii7NgI4I
 fg546fkGqA39fWNpk8+S/t6IZAZgnWHueTH9/3G+aG7hXYuqMAhszy6LIonJhRTaAFPT
 YYuDlANOeAD9SD/dnsPUKq+/ZwSU5wGjqPGPG/jQ1y4q3y8nYRNDUo0Lb10w7DNGNsul
 rWzrMa3mTR6A8he2WYTgrq9vXMwADviyGC5iYM/d/npgChmLy2fvet2B7PmgvpSAQ76M
 qRf02JEz7WMd6UgYvEfkjkxrAZz4Hv7AJSvBXysHy24jvv4TaU99/eW7sjjovx9ej5k5
 EMEw==
X-Gm-Message-State: AOJu0YwnJ//su2Nuqneb/UF5U3fWjtP5ap4JPJuqszRfxFhlHLE37gcP
 VKX/pFDJZZkuLV1oUa8oiOxYN0wvc22rztMnYo10VbdNe3FHIINT5u16bBJhdrGxRhztF1y+Oie
 DaAb4TcjM7eaJNIyP27uh4GKLg0PiHUPNgg/70Dvtlc4onkzlZWVCk39J
X-Google-Smtp-Source: AGHT+IFQNeURpm7qwROAVVy7voXX/hIeGGV+v/ZfXafjGNjn2T0qlsNX2VKYtt4rSIm0pOvg81J5UjMikyRl
X-Received: by 2002:a05:6830:4bc:b0:6e4:afed:96ca with SMTP id
 l28-20020a05683004bc00b006e4afed96camr546477otd.15.1709261935195; 
 Thu, 29 Feb 2024 18:58:55 -0800 (PST)
Received: from postal.iol.unh.edu (postal.iol.unh.edu.
 [2606:4100:3880:1234::84]) by smtp-relay.gmail.com with ESMTPS id
 f202-20020a4a58d3000000b0059f856293e4sm142519oob.0.2024.02.29.18.58.55
 (version=TLS1_2 cipher=ECDHE-ECDSA-AES128-GCM-SHA256 bits=128/128);
 Thu, 29 Feb 2024 18:58:55 -0800 (PST)
X-Relaying-Domain: iol.unh.edu
Date: Thu, 29 Feb 2024 18:58:55 -0800 (PST)
Message-ID: <65e1446f.4a0a0220.241d1.971eSMTPIN_ADDED_MISSING@mx.google.com>
Received: from [172.21.0.6] (unknown [172.18.0.240])
 by postal.iol.unh.edu (Postfix) with ESMTP id B3B476052511;
 Thu, 29 Feb 2024 21:58:54 -0500 (EST)
Subject: |SUCCESS| pw137522-137524 [PATCH] [v8,3/3] test/cryptodev: add tests
From: dpdklab@iol.unh.edu
To: Test Report <test-report@dpdk.org>
Cc: dpdk-test-reports@iol.unh.edu
In-Reply-To: <20240229194510.2741004-4-ciara.power@intel.com>
References: <20240229194510.2741004-4-ciara.power@intel.com>
Content-Type: text/plain
X-BeenThere: test-report@dpdk.org
X-Mailman-Version: 2.1.29
Precedence: list
List-Id: automatic DPDK test reports <test-report.dpdk.org>
List-Unsubscribe: <https://mails.dpdk.org/options/test-report>,
 <mailto:test-report-request@dpdk.org?subject=unsubscribe>
List-Archive: <http://mails.dpdk.org/archives/test-report/>
List-Post: <mailto:test-report@dpdk.org>
List-Help: <mailto:test-report-request@dpdk.org?subject=help>
List-Subscribe: <https://mails.dpdk.org/listinfo/test-report>,
 <mailto:test-report-request@dpdk.org?subject=subscribe>
Errors-To: test-report-bounces@dpdk.org

Test-Label: iol-compile-arm64-testing
Test-Status: SUCCESS
http://dpdk.org/patch/137524

_Testing PASS_

Submitter: Ciara Power <ciara.power@intel.com>
Date: Thursday, February 29 2024 19:45:09 
DPDK git baseline: Repo:dpdk
  Branch: master
  CommitID:8f27705b70911d12dc0f356a728d73279fbc1e84

137522-137524 --> testing pass

Test environment and result as below:

+----------------------------------------+--------------------+
|              Environment               | dpdk_meson_compile |
+========================================+====================+
| Ubuntu 20.04 ARM SVE                   | PASS               |
+----------------------------------------+--------------------+
| Fedora 37 (ARM)                        | PASS               |
+----------------------------------------+--------------------+
| Fedora 38 (ARM)                        | PASS               |
+----------------------------------------+--------------------+
| Ubuntu 20.04 aarch32 GCC Cross Compile | PASS               |
+----------------------------------------+--------------------+
| Ubuntu 20.04 (ARM)                     | PASS               |
+----------------------------------------+--------------------+
| Ubuntu 20.04 ARM GCC Cross Compile     | PASS               |
+----------------------------------------+--------------------+
| Debian 11 (Buster) (ARM)               | PASS               |
+----------------------------------------+--------------------+
| Ubuntu 20.04 ARM Clang Cross Compile   | PASS               |
+----------------------------------------+--------------------+
| Debian 12 (arm)                        | PASS               |
+----------------------------------------+--------------------+


Ubuntu 20.04 ARM SVE
	Kernel: 5.4.0-80-generic
	Compiler: gcc 10.3.0 (Ubuntu 10.3.0-1ubuntu1~20.04)

Fedora 37 (ARM)
	Kernel: Depends on container host
	Compiler: gcc 12.3.1

Fedora 38 (ARM)
	Kernel: Depends on container host
	Compiler: gcc 13.1.1

Ubuntu 20.04 aarch32 GCC Cross Compile
	Kernel: 5.4.0-72-generic
	Compiler: gcc 9.3.0

Ubuntu 20.04 (ARM)
	Kernel: Container Host Kernel
	Compiler: gcc 9.4.0

Ubuntu 20.04 ARM GCC Cross Compile
	Kernel: 5.4.0-72-generic
	Compiler: aarch64-linux-gnu-gcc (Ubuntu 9.3.0-17ubuntu1~20.04) 9.3.0

Debian 11 (Buster) (ARM)
	Kernel: Container Host Kernel
	Compiler: gcc 10.2.1

Ubuntu 20.04 ARM Clang Cross Compile
	Kernel: 5.4.0-72-generic
	Compiler: clang version 10.0.0-4ubuntu1

Debian 12 (arm)
	Kernel: Container Host Kernel
	Compiler: gcc 11

To view detailed results, visit:
https://lab.dpdk.org/results/dashboard/patchsets/29350/

UNH-IOL DPDK Community Lab

To manage your email subscriptions, visit: 
https://lab.dpdk.org/results/dashboard/preferences/subscriptions/