From mboxrd@z Thu Jan  1 00:00:00 1970
Return-Path: <test-report-bounces@dpdk.org>
Received: from mails.dpdk.org (mails.dpdk.org [217.70.189.124])
	by inbox.dpdk.org (Postfix) with ESMTP id 6B89443BAC
	for <public@inbox.dpdk.org>; Fri,  1 Mar 2024 04:00:45 +0100 (CET)
Received: from mails.dpdk.org (localhost [127.0.0.1])
	by mails.dpdk.org (Postfix) with ESMTP id 6740F402CD;
	Fri,  1 Mar 2024 04:00:45 +0100 (CET)
Received: from mail-yw1-f228.google.com (mail-yw1-f228.google.com
 [209.85.128.228])
 by mails.dpdk.org (Postfix) with ESMTP id 8133B4025C
 for <test-report@dpdk.org>; Fri,  1 Mar 2024 04:00:44 +0100 (CET)
Received: by mail-yw1-f228.google.com with SMTP id
 00721157ae682-607c5679842so17770087b3.2
 for <test-report@dpdk.org>; Thu, 29 Feb 2024 19:00:44 -0800 (PST)
DKIM-Signature: v=1; a=rsa-sha256; c=relaxed/relaxed;
 d=iol.unh.edu; s=unh-iol; t=1709262044; x=1709866844; darn=dpdk.org;
 h=references:in-reply-to:cc:to:from:subject:message-id:date:from:to
 :cc:subject:date:message-id:reply-to;
 bh=6znKjBiujMFDGrWSPFcYmZLdUqSCjhnoykBrWch5niI=;
 b=IQxvpQ3PYHYtyf2Nty/mHYCK9BOygaHHIHxSzxK0RUDFfOPNRgdHhIAQWIjONtSDDH
 VQmOwWi16B0WwHmfB7IrHE5FjsINEkGt/5e8An2rEqqNixan5G3cPmICXxLFsUnz8e0i
 2NltSE8FpL2zhAfqfSTDbDRds5fJD6fOlFvGA=
X-Google-DKIM-Signature: v=1; a=rsa-sha256; c=relaxed/relaxed;
 d=1e100.net; s=20230601; t=1709262044; x=1709866844;
 h=references:in-reply-to:cc:to:from:subject:message-id:date
 :x-gm-message-state:from:to:cc:subject:date:message-id:reply-to;
 bh=6znKjBiujMFDGrWSPFcYmZLdUqSCjhnoykBrWch5niI=;
 b=ujpWiftORwGRT5DqudS8Aw1jDIZk5sFYDpOPvLhSWMiQZ6GhqCpHslPbWbSm0C3S87
 cjRcGcERXG81D5dsG8Jd31AXiDYECRRZ/oaZoXfGAFThqgZp9rxENxrR1brG2WYfV16c
 D8vx5f9N+OhWjqn3k3iBDKTQaNObUYqRtafhAyqG9X0wmOzFiRNQ3qYqcF7lGAS3cVw6
 gS4hZ2x8o+KBtrqtzu0o/uQENHA2QbfRAZND1tT631S55DkuJNRi74NkduoYCv6GinYh
 3mfvRxFnHH0MtoGHJE1dXWwVPmYMURnZDvCHLWoqi1FSMhWgkp5DhAcwcvG3sznDYjVA
 rVNw==
X-Gm-Message-State: AOJu0Yx/N0NqkyTAU6KJl1ioF7IDAbOAZZFQT4qXyL5NFmGFXcipLkf3
 nHc1nhyXHx8jEaexvh9rDOiinqqhq2CtN8+qVCG6XACEGgpcUdSa6Nc1wL53ZV3aqxpao4TOxT5
 e50qKSarJKSq/Jhatz53+rdimysX3PXjKJvevOkDd
X-Google-Smtp-Source: AGHT+IHMBZs3eHWX4t8aeswbaBkn4dQcyBpX/XUGP1sdc5MEo9QNp9FG+6Sh/OOeMfwHiCIGfflsJMCXQWkt
X-Received: by 2002:a05:690c:ed4:b0:607:ca2e:f23e with SMTP id
 cs20-20020a05690c0ed400b00607ca2ef23emr559733ywb.30.1709262043835; 
 Thu, 29 Feb 2024 19:00:43 -0800 (PST)
Received: from postal.iol.unh.edu (postal.iol.unh.edu. [132.177.123.84])
 by smtp-relay.gmail.com with ESMTPS id
 q4-20020a819904000000b006096df73b98sm131499ywg.29.2024.02.29.19.00.43
 (version=TLS1_2 cipher=ECDHE-ECDSA-AES128-GCM-SHA256 bits=128/128);
 Thu, 29 Feb 2024 19:00:43 -0800 (PST)
X-Relaying-Domain: iol.unh.edu
Date: Thu, 29 Feb 2024 19:00:43 -0800 (PST)
Message-ID: <65e144db.810a0220.e01bc.8a70SMTPIN_ADDED_MISSING@mx.google.com>
Received: from [172.17.0.8] (unknown [172.18.0.217])
 by postal.iol.unh.edu (Postfix) with ESMTP id 801FA6052511;
 Thu, 29 Feb 2024 22:00:43 -0500 (EST)
Subject: |SUCCESS| pw137514 [PATCH] net/tap: allow more that 4 queues
From: dpdklab@iol.unh.edu
To: Test Report <test-report@dpdk.org>
Cc: dpdk-test-reports@iol.unh.edu
In-Reply-To: <20240229175620.122949-1-stephen@networkplumber.org>
References: <20240229175620.122949-1-stephen@networkplumber.org>
Content-Type: text/plain
X-BeenThere: test-report@dpdk.org
X-Mailman-Version: 2.1.29
Precedence: list
List-Id: automatic DPDK test reports <test-report.dpdk.org>
List-Unsubscribe: <https://mails.dpdk.org/options/test-report>,
 <mailto:test-report-request@dpdk.org?subject=unsubscribe>
List-Archive: <http://mails.dpdk.org/archives/test-report/>
List-Post: <mailto:test-report@dpdk.org>
List-Help: <mailto:test-report-request@dpdk.org?subject=help>
List-Subscribe: <https://mails.dpdk.org/listinfo/test-report>,
 <mailto:test-report-request@dpdk.org?subject=subscribe>
Errors-To: test-report-bounces@dpdk.org

Test-Label: iol-compile-amd64-testing
Test-Status: SUCCESS
http://dpdk.org/patch/137514

_Testing PASS_

Submitter: Stephen Hemminger <stephen@networkplumber.org>
Date: Thursday, February 29 2024 17:56:18 
DPDK git baseline: Repo:dpdk
  Branch: master
  CommitID:f60df26faa3c90fc66d356e16347acd046971441

137514 --> testing pass

Test environment and result as below:

+---------------------+--------------------+----------------------+
|     Environment     | dpdk_meson_compile | dpdk_mingw64_compile |
+=====================+====================+======================+
| FreeBSD 13.2        | PASS               | SKIPPED              |
+---------------------+--------------------+----------------------+
| CentOS Stream 9     | PASS               | SKIPPED              |
+---------------------+--------------------+----------------------+
| Debian 12 (arm)     | PASS               | SKIPPED              |
+---------------------+--------------------+----------------------+
| Debian Bullseye     | PASS               | SKIPPED              |
+---------------------+--------------------+----------------------+
| CentOS Stream 8     | PASS               | SKIPPED              |
+---------------------+--------------------+----------------------+
| Fedora 37           | PASS               | SKIPPED              |
+---------------------+--------------------+----------------------+
| openSUSE Leap 15    | PASS               | SKIPPED              |
+---------------------+--------------------+----------------------+
| Ubuntu 22.04        | PASS               | SKIPPED              |
+---------------------+--------------------+----------------------+
| RHEL8               | PASS               | SKIPPED              |
+---------------------+--------------------+----------------------+
| Alpine              | PASS               | SKIPPED              |
+---------------------+--------------------+----------------------+
| Fedora 38           | PASS               | SKIPPED              |
+---------------------+--------------------+----------------------+
| Ubuntu 20.04        | PASS               | SKIPPED              |
+---------------------+--------------------+----------------------+
| Windows Server 2022 | PASS               | SKIPPED              |
+---------------------+--------------------+----------------------+
| Windows Server 2019 | PASS               | PASS                 |
+---------------------+--------------------+----------------------+


FreeBSD 13.2
	Kernel: 13.2
	Compiler: clang 11.3.0

CentOS Stream 9
	Kernel: 4.18.0-240.10.1.el8_3.x86_64
	Compiler: gcc 11.3.1 20220421

Debian 12 (arm)
	Kernel: Container Host Kernel
	Compiler: gcc 11

Debian Bullseye
	Kernel: 5.4.0-122-generic
	Compiler: gcc 10.2.1-6

CentOS Stream 8
	Kernel: 4.18.0-240.10.1.el8_3.x86_64
	Compiler: gcc 8.4.1 20200928

Fedora 37
	Kernel: Depends on container host system
	Compiler: gcc 12.3.1

openSUSE Leap 15
	Kernel: 4.18.0-240.10.1.el8_3.x86_64
	Compiler: gcc 7.5.0

Ubuntu 22.04
	Kernel: 4.18.0-240.10.1.el8_3.x86_64
	Compiler: gcc 11.3.0

RHEL8
	Kernel: 4.18.0-240.10.1.el8_3.x86_64
	Compiler: gcc 8.3.1 20191121 (Red Hat 8.3.1-5)

Alpine
	Kernel: 5.4.0-73-generic
	Compiler: gcc (Alpine 10.3.1_git20210424) 10.3.1 20210424

Fedora 38
	Kernel: Depends on container host
	Compiler: gcc 13.1.1

Ubuntu 20.04
	Kernel: 5.4.0-153-generic
	Compiler: gcc 9.4.0-1ubuntu1~20.04.1

Windows Server 2022
	Kernel: OS Build 20348.2031
	Compiler: MSVC VS-Preview

Windows Server 2019
	Kernel: 10.0
	Compiler: clang 14.0 and gcc 8.1.0 (MinGW)

To view detailed results, visit:
https://lab.dpdk.org/results/dashboard/patchsets/29346/

UNH-IOL DPDK Community Lab

To manage your email subscriptions, visit: 
https://lab.dpdk.org/results/dashboard/preferences/subscriptions/