From mboxrd@z Thu Jan  1 00:00:00 1970
Return-Path: <test-report-bounces@dpdk.org>
Received: from mails.dpdk.org (mails.dpdk.org [217.70.189.124])
	by inbox.dpdk.org (Postfix) with ESMTP id 419E043BAC
	for <public@inbox.dpdk.org>; Fri,  1 Mar 2024 04:03:52 +0100 (CET)
Received: from mails.dpdk.org (localhost [127.0.0.1])
	by mails.dpdk.org (Postfix) with ESMTP id 3DA6B402CD;
	Fri,  1 Mar 2024 04:03:52 +0100 (CET)
Received: from mail-oo1-f97.google.com (mail-oo1-f97.google.com
 [209.85.161.97]) by mails.dpdk.org (Postfix) with ESMTP id 159034025C
 for <test-report@dpdk.org>; Fri,  1 Mar 2024 04:03:51 +0100 (CET)
Received: by mail-oo1-f97.google.com with SMTP id
 006d021491bc7-5a034c12090so752059eaf.2
 for <test-report@dpdk.org>; Thu, 29 Feb 2024 19:03:51 -0800 (PST)
DKIM-Signature: v=1; a=rsa-sha256; c=relaxed/relaxed;
 d=iol.unh.edu; s=unh-iol; t=1709262230; x=1709867030; darn=dpdk.org;
 h=references:in-reply-to:cc:to:from:subject:message-id:date:from:to
 :cc:subject:date:message-id:reply-to;
 bh=tRa9Qp4xF3R98Q4STlqbUrBhrhszFV1esG1sw1tcQfU=;
 b=aATSrB5lht1b/8pHtutfdozT2w8+bQoa5mslqpdcdDEfEGkNlE6WP4vo6gX+xueIdW
 7ak+XIp5vbmi9OPt/aQjQqEIhvYuqO0G6k6p/8vNdw8qLhyJ1MGG8tqxlf3hTny8Eeni
 2+0e5gFYlGbUvAIK2Ywd2CGENTXbwLpaj4Uu0=
X-Google-DKIM-Signature: v=1; a=rsa-sha256; c=relaxed/relaxed;
 d=1e100.net; s=20230601; t=1709262230; x=1709867030;
 h=references:in-reply-to:cc:to:from:subject:message-id:date
 :x-gm-message-state:from:to:cc:subject:date:message-id:reply-to;
 bh=tRa9Qp4xF3R98Q4STlqbUrBhrhszFV1esG1sw1tcQfU=;
 b=MLXkdXkCSHoSqZX28JiDhZLiDqGH72+2FQ92292sjBmkgSbV6sYOrqSZSmAey4Flxw
 wMxWbwfw8184+G0ebyAvxHQuVk1CZrmMCo+wxE09UOGgoBSyjEG+lCtoxgtKlqVzZcdN
 zBuqJJduEjjdepp10qNh3qYIcrPbCUxsFuvhi4kIpQXOkemtnzpmGOxPij9SgZYo7sRh
 FOs52HJtlxdtIPUJq9f0Gl8whdb3/ZXw7KLnW06VDGSX5OmB1wOVHKim9KbwzJmGfqD0
 Vf3yVYOzzUYSRMckdRYSr4UFJglV8OcDP7VZnqRCt5UgPZBlUHU4ZMBYxTZyDvRQeYZW
 7WhA==
X-Gm-Message-State: AOJu0YxSSS32xpIvA7FX9vhRLRCXRJ0MhO5JlyeNgVjYtsCqTITedS7o
 mgLmOi0H3y9wa1h/BpMo0jmLPUKs5yqaVM8XjCIWE2yADxljpUHKGbrsImQ4Etg0/ATyNTxoZq3
 oZdb5UDQxeGy0bhM0/RFfFBsNSweuNfyD6j2zo5nFnXrYfaGwq5iWIaZw
X-Google-Smtp-Source: AGHT+IHp0XfxCOsAOzbasWJN1vz6pYRK1UJzh9E6HwQEMaVttcCsKxAhxZ4RCIFNVezRLuml6iqGqUn6Cize
X-Received: by 2002:a4a:3453:0:b0:5a0:ee7f:e405 with SMTP id
 n19-20020a4a3453000000b005a0ee7fe405mr335335oof.2.1709262230358; 
 Thu, 29 Feb 2024 19:03:50 -0800 (PST)
Received: from postal.iol.unh.edu (postal.iol.unh.edu.
 [2606:4100:3880:1234::84]) by smtp-relay.gmail.com with ESMTPS id
 d5-20020a4aaa85000000b0059a95a71d13sm51831oon.5.2024.02.29.19.03.50
 (version=TLS1_2 cipher=ECDHE-ECDSA-AES128-GCM-SHA256 bits=128/128);
 Thu, 29 Feb 2024 19:03:50 -0800 (PST)
X-Relaying-Domain: iol.unh.edu
Date: Thu, 29 Feb 2024 19:03:50 -0800 (PST)
Message-ID: <65e14596.4a0a0220.f20ee.32a0SMTPIN_ADDED_MISSING@mx.google.com>
Received: from [172.17.0.9] (unknown [172.18.0.217])
 by postal.iol.unh.edu (Postfix) with ESMTP id CEC1E6052511;
 Thu, 29 Feb 2024 22:03:49 -0500 (EST)
Subject: |SUCCESS| pw137522-137524 [PATCH] [v8,3/3] test/cryptodev: add tests
From: dpdklab@iol.unh.edu
To: Test Report <test-report@dpdk.org>
Cc: dpdk-test-reports@iol.unh.edu
In-Reply-To: <20240229194510.2741004-4-ciara.power@intel.com>
References: <20240229194510.2741004-4-ciara.power@intel.com>
Content-Type: text/plain
X-BeenThere: test-report@dpdk.org
X-Mailman-Version: 2.1.29
Precedence: list
List-Id: automatic DPDK test reports <test-report.dpdk.org>
List-Unsubscribe: <https://mails.dpdk.org/options/test-report>,
 <mailto:test-report-request@dpdk.org?subject=unsubscribe>
List-Archive: <http://mails.dpdk.org/archives/test-report/>
List-Post: <mailto:test-report@dpdk.org>
List-Help: <mailto:test-report-request@dpdk.org?subject=help>
List-Subscribe: <https://mails.dpdk.org/listinfo/test-report>,
 <mailto:test-report-request@dpdk.org?subject=subscribe>
Errors-To: test-report-bounces@dpdk.org

Test-Label: iol-unit-amd64-testing
Test-Status: SUCCESS
http://dpdk.org/patch/137524

_Testing PASS_

Submitter: Ciara Power <ciara.power@intel.com>
Date: Thursday, February 29 2024 19:45:09 
DPDK git baseline: Repo:dpdk
  Branch: master
  CommitID:8f27705b70911d12dc0f356a728d73279fbc1e84

137522-137524 --> testing pass

Test environment and result as below:

+------------------+----------------+
|   Environment    | dpdk_unit_test |
+==================+================+
| CentOS Stream 9  | PASS           |
+------------------+----------------+
| CentOS Stream 8  | PASS           |
+------------------+----------------+
| Debian Bullseye  | PASS           |
+------------------+----------------+
| Debian 12 (arm)  | PASS           |
+------------------+----------------+
| Fedora 38        | PASS           |
+------------------+----------------+
| openSUSE Leap 15 | PASS           |
+------------------+----------------+
| Fedora 37        | PASS           |
+------------------+----------------+
| Ubuntu 22.04     | PASS           |
+------------------+----------------+
| Ubuntu 20.04     | PASS           |
+------------------+----------------+
| RHEL8            | PASS           |
+------------------+----------------+


CentOS Stream 9
	Kernel: 4.18.0-240.10.1.el8_3.x86_64
	Compiler: gcc 11.3.1 20220421

CentOS Stream 8
	Kernel: 4.18.0-240.10.1.el8_3.x86_64
	Compiler: gcc 8.4.1 20200928

Debian Bullseye
	Kernel: 5.4.0-122-generic
	Compiler: gcc 10.2.1-6

Debian 12 (arm)
	Kernel: Container Host Kernel
	Compiler: gcc 11

Fedora 38
	Kernel: Depends on container host
	Compiler: gcc 13.1.1

openSUSE Leap 15
	Kernel: 4.18.0-240.10.1.el8_3.x86_64
	Compiler: gcc 7.5.0

Fedora 37
	Kernel: Depends on container host system
	Compiler: gcc 12.3.1

Ubuntu 22.04
	Kernel: 4.18.0-240.10.1.el8_3.x86_64
	Compiler: gcc 11.3.0

Ubuntu 20.04
	Kernel: 5.4.0-153-generic
	Compiler: gcc 9.4.0-1ubuntu1~20.04.1

RHEL8
	Kernel: 4.18.0-240.10.1.el8_3.x86_64
	Compiler: gcc 8.3.1 20191121 (Red Hat 8.3.1-5)

To view detailed results, visit:
https://lab.dpdk.org/results/dashboard/patchsets/29350/

UNH-IOL DPDK Community Lab

To manage your email subscriptions, visit: 
https://lab.dpdk.org/results/dashboard/preferences/subscriptions/