From mboxrd@z Thu Jan  1 00:00:00 1970
Return-Path: <test-report-bounces@dpdk.org>
Received: from mails.dpdk.org (mails.dpdk.org [217.70.189.124])
	by inbox.dpdk.org (Postfix) with ESMTP id A88CF43BAC
	for <public@inbox.dpdk.org>; Fri,  1 Mar 2024 04:04:22 +0100 (CET)
Received: from mails.dpdk.org (localhost [127.0.0.1])
	by mails.dpdk.org (Postfix) with ESMTP id A4F75402CD;
	Fri,  1 Mar 2024 04:04:22 +0100 (CET)
Received: from mail-ua1-f99.google.com (mail-ua1-f99.google.com
 [209.85.222.99]) by mails.dpdk.org (Postfix) with ESMTP id 607C14025C
 for <test-report@dpdk.org>; Fri,  1 Mar 2024 04:04:21 +0100 (CET)
Received: by mail-ua1-f99.google.com with SMTP id
 a1e0cc1a2514c-7d2e19120b5so875848241.2
 for <test-report@dpdk.org>; Thu, 29 Feb 2024 19:04:21 -0800 (PST)
DKIM-Signature: v=1; a=rsa-sha256; c=relaxed/relaxed;
 d=iol.unh.edu; s=unh-iol; t=1709262260; x=1709867060; darn=dpdk.org;
 h=references:in-reply-to:cc:to:from:subject:message-id:date:from:to
 :cc:subject:date:message-id:reply-to;
 bh=tRa9Qp4xF3R98Q4STlqbUrBhrhszFV1esG1sw1tcQfU=;
 b=Jqi7NjbhJpX1BrGZ8N03xrD+2Fca5jGOxEehEaR7tz0mRCvPWT2spAN+cE/Q8Bf8oB
 fuIPCmJJVFZoVaCNZboLwDvqRSlDEbHFeEx68uRjEeR/0M2mUd6I7dXVN0bA9EprXR8f
 MG4ywz+vq4HPEGCUpzg0f2AyMEBVf3M99py44=
X-Google-DKIM-Signature: v=1; a=rsa-sha256; c=relaxed/relaxed;
 d=1e100.net; s=20230601; t=1709262260; x=1709867060;
 h=references:in-reply-to:cc:to:from:subject:message-id:date
 :x-gm-message-state:from:to:cc:subject:date:message-id:reply-to;
 bh=tRa9Qp4xF3R98Q4STlqbUrBhrhszFV1esG1sw1tcQfU=;
 b=p/aWGAsufsiimfgByFGAXBHIYQ15BSBVXaXGR5k2bQfgn7abVdQqgc6p86NhNW7qWC
 r3ANJkxAu9rSSk9wyLfoFt+HOKRcJjD1Ln98dVZSSGQeuPqmqP5NldftW0+UkmNyWKFq
 iqhkJzrC0dQ0y97CBZOBWWD8wcZqJtey5caHR49+1DM/lwE6oWLFkijWrhsSxwMxgIB+
 zqXvaE7AaJ1mffQoubai2PL6Z++e9w3clnmIz0TKRHQafMQTEQFQ7divJoCcADA2vRn7
 JI0Go+pCi0+VST42Fcnb+xBZ3qQRIGSo6eKA1aL4iVOoAFZwH995a+U0wlUm4vDS1cdZ
 LLbw==
X-Gm-Message-State: AOJu0YzKg67XDpLmGgZkILpDJ+BbI17FpRlYmBfGrtJCC5d2gBb/68Bw
 zJJfKKnNd0WL5UuVkA/QfYYb/m2YnkPtWqX6xlnb37CbkOE/7JRJf/+ROqHw8ByI7Rn4Ve59gYC
 mFkwnRcQu3MCV4CnJbUbxUiVCU3b/ao04U6ibnLLi
X-Google-Smtp-Source: AGHT+IFUtB5evJi7N2hiUtJXOrT7RgNbqMq8ST+5ZB4M0XnnN8w1QOxY6e++TJIVrvuiO9JfKDeJcV2U3YWY
X-Received: by 2002:a05:6122:3282:b0:4d3:45a2:ae52 with SMTP id
 cj2-20020a056122328200b004d345a2ae52mr382191vkb.4.1709262260790; 
 Thu, 29 Feb 2024 19:04:20 -0800 (PST)
Received: from postal.iol.unh.edu (postal.iol.unh.edu. [132.177.123.84])
 by smtp-relay.gmail.com with ESMTPS id
 32-20020a0561220a2000b004bd879e609dsm123845vkn.2.2024.02.29.19.04.20
 (version=TLS1_2 cipher=ECDHE-ECDSA-AES128-GCM-SHA256 bits=128/128);
 Thu, 29 Feb 2024 19:04:20 -0800 (PST)
X-Relaying-Domain: iol.unh.edu
Date: Thu, 29 Feb 2024 19:04:20 -0800 (PST)
Message-ID: <65e145b4.050a0220.33a25.7917SMTPIN_ADDED_MISSING@mx.google.com>
Received: from [172.17.0.8] (unknown [172.18.0.217])
 by postal.iol.unh.edu (Postfix) with ESMTP id 7076C6052511;
 Thu, 29 Feb 2024 22:04:20 -0500 (EST)
Subject: |SUCCESS| pw137522-137524 [PATCH] [v8,3/3] test/cryptodev: add tests
From: dpdklab@iol.unh.edu
To: Test Report <test-report@dpdk.org>
Cc: dpdk-test-reports@iol.unh.edu
In-Reply-To: <20240229194510.2741004-4-ciara.power@intel.com>
References: <20240229194510.2741004-4-ciara.power@intel.com>
Content-Type: text/plain
X-BeenThere: test-report@dpdk.org
X-Mailman-Version: 2.1.29
Precedence: list
List-Id: automatic DPDK test reports <test-report.dpdk.org>
List-Unsubscribe: <https://mails.dpdk.org/options/test-report>,
 <mailto:test-report-request@dpdk.org?subject=unsubscribe>
List-Archive: <http://mails.dpdk.org/archives/test-report/>
List-Post: <mailto:test-report@dpdk.org>
List-Help: <mailto:test-report-request@dpdk.org?subject=help>
List-Subscribe: <https://mails.dpdk.org/listinfo/test-report>,
 <mailto:test-report-request@dpdk.org?subject=subscribe>
Errors-To: test-report-bounces@dpdk.org

Test-Label: iol-unit-amd64-testing
Test-Status: SUCCESS
http://dpdk.org/patch/137524

_Testing PASS_

Submitter: Ciara Power <ciara.power@intel.com>
Date: Thursday, February 29 2024 19:45:09 
DPDK git baseline: Repo:dpdk
  Branch: master
  CommitID:8f27705b70911d12dc0f356a728d73279fbc1e84

137522-137524 --> testing pass

Test environment and result as below:

+------------------+----------------+
|   Environment    | dpdk_unit_test |
+==================+================+
| CentOS Stream 9  | PASS           |
+------------------+----------------+
| CentOS Stream 8  | PASS           |
+------------------+----------------+
| Debian Bullseye  | PASS           |
+------------------+----------------+
| Debian 12 (arm)  | PASS           |
+------------------+----------------+
| Fedora 38        | PASS           |
+------------------+----------------+
| openSUSE Leap 15 | PASS           |
+------------------+----------------+
| Fedora 37        | PASS           |
+------------------+----------------+
| Ubuntu 22.04     | PASS           |
+------------------+----------------+
| Ubuntu 20.04     | PASS           |
+------------------+----------------+
| RHEL8            | PASS           |
+------------------+----------------+


CentOS Stream 9
	Kernel: 4.18.0-240.10.1.el8_3.x86_64
	Compiler: gcc 11.3.1 20220421

CentOS Stream 8
	Kernel: 4.18.0-240.10.1.el8_3.x86_64
	Compiler: gcc 8.4.1 20200928

Debian Bullseye
	Kernel: 5.4.0-122-generic
	Compiler: gcc 10.2.1-6

Debian 12 (arm)
	Kernel: Container Host Kernel
	Compiler: gcc 11

Fedora 38
	Kernel: Depends on container host
	Compiler: gcc 13.1.1

openSUSE Leap 15
	Kernel: 4.18.0-240.10.1.el8_3.x86_64
	Compiler: gcc 7.5.0

Fedora 37
	Kernel: Depends on container host system
	Compiler: gcc 12.3.1

Ubuntu 22.04
	Kernel: 4.18.0-240.10.1.el8_3.x86_64
	Compiler: gcc 11.3.0

Ubuntu 20.04
	Kernel: 5.4.0-153-generic
	Compiler: gcc 9.4.0-1ubuntu1~20.04.1

RHEL8
	Kernel: 4.18.0-240.10.1.el8_3.x86_64
	Compiler: gcc 8.3.1 20191121 (Red Hat 8.3.1-5)

To view detailed results, visit:
https://lab.dpdk.org/results/dashboard/patchsets/29350/

UNH-IOL DPDK Community Lab

To manage your email subscriptions, visit: 
https://lab.dpdk.org/results/dashboard/preferences/subscriptions/