From mboxrd@z Thu Jan  1 00:00:00 1970
Return-Path: <test-report-bounces@dpdk.org>
Received: from mails.dpdk.org (mails.dpdk.org [217.70.189.124])
	by inbox.dpdk.org (Postfix) with ESMTP id 27EA443BAC
	for <public@inbox.dpdk.org>; Fri,  1 Mar 2024 04:05:17 +0100 (CET)
Received: from mails.dpdk.org (localhost [127.0.0.1])
	by mails.dpdk.org (Postfix) with ESMTP id 233BB402CD;
	Fri,  1 Mar 2024 04:05:17 +0100 (CET)
Received: from mail-pl1-f225.google.com (mail-pl1-f225.google.com
 [209.85.214.225])
 by mails.dpdk.org (Postfix) with ESMTP id 70A154025C
 for <test-report@dpdk.org>; Fri,  1 Mar 2024 04:05:16 +0100 (CET)
Received: by mail-pl1-f225.google.com with SMTP id
 d9443c01a7336-1d95d67ff45so14070105ad.2
 for <test-report@dpdk.org>; Thu, 29 Feb 2024 19:05:16 -0800 (PST)
DKIM-Signature: v=1; a=rsa-sha256; c=relaxed/relaxed;
 d=iol.unh.edu; s=unh-iol; t=1709262315; x=1709867115; darn=dpdk.org;
 h=references:in-reply-to:cc:to:from:subject:message-id:date:from:to
 :cc:subject:date:message-id:reply-to;
 bh=8eSQjmyjTvNjvVUnoX833mNKZbkTCt3KckqMxwF+YNw=;
 b=UUd0Y3P6w8eHEfiGyJmEDkeXVyDJZV2UuqFR+6pO+p/+heiPvVAts0wecHM1dlEsuT
 UeL+M944GLGeLI2/XST2OkgGlNCa9SenGf0YRuBmeCdl3h24dpzI4Of2jPHScqYxgmMM
 DO4j7hsDZMwLBhPW2FevH2B010k1HG6n9F8WI=
X-Google-DKIM-Signature: v=1; a=rsa-sha256; c=relaxed/relaxed;
 d=1e100.net; s=20230601; t=1709262315; x=1709867115;
 h=references:in-reply-to:cc:to:from:subject:message-id:date
 :x-gm-message-state:from:to:cc:subject:date:message-id:reply-to;
 bh=8eSQjmyjTvNjvVUnoX833mNKZbkTCt3KckqMxwF+YNw=;
 b=IAA9o401hbyiYI/DSU+KwJBINs6kSnlHFFvXXmg0uvu3wMWAsclELZeiZmS5J/Obv3
 AgI5SqEIkkCaCtfDNpvVKKxzCS5FUOER/72MOKNlf9vMPvkY7aNLEIoXIwdOGGImOKoQ
 9ZAnvLR5XZN9Dre6cjDXReXiHoLHlAFb0bj+tRvsvPUPLM3VPojeH/6Hc7UivA5Ju4id
 JNy5fJXS0kdap4tfiHkm48g0+S7RDHoMGUW0Yo1GkCmDvIUvPpNtfXFJQ9Ox+tFIqqPG
 D2G04WZYfRaD6rnGRKf9cSqaqIZy4Nd3qefl/JD3jIYH1G0SGSnKib8Lubp6F8Da8hJI
 qysw==
X-Gm-Message-State: AOJu0Yy0C4Y55/ac22QsEAo8laNlDtxrOasKG5kOLjuic7DWSUYXBtLp
 frPM5+cXSrJia4+6lFmUcXdI2mCXisHHm3xYOJef66xZpjaL95/h+2LXlb6Ak0BpAcAtzRvsXxi
 8hz7zKaIvV0ffohd0C3NFBqnl5Aeu9hEZW4YkiY5q01LLkFPq2XmsQjis
X-Google-Smtp-Source: AGHT+IE4tOl9Knw/74RMW23K2yQGoEeR2od20fSRbtHDNsGVd7X+/c+6TN6LgyHcLP9zSRS+491Ys97QrSVm
X-Received: by 2002:a17:902:e844:b0:1dc:b73b:ec35 with SMTP id
 t4-20020a170902e84400b001dcb73bec35mr531170plg.4.1709262315688; 
 Thu, 29 Feb 2024 19:05:15 -0800 (PST)
Received: from postal.iol.unh.edu (postal.iol.unh.edu.
 [2606:4100:3880:1234::84]) by smtp-relay.gmail.com with ESMTPS id
 j17-20020a170902c3d100b001dc8edd6138sm70462plj.136.2024.02.29.19.05.15
 (version=TLS1_2 cipher=ECDHE-ECDSA-AES128-GCM-SHA256 bits=128/128);
 Thu, 29 Feb 2024 19:05:15 -0800 (PST)
X-Relaying-Domain: iol.unh.edu
Date: Thu, 29 Feb 2024 19:05:15 -0800 (PST)
Message-ID: <65e145eb.170a0220.ce7d.49b5SMTPIN_ADDED_MISSING@mx.google.com>
Received: from [172.17.0.6] (unknown [172.18.0.217])
 by postal.iol.unh.edu (Postfix) with ESMTP id DC13B6052511;
 Thu, 29 Feb 2024 22:05:14 -0500 (EST)
Subject: |SUCCESS| pw137522-137524 [PATCH] [v8,3/3] test/cryptodev: add tests
From: dpdklab@iol.unh.edu
To: Test Report <test-report@dpdk.org>
Cc: dpdk-test-reports@iol.unh.edu
In-Reply-To: <20240229194510.2741004-4-ciara.power@intel.com>
References: <20240229194510.2741004-4-ciara.power@intel.com>
Content-Type: text/plain
X-BeenThere: test-report@dpdk.org
X-Mailman-Version: 2.1.29
Precedence: list
List-Id: automatic DPDK test reports <test-report.dpdk.org>
List-Unsubscribe: <https://mails.dpdk.org/options/test-report>,
 <mailto:test-report-request@dpdk.org?subject=unsubscribe>
List-Archive: <http://mails.dpdk.org/archives/test-report/>
List-Post: <mailto:test-report@dpdk.org>
List-Help: <mailto:test-report-request@dpdk.org?subject=help>
List-Subscribe: <https://mails.dpdk.org/listinfo/test-report>,
 <mailto:test-report-request@dpdk.org?subject=subscribe>
Errors-To: test-report-bounces@dpdk.org

Test-Label: iol-compile-amd64-testing
Test-Status: SUCCESS
http://dpdk.org/patch/137524

_Testing PASS_

Submitter: Ciara Power <ciara.power@intel.com>
Date: Thursday, February 29 2024 19:45:09 
DPDK git baseline: Repo:dpdk
  Branch: master
  CommitID:8f27705b70911d12dc0f356a728d73279fbc1e84

137522-137524 --> testing pass

Test environment and result as below:

+---------------------+--------------------+
|     Environment     | dpdk_meson_compile |
+=====================+====================+
| FreeBSD 13.2        | PASS               |
+---------------------+--------------------+
| Debian Bullseye     | PASS               |
+---------------------+--------------------+
| Debian 12 (arm)     | PASS               |
+---------------------+--------------------+
| CentOS Stream 8     | PASS               |
+---------------------+--------------------+
| CentOS Stream 9     | PASS               |
+---------------------+--------------------+
| Fedora 37           | PASS               |
+---------------------+--------------------+
| openSUSE Leap 15    | PASS               |
+---------------------+--------------------+
| Ubuntu 20.04        | PASS               |
+---------------------+--------------------+
| Fedora 38           | PASS               |
+---------------------+--------------------+
| RHEL8               | PASS               |
+---------------------+--------------------+
| Windows Server 2022 | PASS               |
+---------------------+--------------------+
| Ubuntu 22.04        | PASS               |
+---------------------+--------------------+
| Alpine              | PASS               |
+---------------------+--------------------+


FreeBSD 13.2
	Kernel: 13.2
	Compiler: clang 11.3.0

Debian Bullseye
	Kernel: 5.4.0-122-generic
	Compiler: gcc 10.2.1-6

Debian 12 (arm)
	Kernel: Container Host Kernel
	Compiler: gcc 11

CentOS Stream 8
	Kernel: 4.18.0-240.10.1.el8_3.x86_64
	Compiler: gcc 8.4.1 20200928

CentOS Stream 9
	Kernel: 4.18.0-240.10.1.el8_3.x86_64
	Compiler: gcc 11.3.1 20220421

Fedora 37
	Kernel: Depends on container host system
	Compiler: gcc 12.3.1

openSUSE Leap 15
	Kernel: 4.18.0-240.10.1.el8_3.x86_64
	Compiler: gcc 7.5.0

Ubuntu 20.04
	Kernel: 5.4.0-153-generic
	Compiler: gcc 9.4.0-1ubuntu1~20.04.1

Fedora 38
	Kernel: Depends on container host
	Compiler: gcc 13.1.1

RHEL8
	Kernel: 4.18.0-240.10.1.el8_3.x86_64
	Compiler: gcc 8.3.1 20191121 (Red Hat 8.3.1-5)

Windows Server 2022
	Kernel: OS Build 20348.2031
	Compiler: MSVC VS-Preview

Ubuntu 22.04
	Kernel: 4.18.0-240.10.1.el8_3.x86_64
	Compiler: gcc 11.3.0

Alpine
	Kernel: 5.4.0-73-generic
	Compiler: gcc (Alpine 10.3.1_git20210424) 10.3.1 20210424

To view detailed results, visit:
https://lab.dpdk.org/results/dashboard/patchsets/29350/

UNH-IOL DPDK Community Lab

To manage your email subscriptions, visit: 
https://lab.dpdk.org/results/dashboard/preferences/subscriptions/