From mboxrd@z Thu Jan  1 00:00:00 1970
Return-Path: <test-report-bounces@dpdk.org>
Received: from mails.dpdk.org (mails.dpdk.org [217.70.189.124])
	by inbox.dpdk.org (Postfix) with ESMTP id 39CDA43BAC
	for <public@inbox.dpdk.org>; Fri,  1 Mar 2024 04:05:27 +0100 (CET)
Received: from mails.dpdk.org (localhost [127.0.0.1])
	by mails.dpdk.org (Postfix) with ESMTP id 34ECF402CD;
	Fri,  1 Mar 2024 04:05:27 +0100 (CET)
Received: from mail-yw1-f228.google.com (mail-yw1-f228.google.com
 [209.85.128.228])
 by mails.dpdk.org (Postfix) with ESMTP id 9175E4025C
 for <test-report@dpdk.org>; Fri,  1 Mar 2024 04:05:25 +0100 (CET)
Received: by mail-yw1-f228.google.com with SMTP id
 00721157ae682-608ceccb5f4so11605407b3.3
 for <test-report@dpdk.org>; Thu, 29 Feb 2024 19:05:25 -0800 (PST)
DKIM-Signature: v=1; a=rsa-sha256; c=relaxed/relaxed;
 d=iol.unh.edu; s=unh-iol; t=1709262325; x=1709867125; darn=dpdk.org;
 h=references:in-reply-to:cc:to:from:subject:message-id:date:from:to
 :cc:subject:date:message-id:reply-to;
 bh=VTD3gk0ymRu5Rup57UAxNUlHjdpwdEH1SJHhXqRborY=;
 b=MHp4vlFHrZbcxd7znmoo95749RwauHOEKY8qP7EWv5z/haEp6cVahQrE79zY0f0ntS
 tCjaUP2M9PVFfM8qxI2pO+a+WcW6tvzbMyS91VbvHSEfQMwFVYCNy/1/XY1Vh3Ws7UYF
 SyYO5RGQ0TdDSzSHRze3echPmv/Pluj5Y+oo8=
X-Google-DKIM-Signature: v=1; a=rsa-sha256; c=relaxed/relaxed;
 d=1e100.net; s=20230601; t=1709262325; x=1709867125;
 h=references:in-reply-to:cc:to:from:subject:message-id:date
 :x-gm-message-state:from:to:cc:subject:date:message-id:reply-to;
 bh=VTD3gk0ymRu5Rup57UAxNUlHjdpwdEH1SJHhXqRborY=;
 b=QHgYSzW8ymXODhucEEqWLlOeKEcIxhanrsft0jsI7IgSzTViCiXK3KuwLVGqGs2Rdo
 C0CmOUu05fP0qfkKTn46V4tWoGagIKoZLdeV+cOXtQ/MKDAUVNCiBatzE+iKiovwD98G
 TV1fRsH4FwPKHIDwAWrm2Wv38tNeHlWRQnH3avMcWTc+898+vX1us01Iz+jW6lVF6cmD
 M/ZFrRQb6cGOJM7K96qzoyuugF5zLPmehsPFLo9fNeMyNMEl/ibOgeRimPaKjklK0hY2
 y7OxTOqjHoVC/arDpr5+x20k+CEFoS5peksPqfyq71wwcNeRsXCAJYTFXx+0lqPTTpIN
 pJyg==
X-Gm-Message-State: AOJu0Yxejybu4446e4dV4LvYkC+nyyw+Z2W+fH33k+KzWJAJbokQdB7r
 iKazS9gZFYsnFvV5Y3mHF0kSn+jUBIdnPQ2+Ldoy22DuVnoqse+BJ7gveeGdUc3eRzZZSPR91+7
 clB//WbcXRxWOTinLTXawR0R0s6BQXOjRJqNd7ul1
X-Google-Smtp-Source: AGHT+IGDyHJDcNdwLzfJslDVQ9A2UaLpPxxfbSCuD5rgTFt8bW8xancDE123G42ZJmXQPhVPjqpI+KJ5mMyK
X-Received: by 2002:a0d:cc8b:0:b0:608:bc89:86cb with SMTP id
 o133-20020a0dcc8b000000b00608bc8986cbmr403175ywd.9.1709262325027; 
 Thu, 29 Feb 2024 19:05:25 -0800 (PST)
Received: from postal.iol.unh.edu (postal.iol.unh.edu. [132.177.123.84])
 by smtp-relay.gmail.com with ESMTPS id
 g186-20020a0df6c3000000b0060877e3605fsm140076ywf.25.2024.02.29.19.05.24
 (version=TLS1_2 cipher=ECDHE-ECDSA-AES128-GCM-SHA256 bits=128/128);
 Thu, 29 Feb 2024 19:05:25 -0800 (PST)
X-Relaying-Domain: iol.unh.edu
Date: Thu, 29 Feb 2024 19:05:25 -0800 (PST)
Message-ID: <65e145f5.0d0a0220.df8c7.976aSMTPIN_ADDED_MISSING@mx.google.com>
Received: from [172.17.0.8] (unknown [172.18.0.217])
 by postal.iol.unh.edu (Postfix) with ESMTP id 9F5836052511;
 Thu, 29 Feb 2024 22:05:24 -0500 (EST)
Subject: |SUCCESS| pw137522-137524 [PATCH] [v8,3/3] test/cryptodev: add tests
From: dpdklab@iol.unh.edu
To: Test Report <test-report@dpdk.org>
Cc: dpdk-test-reports@iol.unh.edu
In-Reply-To: <20240229194510.2741004-4-ciara.power@intel.com>
References: <20240229194510.2741004-4-ciara.power@intel.com>
Content-Type: text/plain
X-BeenThere: test-report@dpdk.org
X-Mailman-Version: 2.1.29
Precedence: list
List-Id: automatic DPDK test reports <test-report.dpdk.org>
List-Unsubscribe: <https://mails.dpdk.org/options/test-report>,
 <mailto:test-report-request@dpdk.org?subject=unsubscribe>
List-Archive: <http://mails.dpdk.org/archives/test-report/>
List-Post: <mailto:test-report@dpdk.org>
List-Help: <mailto:test-report-request@dpdk.org?subject=help>
List-Subscribe: <https://mails.dpdk.org/listinfo/test-report>,
 <mailto:test-report-request@dpdk.org?subject=subscribe>
Errors-To: test-report-bounces@dpdk.org

Test-Label: iol-compile-amd64-testing
Test-Status: SUCCESS
http://dpdk.org/patch/137524

_Testing PASS_

Submitter: Ciara Power <ciara.power@intel.com>
Date: Thursday, February 29 2024 19:45:09 
DPDK git baseline: Repo:dpdk
  Branch: master
  CommitID:8f27705b70911d12dc0f356a728d73279fbc1e84

137522-137524 --> testing pass

Test environment and result as below:

+------------------+--------------------+
|   Environment    | dpdk_meson_compile |
+==================+====================+
| Fedora 38        | PASS               |
+------------------+--------------------+
| Debian Bullseye  | PASS               |
+------------------+--------------------+
| FreeBSD 13.2     | PASS               |
+------------------+--------------------+
| Alpine           | PASS               |
+------------------+--------------------+
| CentOS Stream 8  | PASS               |
+------------------+--------------------+
| Fedora 37        | PASS               |
+------------------+--------------------+
| CentOS Stream 9  | PASS               |
+------------------+--------------------+
| openSUSE Leap 15 | PASS               |
+------------------+--------------------+
| Ubuntu 22.04     | PASS               |
+------------------+--------------------+
| Ubuntu 20.04     | PASS               |
+------------------+--------------------+
| Debian 12 (arm)  | PASS               |
+------------------+--------------------+
| RHEL8            | PASS               |
+------------------+--------------------+


Fedora 38
	Kernel: Depends on container host
	Compiler: gcc 13.1.1

Debian Bullseye
	Kernel: 5.4.0-122-generic
	Compiler: gcc 10.2.1-6

FreeBSD 13.2
	Kernel: 13.2
	Compiler: clang 11.3.0

Alpine
	Kernel: 5.4.0-73-generic
	Compiler: gcc (Alpine 10.3.1_git20210424) 10.3.1 20210424

CentOS Stream 8
	Kernel: 4.18.0-240.10.1.el8_3.x86_64
	Compiler: gcc 8.4.1 20200928

Fedora 37
	Kernel: Depends on container host system
	Compiler: gcc 12.3.1

CentOS Stream 9
	Kernel: 4.18.0-240.10.1.el8_3.x86_64
	Compiler: gcc 11.3.1 20220421

openSUSE Leap 15
	Kernel: 4.18.0-240.10.1.el8_3.x86_64
	Compiler: gcc 7.5.0

Ubuntu 22.04
	Kernel: 4.18.0-240.10.1.el8_3.x86_64
	Compiler: gcc 11.3.0

Ubuntu 20.04
	Kernel: 5.4.0-153-generic
	Compiler: gcc 9.4.0-1ubuntu1~20.04.1

Debian 12 (arm)
	Kernel: Container Host Kernel
	Compiler: gcc 11

RHEL8
	Kernel: 4.18.0-240.10.1.el8_3.x86_64
	Compiler: gcc 8.3.1 20191121 (Red Hat 8.3.1-5)

To view detailed results, visit:
https://lab.dpdk.org/results/dashboard/patchsets/29350/

UNH-IOL DPDK Community Lab

To manage your email subscriptions, visit: 
https://lab.dpdk.org/results/dashboard/preferences/subscriptions/