From mboxrd@z Thu Jan  1 00:00:00 1970
Return-Path: <test-report-bounces@dpdk.org>
Received: from mails.dpdk.org (mails.dpdk.org [217.70.189.124])
	by inbox.dpdk.org (Postfix) with ESMTP id A297F43BAC
	for <public@inbox.dpdk.org>; Fri,  1 Mar 2024 04:06:07 +0100 (CET)
Received: from mails.dpdk.org (localhost [127.0.0.1])
	by mails.dpdk.org (Postfix) with ESMTP id 9C752402CD;
	Fri,  1 Mar 2024 04:06:07 +0100 (CET)
Received: from mail-pg1-f225.google.com (mail-pg1-f225.google.com
 [209.85.215.225])
 by mails.dpdk.org (Postfix) with ESMTP id E92ED4025C
 for <test-report@dpdk.org>; Fri,  1 Mar 2024 04:06:05 +0100 (CET)
Received: by mail-pg1-f225.google.com with SMTP id
 41be03b00d2f7-5dc20645871so1130545a12.1
 for <test-report@dpdk.org>; Thu, 29 Feb 2024 19:06:05 -0800 (PST)
DKIM-Signature: v=1; a=rsa-sha256; c=relaxed/relaxed;
 d=iol.unh.edu; s=unh-iol; t=1709262365; x=1709867165; darn=dpdk.org;
 h=references:in-reply-to:cc:to:from:subject:message-id:date:from:to
 :cc:subject:date:message-id:reply-to;
 bh=VTD3gk0ymRu5Rup57UAxNUlHjdpwdEH1SJHhXqRborY=;
 b=eDni55xHj9r++s23ts6UrOZf8GCSVahU74YGMmKHLg9CLSAXXwTTpIZovEJZ2GDhAh
 zulN92g2xbKBknSF0AcLwVG308I0nqnr/InEPLqWW3l11wnpjHE2lI1UH3LlFMYfloX1
 EZyRKxJgDsZ1/U5pl/5ZRMx0N/Qk20p1LfAYY=
X-Google-DKIM-Signature: v=1; a=rsa-sha256; c=relaxed/relaxed;
 d=1e100.net; s=20230601; t=1709262365; x=1709867165;
 h=references:in-reply-to:cc:to:from:subject:message-id:date
 :x-gm-message-state:from:to:cc:subject:date:message-id:reply-to;
 bh=VTD3gk0ymRu5Rup57UAxNUlHjdpwdEH1SJHhXqRborY=;
 b=caIm+ue8ecxEtuHZINm/LqsYfnECtTGRwSbxgrUYJynxNqNi7r1ubtm2yvNYrLSLHy
 Q7b2kYyHCmdo+hwVm9XSTXUfgi/2ZCUoHxHk96R6a3ZGpKb2F9xH72BKIfhGAue0O1s8
 Gq6fjCnr6x+a4lC1mH1Vp9g0Cg+GBe7AuRz1bL5JZbiuRyjlzTjWfg6o4l/HX+SJp0lh
 TuEhABIfJuBD2xYu1B8b/ZqAaLZusY3hOcXpnwKqEp/V74mDbyqQz2tOshqnbem52b0y
 TFhDdNzgl0sO0e1wQ1O0D+Umk5R6wYWoHzIkX+NxImJPhJPU/LB+7XrVTSzyDAEiljBb
 rznQ==
X-Gm-Message-State: AOJu0YytugE20aHMqrfX0AezSqUGQHO/EZWHUb0WRfAZv9LiaPpUuVig
 giOUsA/sDh4qG5JxLgxKOJnOtjtkxqHFX9qxHwiFvAS4MXVGRLSPft3vgIH6bb1v2s03TLHR9is
 rMBA6mfJuF4QkwQ95rvfwKL+hWmPPVE6kVRYprSMy8mWGpG0vX+xQFx8+
X-Google-Smtp-Source: AGHT+IE1lafhEeECK/DyWDrwLS+HVNMLhGBoPPOrDL5KQZP4AWEf6zOll00a1T82fTEu/Pmtc61xvt2He5Ma
X-Received: by 2002:a17:90a:d497:b0:299:1cce:f3c3 with SMTP id
 s23-20020a17090ad49700b002991ccef3c3mr670022pju.7.1709262365163; 
 Thu, 29 Feb 2024 19:06:05 -0800 (PST)
Received: from postal.iol.unh.edu (postal.iol.unh.edu.
 [2606:4100:3880:1234::84]) by smtp-relay.gmail.com with ESMTPS id
 ft5-20020a17090b0f8500b0029943ce7edcsm110137pjb.5.2024.02.29.19.06.05
 (version=TLS1_2 cipher=ECDHE-ECDSA-AES128-GCM-SHA256 bits=128/128);
 Thu, 29 Feb 2024 19:06:05 -0800 (PST)
X-Relaying-Domain: iol.unh.edu
Date: Thu, 29 Feb 2024 19:06:05 -0800 (PST)
Message-ID: <65e1461d.170a0220.2d007.6f57SMTPIN_ADDED_MISSING@mx.google.com>
Received: from [172.17.0.6] (unknown [172.18.0.217])
 by postal.iol.unh.edu (Postfix) with ESMTP id 57A366052511;
 Thu, 29 Feb 2024 22:06:04 -0500 (EST)
Subject: |SUCCESS| pw137522-137524 [PATCH] [v8,3/3] test/cryptodev: add tests
From: dpdklab@iol.unh.edu
To: Test Report <test-report@dpdk.org>
Cc: dpdk-test-reports@iol.unh.edu
In-Reply-To: <20240229194510.2741004-4-ciara.power@intel.com>
References: <20240229194510.2741004-4-ciara.power@intel.com>
Content-Type: text/plain
X-BeenThere: test-report@dpdk.org
X-Mailman-Version: 2.1.29
Precedence: list
List-Id: automatic DPDK test reports <test-report.dpdk.org>
List-Unsubscribe: <https://mails.dpdk.org/options/test-report>,
 <mailto:test-report-request@dpdk.org?subject=unsubscribe>
List-Archive: <http://mails.dpdk.org/archives/test-report/>
List-Post: <mailto:test-report@dpdk.org>
List-Help: <mailto:test-report-request@dpdk.org?subject=help>
List-Subscribe: <https://mails.dpdk.org/listinfo/test-report>,
 <mailto:test-report-request@dpdk.org?subject=subscribe>
Errors-To: test-report-bounces@dpdk.org

Test-Label: iol-compile-amd64-testing
Test-Status: SUCCESS
http://dpdk.org/patch/137524

_Testing PASS_

Submitter: Ciara Power <ciara.power@intel.com>
Date: Thursday, February 29 2024 19:45:09 
DPDK git baseline: Repo:dpdk
  Branch: master
  CommitID:8f27705b70911d12dc0f356a728d73279fbc1e84

137522-137524 --> testing pass

Test environment and result as below:

+------------------+--------------------+
|   Environment    | dpdk_meson_compile |
+==================+====================+
| Fedora 38        | PASS               |
+------------------+--------------------+
| Debian Bullseye  | PASS               |
+------------------+--------------------+
| FreeBSD 13.2     | PASS               |
+------------------+--------------------+
| Alpine           | PASS               |
+------------------+--------------------+
| CentOS Stream 8  | PASS               |
+------------------+--------------------+
| Fedora 37        | PASS               |
+------------------+--------------------+
| CentOS Stream 9  | PASS               |
+------------------+--------------------+
| openSUSE Leap 15 | PASS               |
+------------------+--------------------+
| Ubuntu 22.04     | PASS               |
+------------------+--------------------+
| Ubuntu 20.04     | PASS               |
+------------------+--------------------+
| Debian 12 (arm)  | PASS               |
+------------------+--------------------+
| RHEL8            | PASS               |
+------------------+--------------------+


Fedora 38
	Kernel: Depends on container host
	Compiler: gcc 13.1.1

Debian Bullseye
	Kernel: 5.4.0-122-generic
	Compiler: gcc 10.2.1-6

FreeBSD 13.2
	Kernel: 13.2
	Compiler: clang 11.3.0

Alpine
	Kernel: 5.4.0-73-generic
	Compiler: gcc (Alpine 10.3.1_git20210424) 10.3.1 20210424

CentOS Stream 8
	Kernel: 4.18.0-240.10.1.el8_3.x86_64
	Compiler: gcc 8.4.1 20200928

Fedora 37
	Kernel: Depends on container host system
	Compiler: gcc 12.3.1

CentOS Stream 9
	Kernel: 4.18.0-240.10.1.el8_3.x86_64
	Compiler: gcc 11.3.1 20220421

openSUSE Leap 15
	Kernel: 4.18.0-240.10.1.el8_3.x86_64
	Compiler: gcc 7.5.0

Ubuntu 22.04
	Kernel: 4.18.0-240.10.1.el8_3.x86_64
	Compiler: gcc 11.3.0

Ubuntu 20.04
	Kernel: 5.4.0-153-generic
	Compiler: gcc 9.4.0-1ubuntu1~20.04.1

Debian 12 (arm)
	Kernel: Container Host Kernel
	Compiler: gcc 11

RHEL8
	Kernel: 4.18.0-240.10.1.el8_3.x86_64
	Compiler: gcc 8.3.1 20191121 (Red Hat 8.3.1-5)

To view detailed results, visit:
https://lab.dpdk.org/results/dashboard/patchsets/29350/

UNH-IOL DPDK Community Lab

To manage your email subscriptions, visit: 
https://lab.dpdk.org/results/dashboard/preferences/subscriptions/