From mboxrd@z Thu Jan  1 00:00:00 1970
Return-Path: <test-report-bounces@dpdk.org>
Received: from mails.dpdk.org (mails.dpdk.org [217.70.189.124])
	by inbox.dpdk.org (Postfix) with ESMTP id F3A3643BAC
	for <public@inbox.dpdk.org>; Fri,  1 Mar 2024 04:07:01 +0100 (CET)
Received: from mails.dpdk.org (localhost [127.0.0.1])
	by mails.dpdk.org (Postfix) with ESMTP id F03EF402CD;
	Fri,  1 Mar 2024 04:07:01 +0100 (CET)
Received: from mail-il1-f228.google.com (mail-il1-f228.google.com
 [209.85.166.228])
 by mails.dpdk.org (Postfix) with ESMTP id 9416D4025C
 for <test-report@dpdk.org>; Fri,  1 Mar 2024 04:07:00 +0100 (CET)
Received: by mail-il1-f228.google.com with SMTP id
 e9e14a558f8ab-364f791a428so8759715ab.3
 for <test-report@dpdk.org>; Thu, 29 Feb 2024 19:07:00 -0800 (PST)
DKIM-Signature: v=1; a=rsa-sha256; c=relaxed/relaxed;
 d=iol.unh.edu; s=unh-iol; t=1709262420; x=1709867220; darn=dpdk.org;
 h=references:in-reply-to:cc:to:from:subject:message-id:date:from:to
 :cc:subject:date:message-id:reply-to;
 bh=VTD3gk0ymRu5Rup57UAxNUlHjdpwdEH1SJHhXqRborY=;
 b=OS16BrymkSOuOs4beNUO5v7eztaJeOP/btkSrhFX8toenUHZR8x61s9IlMaRnK3/Wg
 M9A+ez/Sd/DDAXz0Dot6j6/7oOCS6oeDJ7kQqeWuxhgVRKbuc/72Jr84SjTOVtqbrNHQ
 8759kurYaw4KxrHhv+vcWTJvtJtQO14Q5Pr3U=
X-Google-DKIM-Signature: v=1; a=rsa-sha256; c=relaxed/relaxed;
 d=1e100.net; s=20230601; t=1709262420; x=1709867220;
 h=references:in-reply-to:cc:to:from:subject:message-id:date
 :x-gm-message-state:from:to:cc:subject:date:message-id:reply-to;
 bh=VTD3gk0ymRu5Rup57UAxNUlHjdpwdEH1SJHhXqRborY=;
 b=XNkrcps+InfYbrvB9Ph0JkVtohIEUUhL3aO0fqx06xcWD7NGqNNduxDyd9SFzuY8O+
 mQkxQ9qyE7Gh1J7OhCKkZyqove0jPdCEFYVHSWArv78002RFRMXusdasnVdR3kjbzF94
 dcMeuUp5D6ugJjQlcddJ4feajNw24URp18B3soOt1ZRi4/b29Dq3vc8JMJLH2C1oMzbi
 4Z+4wbewkFetIUT+mSvNId+FyKfEIVfAS/sHCVh5dBW1Tx2iXB0CaC/oyNXz5vvv13yI
 nGvY/+dOcmCTdN1OAm+dI3T/BvkPZdoTHl7KiKZ/koEcyI7Ez1apkx+65RQ6wuBhwbyX
 7o/w==
X-Gm-Message-State: AOJu0YzkLDbuXFLphEv0gjWpZNntwyIvSXKJXXFzo3SohjYgMJJ6igCW
 AorujM9h0LJqIegLMYgcEBI0JsCQq430wAw9M0EcvXidw9VjosQ6mSdvzmOrXiyUzselbAava7B
 jsPSzsRJvQAZi1W2EaxfYNKYsnK0q6faeHFAT4DeSJQI2wz4Q0VwVSBtS
X-Google-Smtp-Source: AGHT+IE+7fd/gFQtACFpks5po4o8tYylOxHnkK+LVJluag/afnC9sHzSBg/QBRQ4gCfAt9ZMk4C8zNPRoeNp
X-Received: by 2002:a05:6e02:1567:b0:365:f8d:50c3 with SMTP id
 k7-20020a056e02156700b003650f8d50c3mr663834ilu.21.1709262420001; 
 Thu, 29 Feb 2024 19:07:00 -0800 (PST)
Received: from postal.iol.unh.edu (postal.iol.unh.edu.
 [2606:4100:3880:1234::84]) by smtp-relay.gmail.com with ESMTPS id
 by10-20020a056e02260a00b00363a24654adsm143161ilb.12.2024.02.29.19.06.59
 (version=TLS1_2 cipher=ECDHE-ECDSA-AES128-GCM-SHA256 bits=128/128);
 Thu, 29 Feb 2024 19:06:59 -0800 (PST)
X-Relaying-Domain: iol.unh.edu
Date: Thu, 29 Feb 2024 19:06:59 -0800 (PST)
Message-ID: <65e14653.050a0220.d4dd2.9d6dSMTPIN_ADDED_MISSING@mx.google.com>
Received: from [172.17.0.6] (unknown [172.18.0.217])
 by postal.iol.unh.edu (Postfix) with ESMTP id 849A96052511;
 Thu, 29 Feb 2024 22:06:59 -0500 (EST)
Subject: |SUCCESS| pw137522-137524 [PATCH] [v8,3/3] test/cryptodev: add tests
From: dpdklab@iol.unh.edu
To: Test Report <test-report@dpdk.org>
Cc: dpdk-test-reports@iol.unh.edu
In-Reply-To: <20240229194510.2741004-4-ciara.power@intel.com>
References: <20240229194510.2741004-4-ciara.power@intel.com>
Content-Type: text/plain
X-BeenThere: test-report@dpdk.org
X-Mailman-Version: 2.1.29
Precedence: list
List-Id: automatic DPDK test reports <test-report.dpdk.org>
List-Unsubscribe: <https://mails.dpdk.org/options/test-report>,
 <mailto:test-report-request@dpdk.org?subject=unsubscribe>
List-Archive: <http://mails.dpdk.org/archives/test-report/>
List-Post: <mailto:test-report@dpdk.org>
List-Help: <mailto:test-report-request@dpdk.org?subject=help>
List-Subscribe: <https://mails.dpdk.org/listinfo/test-report>,
 <mailto:test-report-request@dpdk.org?subject=subscribe>
Errors-To: test-report-bounces@dpdk.org

Test-Label: iol-compile-amd64-testing
Test-Status: SUCCESS
http://dpdk.org/patch/137524

_Testing PASS_

Submitter: Ciara Power <ciara.power@intel.com>
Date: Thursday, February 29 2024 19:45:09 
DPDK git baseline: Repo:dpdk
  Branch: master
  CommitID:8f27705b70911d12dc0f356a728d73279fbc1e84

137522-137524 --> testing pass

Test environment and result as below:

+------------------+--------------------+
|   Environment    | dpdk_meson_compile |
+==================+====================+
| Fedora 38        | PASS               |
+------------------+--------------------+
| Debian Bullseye  | PASS               |
+------------------+--------------------+
| FreeBSD 13.2     | PASS               |
+------------------+--------------------+
| Alpine           | PASS               |
+------------------+--------------------+
| CentOS Stream 8  | PASS               |
+------------------+--------------------+
| Fedora 37        | PASS               |
+------------------+--------------------+
| CentOS Stream 9  | PASS               |
+------------------+--------------------+
| openSUSE Leap 15 | PASS               |
+------------------+--------------------+
| Ubuntu 22.04     | PASS               |
+------------------+--------------------+
| Ubuntu 20.04     | PASS               |
+------------------+--------------------+
| Debian 12 (arm)  | PASS               |
+------------------+--------------------+
| RHEL8            | PASS               |
+------------------+--------------------+


Fedora 38
	Kernel: Depends on container host
	Compiler: gcc 13.1.1

Debian Bullseye
	Kernel: 5.4.0-122-generic
	Compiler: gcc 10.2.1-6

FreeBSD 13.2
	Kernel: 13.2
	Compiler: clang 11.3.0

Alpine
	Kernel: 5.4.0-73-generic
	Compiler: gcc (Alpine 10.3.1_git20210424) 10.3.1 20210424

CentOS Stream 8
	Kernel: 4.18.0-240.10.1.el8_3.x86_64
	Compiler: gcc 8.4.1 20200928

Fedora 37
	Kernel: Depends on container host system
	Compiler: gcc 12.3.1

CentOS Stream 9
	Kernel: 4.18.0-240.10.1.el8_3.x86_64
	Compiler: gcc 11.3.1 20220421

openSUSE Leap 15
	Kernel: 4.18.0-240.10.1.el8_3.x86_64
	Compiler: gcc 7.5.0

Ubuntu 22.04
	Kernel: 4.18.0-240.10.1.el8_3.x86_64
	Compiler: gcc 11.3.0

Ubuntu 20.04
	Kernel: 5.4.0-153-generic
	Compiler: gcc 9.4.0-1ubuntu1~20.04.1

Debian 12 (arm)
	Kernel: Container Host Kernel
	Compiler: gcc 11

RHEL8
	Kernel: 4.18.0-240.10.1.el8_3.x86_64
	Compiler: gcc 8.3.1 20191121 (Red Hat 8.3.1-5)

To view detailed results, visit:
https://lab.dpdk.org/results/dashboard/patchsets/29350/

UNH-IOL DPDK Community Lab

To manage your email subscriptions, visit: 
https://lab.dpdk.org/results/dashboard/preferences/subscriptions/