From mboxrd@z Thu Jan  1 00:00:00 1970
Return-Path: <test-report-bounces@dpdk.org>
Received: from mails.dpdk.org (mails.dpdk.org [217.70.189.124])
	by inbox.dpdk.org (Postfix) with ESMTP id 2A10B43BAC
	for <public@inbox.dpdk.org>; Fri,  1 Mar 2024 04:07:31 +0100 (CET)
Received: from mails.dpdk.org (localhost [127.0.0.1])
	by mails.dpdk.org (Postfix) with ESMTP id 25357402CD;
	Fri,  1 Mar 2024 04:07:31 +0100 (CET)
Received: from mail-pl1-f227.google.com (mail-pl1-f227.google.com
 [209.85.214.227])
 by mails.dpdk.org (Postfix) with ESMTP id D4DE54025C
 for <test-report@dpdk.org>; Fri,  1 Mar 2024 04:07:29 +0100 (CET)
Received: by mail-pl1-f227.google.com with SMTP id
 d9443c01a7336-1dca3951ad9so15344045ad.3
 for <test-report@dpdk.org>; Thu, 29 Feb 2024 19:07:29 -0800 (PST)
DKIM-Signature: v=1; a=rsa-sha256; c=relaxed/relaxed;
 d=iol.unh.edu; s=unh-iol; t=1709262449; x=1709867249; darn=dpdk.org;
 h=references:in-reply-to:cc:to:from:subject:message-id:date:from:to
 :cc:subject:date:message-id:reply-to;
 bh=VTD3gk0ymRu5Rup57UAxNUlHjdpwdEH1SJHhXqRborY=;
 b=ecwOFlcCHZlYJcuYqGOzlIPeU2cMYXDa20G75SVwkoPXOxFAJShUhYuw4jMc1dq9Cy
 L46owbZpvvGK2vi5ouswRejLZEiQolnELQ/H66FBtFWYtGXkxlw8eXuqAmEDQAF0M+Uy
 UTnmwfGOfEvP2f2MqI4NY1Ct3zSxCzKfgKDsU=
X-Google-DKIM-Signature: v=1; a=rsa-sha256; c=relaxed/relaxed;
 d=1e100.net; s=20230601; t=1709262449; x=1709867249;
 h=references:in-reply-to:cc:to:from:subject:message-id:date
 :x-gm-message-state:from:to:cc:subject:date:message-id:reply-to;
 bh=VTD3gk0ymRu5Rup57UAxNUlHjdpwdEH1SJHhXqRborY=;
 b=JZOT5lJJBtLNDs2Qc5UWNozF/xsEWrcQsT0cGRFRND0pKG6mgQ9lhuFKEKUlH8+BIH
 E5vY/9r63p7xPSCL91qNeeDwv9ujsp1MZhTtjwJY+wFZIgQ+27WpSndSI8GTggLlhIy2
 XZcRAgxrTtNl8ydeo8mhpDRt7AiCNEyUSDje65SH1az4aEwfoREmfhzeF2meo9teRm//
 w7HCD7wEywjowvcUOxe8+7EQrwp6rH5NudU9xarrs27zVUmWcVemp4NagBiAsEPbEsDP
 ogqGyDiGxujXSlHnMt/p96VEAbBlId1zRznr9+cWdmR9jZdsiOpd7cwWFuPxRhGosGga
 0hTw==
X-Gm-Message-State: AOJu0YwCLXNGo7sNtS30QvqkXdsFTMPtLQLYVeFcQaFRZOYJRrAL09hd
 KAlKlV3R+9KvK+jTWryqtDvLcu0STsULXM+H40jITMm6kCvivpJWwVnkjDAFyUNhPhbAR4QSux5
 Su+ZrC0XwVZjNrZwKCXFJNQ7oYjNLkXWB9W1PbkczUdsf6g4CABginRXa
X-Google-Smtp-Source: AGHT+IH2HkJakmG5OfqI58+pOXOo7BRPCNiODQO4Ka46qtOAqVvV/f2ynSooLNChf/3djlTCh8RE/NM6JWD/
X-Received: by 2002:a17:903:32cc:b0:1dc:a60f:1b6a with SMTP id
 i12-20020a17090332cc00b001dca60f1b6amr531845plr.13.1709262449071; 
 Thu, 29 Feb 2024 19:07:29 -0800 (PST)
Received: from postal.iol.unh.edu (postal.iol.unh.edu.
 [2606:4100:3880:1234::84]) by smtp-relay.gmail.com with ESMTPS id
 kn12-20020a170903078c00b001d9bf4de227sm73096plb.97.2024.02.29.19.07.28
 (version=TLS1_2 cipher=ECDHE-ECDSA-AES128-GCM-SHA256 bits=128/128);
 Thu, 29 Feb 2024 19:07:29 -0800 (PST)
X-Relaying-Domain: iol.unh.edu
Date: Thu, 29 Feb 2024 19:07:29 -0800 (PST)
Message-ID: <65e14671.170a0220.f1939.4dc2SMTPIN_ADDED_MISSING@mx.google.com>
Received: from [172.17.0.6] (unknown [172.18.0.217])
 by postal.iol.unh.edu (Postfix) with ESMTP id 44AD66052511;
 Thu, 29 Feb 2024 22:07:28 -0500 (EST)
Subject: |SUCCESS| pw137522-137524 [PATCH] [v8,3/3] test/cryptodev: add tests
From: dpdklab@iol.unh.edu
To: Test Report <test-report@dpdk.org>
Cc: dpdk-test-reports@iol.unh.edu
In-Reply-To: <20240229194510.2741004-4-ciara.power@intel.com>
References: <20240229194510.2741004-4-ciara.power@intel.com>
Content-Type: text/plain
X-BeenThere: test-report@dpdk.org
X-Mailman-Version: 2.1.29
Precedence: list
List-Id: automatic DPDK test reports <test-report.dpdk.org>
List-Unsubscribe: <https://mails.dpdk.org/options/test-report>,
 <mailto:test-report-request@dpdk.org?subject=unsubscribe>
List-Archive: <http://mails.dpdk.org/archives/test-report/>
List-Post: <mailto:test-report@dpdk.org>
List-Help: <mailto:test-report-request@dpdk.org?subject=help>
List-Subscribe: <https://mails.dpdk.org/listinfo/test-report>,
 <mailto:test-report-request@dpdk.org?subject=subscribe>
Errors-To: test-report-bounces@dpdk.org

Test-Label: iol-compile-amd64-testing
Test-Status: SUCCESS
http://dpdk.org/patch/137524

_Testing PASS_

Submitter: Ciara Power <ciara.power@intel.com>
Date: Thursday, February 29 2024 19:45:09 
DPDK git baseline: Repo:dpdk
  Branch: master
  CommitID:8f27705b70911d12dc0f356a728d73279fbc1e84

137522-137524 --> testing pass

Test environment and result as below:

+------------------+--------------------+
|   Environment    | dpdk_meson_compile |
+==================+====================+
| Fedora 38        | PASS               |
+------------------+--------------------+
| Debian Bullseye  | PASS               |
+------------------+--------------------+
| FreeBSD 13.2     | PASS               |
+------------------+--------------------+
| Alpine           | PASS               |
+------------------+--------------------+
| CentOS Stream 8  | PASS               |
+------------------+--------------------+
| Fedora 37        | PASS               |
+------------------+--------------------+
| CentOS Stream 9  | PASS               |
+------------------+--------------------+
| openSUSE Leap 15 | PASS               |
+------------------+--------------------+
| Ubuntu 22.04     | PASS               |
+------------------+--------------------+
| Ubuntu 20.04     | PASS               |
+------------------+--------------------+
| Debian 12 (arm)  | PASS               |
+------------------+--------------------+
| RHEL8            | PASS               |
+------------------+--------------------+


Fedora 38
	Kernel: Depends on container host
	Compiler: gcc 13.1.1

Debian Bullseye
	Kernel: 5.4.0-122-generic
	Compiler: gcc 10.2.1-6

FreeBSD 13.2
	Kernel: 13.2
	Compiler: clang 11.3.0

Alpine
	Kernel: 5.4.0-73-generic
	Compiler: gcc (Alpine 10.3.1_git20210424) 10.3.1 20210424

CentOS Stream 8
	Kernel: 4.18.0-240.10.1.el8_3.x86_64
	Compiler: gcc 8.4.1 20200928

Fedora 37
	Kernel: Depends on container host system
	Compiler: gcc 12.3.1

CentOS Stream 9
	Kernel: 4.18.0-240.10.1.el8_3.x86_64
	Compiler: gcc 11.3.1 20220421

openSUSE Leap 15
	Kernel: 4.18.0-240.10.1.el8_3.x86_64
	Compiler: gcc 7.5.0

Ubuntu 22.04
	Kernel: 4.18.0-240.10.1.el8_3.x86_64
	Compiler: gcc 11.3.0

Ubuntu 20.04
	Kernel: 5.4.0-153-generic
	Compiler: gcc 9.4.0-1ubuntu1~20.04.1

Debian 12 (arm)
	Kernel: Container Host Kernel
	Compiler: gcc 11

RHEL8
	Kernel: 4.18.0-240.10.1.el8_3.x86_64
	Compiler: gcc 8.3.1 20191121 (Red Hat 8.3.1-5)

To view detailed results, visit:
https://lab.dpdk.org/results/dashboard/patchsets/29350/

UNH-IOL DPDK Community Lab

To manage your email subscriptions, visit: 
https://lab.dpdk.org/results/dashboard/preferences/subscriptions/